BEGIN:VCALENDAR
VERSION:2.0
PRODID:-//Uvdal - ECPv6.15.20//NONSGML v1.0//EN
CALSCALE:GREGORIAN
METHOD:PUBLISH
X-WR-CALNAME:Uvdal
X-ORIGINAL-URL:https://uvdal.no
X-WR-CALDESC:Arrangement for Uvdal
REFRESH-INTERVAL;VALUE=DURATION:PT1H
X-Robots-Tag:noindex
X-PUBLISHED-TTL:PT1H
BEGIN:VTIMEZONE
TZID:Europe/Oslo
BEGIN:DAYLIGHT
TZOFFSETFROM:+0100
TZOFFSETTO:+0200
TZNAME:CEST
DTSTART:20240331T010000
END:DAYLIGHT
BEGIN:STANDARD
TZOFFSETFROM:+0200
TZOFFSETTO:+0100
TZNAME:CET
DTSTART:20241027T010000
END:STANDARD
BEGIN:DAYLIGHT
TZOFFSETFROM:+0100
TZOFFSETTO:+0200
TZNAME:CEST
DTSTART:20250330T010000
END:DAYLIGHT
BEGIN:STANDARD
TZOFFSETFROM:+0200
TZOFFSETTO:+0100
TZNAME:CET
DTSTART:20251026T010000
END:STANDARD
BEGIN:DAYLIGHT
TZOFFSETFROM:+0100
TZOFFSETTO:+0200
TZNAME:CEST
DTSTART:20260329T010000
END:DAYLIGHT
BEGIN:STANDARD
TZOFFSETFROM:+0200
TZOFFSETTO:+0100
TZNAME:CET
DTSTART:20261025T010000
END:STANDARD
END:VTIMEZONE
BEGIN:VEVENT
DTSTART;TZID=Europe/Oslo:20250515T183000
DTEND;TZID=Europe/Oslo:20250515T183000
DTSTAMP:20260420T025710
CREATED:20250425T111600Z
LAST-MODIFIED:20250509T081021Z
UID:17584-1747333800-1747333800@uvdal.no
SUMMARY:Kveld med Aftur Nerdrum\, Gunhild Wetterhus & Haldis Kjomme Lid
DESCRIPTION:Rødberg bibliotek torsdag 15.mai\n\nÅpen mikrofon fra kl 1830: Her kan alle som vil dele dikt\, tekster\, musikk og sanger.Aftur Nerdrum leser egne dikt.\n\nBokbad fra kl 19-20 med forfatterinne Gunhild Wetterhus & malerinne Haldis Kjomme Lid som sammen har utgitt diktboka «Livsveiens mysterium». Aftur Nerdrum leder samtalen om boka og menneskene bak.\nInngang200\,- for medlemmer250\,- for ikke-medlemmer\n\nVel møtt!\n\nArrangement av Ingrid Jahren Scudder og Rødberg biblioteks venner
URL:https://uvdal.no/arrangement/kveld-med-aftur-nerdrum-gunhild-wetterhus-haldis-kjomme-lid/
LOCATION:Rødberg bibliotek\, Syljerudvegen 5\, Rødberg\, 3630
ATTACH;FMTTYPE=image/jpeg:https://uvdal.no/wp-content/uploads/2025/04/Rodberg-bibliotek-15-mai.jpg
END:VEVENT
BEGIN:VEVENT
DTSTART;VALUE=DATE:20250517
DTEND;VALUE=DATE:20250518
DTSTAMP:20260420T025710
CREATED:20250508T095943Z
LAST-MODIFIED:20250508T103732Z
UID:17654-1747440000-1747526399@uvdal.no
SUMMARY:17 mai feiring i Nore og Uvdal
DESCRIPTION:PROGRAM 17. MAI 2025   \nKl 08:00      Salutt! \nUvdal skole\, Rødberg og Numedalshallen\, Tunhovd samfunnshus.  \nKl. 10:15              Gratis buss til Rødberg fra Uvdal Herredshus og Nore skole \nKl. 10:45              Oppmøte og oppstilling av barnekoret \nKl. 11:00              Åpning på Bergtun v/ordfører Oddvar Svendsen \nPraktisk info for dagen\, barnekor\, tale og korpsmusikk. Ja\, vi elsker 2 vers \nKl. 11:15              Toget går fra Bergtun til Fritidsparken \nVeteranbilkortesje etter toget\, kjører til Statskraft. \nFlaggborg\, informasjon\, korpsene spiller\, salutt\, Gud signe vårt dyre fedreland 2 vers \n  \nCa. 12:00      Avreise\, bussene går til Norefjord og til Uvdal Herredshus \nArr: Elever og foreldre i 7. klasse Rødberg skole\, FAU Uvdal skole og Nore og Uvdal kommune \n  \n\n\n\n                        Numedalshallen \nKl. 12:00      Dørene åpnes \n  \nKl. 12:30      Innmarsj flaggborg og underholdning \n  \nKl. 13:00      Lekene starter.\nSalg av suppe\, kiosk og loddsalg \n  \nKl. 14:00       Dagens tale v/ Inger Lassegård \n  \nKl. 15:00       Loddtrekning og premieutdeling \n  \nKl. 15:30       Vel hjem \nKl. 15:35       Bussene går \nArr: elever og foreldre i 7. klasse Rødberg skole\n                                        Uvdal skole \nKl. 12:00      Kiosk og suppesalg starter \n  \nKl. 12:30     Oppstilling Uvdal skole. Vi synger første vers av \n«Ja\, vi elsker» \n  \nKl. 12:40      Utdeling av boller og juice til barna\nLeker for store og små \nKl. 13:00     Tale for dagen v/ Håkon Rød- Knudsen \n  \nKl. 15:00      Premieutdeling\, trekning og avslutning. \n  \n  \n  \nArr: FAU Uvdal skole\n\n\n\nVi ønsker alle hjertelig velkommen til en hyggelig 17. maifeiring! \n  \nMer info: \n\nInngang Numedalshallen kr. 100\,- for voksne. Barn 0 – 16 år gratis.\nKaffe og kaker\nGratis is til barna ved ankomst\nKiosk- og suppesalg\nLoddsalg\nLeiker på idrettsbanen\nSkyting og hesteskokasting\nVi tar vipps og kontanter\n\nBUSSER: \n\n10:15 Til Rødberg fra Nore skole og Uvdal Herredshus\n12:00 Fra Rødberg til Numedalshallen og Uvdal skole\n15:35 Fra Numedalshallen til Rødberg\n\nAlle som ønsker det\, kan sitte på med bussene! \nTunhovd: \nToget starter kl. 13:15 fra Tunhovd samfunnshus \nGudstjeneste i Tunhovd kirke kl. 14:00 \nSamling på samfunnshuset etter gudstjenesten\, leker\, matsalg og tale \n \n  \nØnsker alle en fin 17 mai feiring . \n  \n  \nFoto forsiden: Nore og Uvdal kommune \n  \n  \n  \n 
URL:https://uvdal.no/arrangement/17654/
LOCATION:Nore og Uvdal
ATTACH;FMTTYPE=image/jpeg:https://uvdal.no/wp-content/uploads/2025/05/17-mai-tog-Nore-og-Uvdal.jpg
END:VEVENT
BEGIN:VEVENT
DTSTART;TZID=Europe/Oslo:20250531T100000
DTEND;TZID=Europe/Oslo:20250601T170000
DTSTAMP:20260420T025710
CREATED:20250321T134223Z
LAST-MODIFIED:20250321T134223Z
UID:17390-1748685600-1748797200@uvdal.no
SUMMARY:Kurs i dyrking og selvforsyning
DESCRIPTION:Velkommen til kurs i dyrking og selvberging på Sevletunet i Numedal 31 mai – 1.juni.\n\nI løpet av kurset vil dere lære om blant annet dette:– Matauk– Sanking i naturen– Konservering– Gjenbruk– Effektiv bruk av energi og vann i hverdagen– Minimering av bruk av unødvendige kjemikalier og miljøgifter– Ombruk\, flerbruk\, sambruk– Beredskapslager– Samarbeid og langsiktig tenkning– Lag din egen jord og gjødsel– Lag egne giftfrie rengjøringsmidler\, myggolje og skadedyrmiddel– Kjærringråd og gammel kunnskap– Smarte tips og nyttige triks til enklere gjennomføring\n\nEnkel bevertning.\n\nTa med:– Skrivesaker\nKapasitet / overnattingsplasser: 20 personer i tosengsrom / dobbeltrom på gården.\nMed forbehold om små endringer i opplegg og klokkesletter.\n\n– Sett av datoen. Mer informasjon om booking\, tidspunkter\, pris og kursholdere kommer –
URL:https://uvdal.no/arrangement/kurs-i-dyrking-og-selvforsyning/
LOCATION:Sevletunet Gjestegård
ATTACH;FMTTYPE=image/jpeg:https://uvdal.no/wp-content/uploads/2025/03/Kurs-Sevletunet-om-sanking.jpg
END:VEVENT
END:VCALENDAR