BEGIN:VCALENDAR
VERSION:2.0
PRODID:-//Uvdal - ECPv6.15.20//NONSGML v1.0//EN
CALSCALE:GREGORIAN
METHOD:PUBLISH
X-WR-CALNAME:Uvdal
X-ORIGINAL-URL:https://uvdal.no
X-WR-CALDESC:Arrangement for Uvdal
REFRESH-INTERVAL;VALUE=DURATION:PT1H
X-Robots-Tag:noindex
X-PUBLISHED-TTL:PT1H
BEGIN:VTIMEZONE
TZID:Europe/Oslo
BEGIN:DAYLIGHT
TZOFFSETFROM:+0100
TZOFFSETTO:+0200
TZNAME:CEST
DTSTART:20240331T010000
END:DAYLIGHT
BEGIN:STANDARD
TZOFFSETFROM:+0200
TZOFFSETTO:+0100
TZNAME:CET
DTSTART:20241027T010000
END:STANDARD
BEGIN:DAYLIGHT
TZOFFSETFROM:+0100
TZOFFSETTO:+0200
TZNAME:CEST
DTSTART:20250330T010000
END:DAYLIGHT
BEGIN:STANDARD
TZOFFSETFROM:+0200
TZOFFSETTO:+0100
TZNAME:CET
DTSTART:20251026T010000
END:STANDARD
BEGIN:DAYLIGHT
TZOFFSETFROM:+0100
TZOFFSETTO:+0200
TZNAME:CEST
DTSTART:20260329T010000
END:DAYLIGHT
BEGIN:STANDARD
TZOFFSETFROM:+0200
TZOFFSETTO:+0100
TZNAME:CET
DTSTART:20261025T010000
END:STANDARD
END:VTIMEZONE
BEGIN:VEVENT
DTSTART;VALUE=DATE:20250131
DTEND;VALUE=DATE:20250203
DTSTAMP:20260420T082403
CREATED:20241122T094123Z
LAST-MODIFIED:20241122T094155Z
UID:16805-1738281600-1738540799@uvdal.no
SUMMARY:Voksencamp - en gledens helg for voksne snowboardere
DESCRIPTION:Rune Lundsør inviterer til voksencamp i Uvdal Skisenter 31.jan – 02.feb. 2025.\n\nCampen er åpen for alle voksne som elsker å stå på snowboard og å møte likesinnede.\nDet blir et stort fokus på det sosiale både i bakken og på kveldstid.\nUvdal Skisenter er en perle på alle områder som vi elsker\, vi ønsker å ta dere med på cruising i bakken og i parken med flinke trenere. Det blir både carvingkurs og handplantkurs.\nOm det er mye snø\, satser vi også på guidet pudderturer i Uvdals råeste terreng. Nytt av året er splitboardtur for dere som har med splitboard. Det blir strøken park og liten halfpipe.Er du nybegynner\, får du 2 timers nybegynnerkurs på lørdag og søndag.\nVi bor i leiligheter i servicebygget i bunn av bakken. Der finner du også Epic Boardshop\, cafeen og Snowboardmuseet/puben. Alle bor i 2mans rom i leilighetene som holder god standard. Skriv hvem du vil dele rom med og hvem som er i ditt reisefølge. Reiser du alene\, blir du lagt på rom med en likesinnet.\nFredag (31.jan) er ankomstdag. Da kommer dere først og registrerer dere i Epic Boardshop som ligger i 1.etg på servicebygget. Så møtes vi i Snowboardmuseet (en etg opp) fra kl 20.00. Her kan man kjøpe ei pølse og en god kald en om du ønsker det.\nVelkomsttale og informasjon når alle har kommet.\nOm du vil komme tidlig fredag eller ha overnatting fra torsdag for å shredde fredagen\, så skriv det i påmeldingen.\n\nLørdag deler vi inn i grupper etter nivå og ønsker før vi stikker i bakken. Du kan fritt bytte gruppe gjennom dagen etter hva du ønsker å kjøre. Etter bakken lager vi en liten afterski\, etterfulgt av tacomiddags buffe’ og hygge i snowboardmuseet på kvelden.Vi avslutter campen søndag etter bakken.\nCampen koster kr 3.300\,- og inneholder:– 2 netter i leilighet med sluttvask– 2 dagers heiskort– Middag lørdag– Guidet turer og instruksjon– Fritt lån av snowboardutstyr om behov.– 20% rabatt i Epic Boardshop\nPåmelding:Send følgende informasjon til epicvoksencamp@gmail.com\nCamp: Uvdal 31.jan – 02.feb. 2025.Navn:Alder:Tlf:Ønsker å dele rom med :Ønsker å dele leilighet med:Spesielle ønsker:Ca nivå på kjøringen min\, ranger 1-5:– ( Nivå 1 er å lære å svinge. Nivå 5 er 720 på hopp og sende store klipper )\n\nNB: Du får autosvar ved påmelding om depositum og at ditt navn er registret. Først når depositum er betalt\, er plassen din. Depositum refunderes ikke ved avmelding.
URL:https://uvdal.no/arrangement/voksencamp-en-gledens-helg-for-voksne-snowboardere/
LOCATION:Uvdal Skisenter\, Uvdal\, 3632\, Norge
ATTACH;FMTTYPE=image/jpeg:https://uvdal.no/wp-content/uploads/2024/11/Voksencam-Epic-Boardshop.jpg
ORGANIZER;CN="Epic Boardshop og Uvdal Skisenter":MAILTO:epicvoksencamp@gmail.com
END:VEVENT
BEGIN:VEVENT
DTSTART;VALUE=DATE:20250207
DTEND;VALUE=DATE:20250210
DTSTAMP:20260420T082403
CREATED:20250130T100145Z
LAST-MODIFIED:20250130T100145Z
UID:17070-1738886400-1739145599@uvdal.no
SUMMARY:Fjellsprell i Uvdal Skisenter
DESCRIPTION:Velkommen til fine forhold og fjellsprell i Uvdal Skisenter! \n  \nVi gjentar succesen med Fjellsprell i lekestua vår. \nSom vanlig satser vi på å få til en barnefri helg med god skikjøring og fest og morro hele helgen gjennom . \nSett av helgen 7 -9 februar. Er spådd dynger med puddersnø denne helgen. I \nInviter de jeg har glemt eller de dere vil ha med!
URL:https://uvdal.no/arrangement/fjellsprell-i-uvdal-skisenter/
LOCATION:Uvdal Skisenter\, Uvdal\, 3632\, Norge
ATTACH;FMTTYPE=image/jpeg:https://uvdal.no/wp-content/uploads/2025/01/Fjellsprell-Uvdal-skisenter.jpg
END:VEVENT
BEGIN:VEVENT
DTSTART;TZID=Europe/Oslo:20250220T190000
DTEND;TZID=Europe/Oslo:20250220T190000
DTSTAMP:20260420T082403
CREATED:20250107T095128Z
LAST-MODIFIED:20250219T150158Z
UID:16915-1740078000-1740078000@uvdal.no
SUMMARY:Hvordan ta vare på vår kulturarv og naturarv i kommunen?
DESCRIPTION:Hvordan kan vi best ta vare på vår kulturarv og naturarv i kommunen?\n— De som lever med og av Hardangervidda er de som vet aller mest om kultur og natur i kommunen og i nasjonalparken.\nEtter avslutningen av forskningsprosjektet PARKAS\, og mange gode samtaler og feltarbeider med innbyggere i Nore og Uvdal\, kommer prosjektleder Véronique Simon Nielsen tilbake til bygda for å fortelle om funnene de har gjort. Forskerne har lyttet til folk og har fordypet seg i samfunnets kjerneverdier som omfatter tillit\, styringssystemer\, engasjement og deltakelse\, natur-kultur samspill\, friluftsliv\, etnisitet og identitet\, interessemotsetninger\, samt teknologisk innovasjon.\nIfølge PARKAS-gruppa\, bør mulige løsninger for fremtiden bygges videre på lokalkunnskap og samarbeid mellom lokalbefolkning\, forskere og forvaltningen for å kunne ta vare på naturen og kultur på best mulig måte!Véronique skal formidle resultater og funn fra PARKAS\, og ønsker å snakke med dere om deres ønsker og behov knyttet til bruk og vern av naturen og kulturarven.\n\nBilletter finner du her\nVelkommen!
URL:https://uvdal.no/arrangement/hvordan-ta-vare-pa-var-kulturarv-og-naturarv-i-kommunen/
LOCATION:Nore og  Uvdal bygdetun
ATTACH;FMTTYPE=image/jpeg:https://uvdal.no/wp-content/uploads/2025/01/471117056_1147779854014453_6229933444930593578_n.jpg
END:VEVENT
END:VCALENDAR