BEGIN:VCALENDAR
VERSION:2.0
PRODID:-//Uvdal - ECPv6.15.20//NONSGML v1.0//EN
CALSCALE:GREGORIAN
METHOD:PUBLISH
X-ORIGINAL-URL:https://uvdal.no
X-WR-CALDESC:Arrangement for Uvdal
REFRESH-INTERVAL;VALUE=DURATION:PT1H
X-Robots-Tag:noindex
X-PUBLISHED-TTL:PT1H
BEGIN:VTIMEZONE
TZID:Europe/Oslo
BEGIN:DAYLIGHT
TZOFFSETFROM:+0100
TZOFFSETTO:+0200
TZNAME:CEST
DTSTART:20230326T010000
END:DAYLIGHT
BEGIN:STANDARD
TZOFFSETFROM:+0200
TZOFFSETTO:+0100
TZNAME:CET
DTSTART:20231029T010000
END:STANDARD
BEGIN:DAYLIGHT
TZOFFSETFROM:+0100
TZOFFSETTO:+0200
TZNAME:CEST
DTSTART:20240331T010000
END:DAYLIGHT
BEGIN:STANDARD
TZOFFSETFROM:+0200
TZOFFSETTO:+0100
TZNAME:CET
DTSTART:20241027T010000
END:STANDARD
BEGIN:DAYLIGHT
TZOFFSETFROM:+0100
TZOFFSETTO:+0200
TZNAME:CEST
DTSTART:20250330T010000
END:DAYLIGHT
BEGIN:STANDARD
TZOFFSETFROM:+0200
TZOFFSETTO:+0100
TZNAME:CET
DTSTART:20251026T010000
END:STANDARD
END:VTIMEZONE
BEGIN:VEVENT
DTSTART;VALUE=DATE:20240802
DTEND;VALUE=DATE:20240804
DTSTAMP:20260424T152210
CREATED:20240618T133900Z
LAST-MODIFIED:20240618T133909Z
UID:16128-1722556800-1722729599@uvdal.no
SUMMARY:Veteranfestival i Øygardsgrend
DESCRIPTION:Det blir veteran festival i Øygardsgrend 2 og 3 August. \nTraktortreff+veteranbiltreff+veteranlastebiltreff= FestivalPizzabuffet og pøb på Fredag \nLørdag starter vi med frokost før det blir en kjøretur med alle klenodiene så litt enkel bevertning før Middag og pøb til kvelds.Lanz Bulldogs spiller på Lørdag(Håper vi ser en eller flere Traktorer av det merket)\, vi håper været er med oss så vi kan nyte sommerværet utendørs. \nTa ei helg i Øygardsgrend\, og god plass for flere former for overnatting.
URL:https://uvdal.no/arrangement/veteranfestival-i-oygardsgrend/
LOCATION:Fjellvang\, Øygardsgrend
ATTACH;FMTTYPE=image/jpeg:https://uvdal.no/wp-content/uploads/2024/06/Treff-i-Oygardsgrend-e1718717921385.jpg
END:VEVENT
BEGIN:VEVENT
DTSTART;VALUE=DATE:20240803
DTEND;VALUE=DATE:20240804
DTSTAMP:20260424T152210
CREATED:20240527T110701Z
LAST-MODIFIED:20240527T111648Z
UID:16060-1722643200-1722729599@uvdal.no
SUMMARY:Guidet fellestur til Tvergastein med omvisning
DESCRIPTION:  \nEksklusiv guidet heldagstur til Tvergastein og omvisning inne på Tvergastein av Lotte Næss\, Arne Næss sin datter og Tine Blom.\n\nDenne turen arrangeres i Nasjonalparkdagene\, to uker fylt med aktiviteter for å ære de to nasjonalparkene i Hol kommune\, nemlig Hardangervidda og Hallingskarvet.\n\nTine Blom skal snakke om økologi\, samfunn og livsstil\, med utgangspunkt i Arne Næss sitt arbeid.\nTines PhD-prosjekt er fra Tvergastein\, delvis inspirert av Arne Næss filosofi. 1 times foredrag\, pluss omvisning i hytta og god tid til spørsmål og svar/ samtale.\n\nStart: 9:45 fra Ustaoset.Møtes utenfor Joker på Ustaoset.\nDet går rutebuss fra Geilo kl 9:15 (dette må du dobbeltsjekke selv\, anbefales www.entur.no eller Brakar.no)\nVi går samlet fra Ustaoset til Tvergastein. Mulig vi kjører samlet til toppen av hyttebyen for å korte turen litt ned. Dette organiserer vi når vi møtes.\nTuren tar ca 3 timer opp fra Ustaoset 1000 moh til Tvergastein 1505 moh.Turen blir guidet av Hilde Karlsen fra Vinternatt\, fastboende på Ustaoset.\nDette er andre gang Tvergastein stiftelsen åpner opp for sådan et arrangement.Endelig kan du få komme inn på Tvergastein\, Arne Næss sin egen hytte i bunnen av Hallingskarvet. Hytten blir i dag eid av stiftelsen men blir stadig brukt privat av Arne Næss sin egen familie\, som dagen de har valgt å åpne opp dørene for oss.\nHusk stor matpakke og vann. Gode fjellsko\, varme klær\, lue\, votter og tøfler. Været oppunder Hallingskarvet kan være lunefullt. Badetøy (det finnes flere flotte badeplasser vi kan besøke på vei ned)\n\nVi ankommer Ustaoset igjen sen ettermiddagen/tidlig kveld.Begrenset antall plasser. Maks 10 personer per dag.\nDato 2 og 3 august.Pris 1250 per pers.\nPåmelding: post@vinternatt.no\nPåmelding er først gjeldende etter betaling. Påmelding er bindende og det er derfor ikke mulig å få refundert beløpet om du skulle være så uheldig å ikke kunne komme.
URL:https://uvdal.no/arrangement/guidet-fellestur-til-tvergastein-med-omvisning/
LOCATION:Oppmøte Joker Ustaoset
ATTACH;FMTTYPE=image/jpeg:https://uvdal.no/wp-content/uploads/2024/05/Ustaoset-med-Vinternatt.jpg
ORGANIZER;CN="Vinternatt":MAILTO:post@vinternatt.no
END:VEVENT
BEGIN:VEVENT
DTSTART;TZID=Europe/Oslo:20240803T100000
DTEND;TZID=Europe/Oslo:20240803T160000
DTSTAMP:20260424T152210
CREATED:20240524T113237Z
LAST-MODIFIED:20240524T113237Z
UID:16043-1722679200-1722700800@uvdal.no
SUMMARY:Åpen gård!
DESCRIPTION:Frognerhagen gård på Nore inviterer til åpen gård i sommer! \n  \n – Besøk dyra våre.  \n\nVær med på stell og foring.\nØksekast\, stylter\, natursti\, hesteskokast\, melkespannholding\, trampoline.\n\nVelkommen!
URL:https://uvdal.no/arrangement/apen-gard/
LOCATION:Frognerhagen gård
ATTACH;FMTTYPE=image/jpeg:https://uvdal.no/wp-content/uploads/2024/05/noomi-og-lam.jpg
ORGANIZER;CN="Frognerhagen g%C3%A5rd":MAILTO:post@frognerhagen.no
END:VEVENT
BEGIN:VEVENT
DTSTART;TZID=Europe/Oslo:20240803T130000
DTEND;TZID=Europe/Oslo:20240803T150000
DTSTAMP:20260424T152210
CREATED:20240524T113535Z
LAST-MODIFIED:20240524T113535Z
UID:16047-1722690000-1722697200@uvdal.no
SUMMARY:SUP tur på Eidstryken!
DESCRIPTION:Bli med oss på tur! \n  \n\nPadling fra gården\, over fjorden og ned et lite stryk.\nVi går dresinsporet tilbake til Frognerhagen.\n\nFor å ha glede av SUP-turene\, bør deltakerne være over 12 år. \nHvis du ikke ønsker å være med på fellesturer\, evt har yngre barn med\, kan vi friste med SUP-tur på Frygnefjorden\, rett nedenfor Frognerhagen Gård. Her kan du leie SUP og padle på egenhånd. Du bestemmer selv hvor lenge. Nødvendig opplæring blir selvsagt gitt\, før du drar ut på brettet. Hvis du ønsker\, og vi har kapasitet\, kan vi bli med. \nVi arrangerer også turer for grupper\, utenom oppsatt program\, på forespørsel. Minimum antall: 6 personer. Ta kontakt på telefon 92200291/ 46854586 eller e-post: post@frognerhagen.no
URL:https://uvdal.no/arrangement/sup-tur-pa-eidstryken/
LOCATION:Frognerhagen gård
ATTACH;FMTTYPE=image/jpeg:https://uvdal.no/wp-content/uploads/2024/05/supkravik-1-scaled.jpg
ORGANIZER;CN="Frognerhagen g%C3%A5rd":MAILTO:post@frognerhagen.no
END:VEVENT
BEGIN:VEVENT
DTSTART;TZID=Europe/Oslo:20240804T110000
DTEND;TZID=Europe/Oslo:20240804T150000
DTSTAMP:20260424T152210
CREATED:20240524T113848Z
LAST-MODIFIED:20240711T090153Z
UID:16050-1722769200-1722783600@uvdal.no
SUMMARY:Middelalder - SUP!
DESCRIPTION:Bli med oss på SUP tur! \n  \n\nPadling fra Veggli til Bygdetunet i Rollag.\nOmvisning i Rollag stavkirke.\nLunsj og omvisning på Rollag Bygdetun.\n\nInfo: \nFor å ha glede av SUP-turene\, bør deltakerne være over 12 år. \nHvis du ikke ønsker å være med på fellesturer\, evt har yngre barn med\, kan vi friste med SUP-tur på Frygnefjorden\, rett nedenfor Frognerhagen Gård. Her kan du leie SUP og padle på egenhånd. Du bestemmer selv hvor lenge. Nødvendig opplæring blir selvsagt gitt\, før du drar ut på brettet. Hvis du ønsker\, og vi har kapasitet\, kan vi bli med. \nVi arrangerer også turer for grupper\, utenom oppsatt program\, på forespørsel. Minimum antall: 6 personer. Ta kontakt på telefon 92200291/ 46854586 eller e-post: post@frognerhagen.no
URL:https://uvdal.no/arrangement/middelader-sup/
LOCATION:Frognerhagen gård
ATTACH;FMTTYPE=image/jpeg:https://uvdal.no/wp-content/uploads/2024/05/sup1-1-rotated.jpg
ORGANIZER;CN="Frognerhagen g%C3%A5rd":MAILTO:post@frognerhagen.no
END:VEVENT
BEGIN:VEVENT
DTSTART;VALUE=DATE:20240805
DTEND;VALUE=DATE:20240810
DTSTAMP:20260424T152210
CREATED:20240502T091233Z
LAST-MODIFIED:20240502T133151Z
UID:15900-1722816000-1723247999@uvdal.no
SUMMARY:Familieleir på Langedrag
DESCRIPTION:Velkommen til Langedrag Naturpark! \nGårdsferie med aktiviteter for hele familien Travel og opplevelsesrik uke for voksne og barn som er på leir sammen. \nAlt fra foreldre\, besteforeldre\, tanter\, onkler er hjertelig velkomne. \nMan får oppleve ulv og gaupe på nært hold\, og nærkontakt med fjellrev\, reinsdyr og elg. Naturnære opplevelser for både små og store. \n– Stell i stall og fjøs og i hundegården\n– Kos med kanin- og villsvinunger\n– Har du melket geiter?\n– Seterdag. Det blir ysting\, takkesteking\, sanking av nyttevekster og plantefarging\n– Riding\, balansekunst på hesteryggen\n– Natursti og klatrepark\n– Fjelltur med mulighet for kanopadling\, kullstiftbrenning og pinnebrødsteking. \nOg mye\, mye mer. \nMandag – Fredag \nPris\nVoksen: kr. 6800\,-\nBarn 9-15 år kr. 5110\,-\nBarn 2-8 år kr. 4760\,- \nVi har familieleir i uke 27\, 28\, 30 og 32
URL:https://uvdal.no/arrangement/familieleir-pa-langedrag-3/
LOCATION:Langedrag Naturpark\, Tunhovd\, 3544
ATTACH;FMTTYPE=image/jpeg:https://uvdal.no/wp-content/uploads/2024/05/417463635_778797947621724_558947621211374928_n-1.jpg
ORGANIZER;CN="Langedrag Naturpark":MAILTO:post@langedrag.no
END:VEVENT
BEGIN:VEVENT
DTSTART;TZID=Europe/Oslo:20240810T190000
DTEND;TZID=Europe/Oslo:20240810T190000
DTSTAMP:20260424T152210
CREATED:20240205T113640Z
LAST-MODIFIED:20240205T113903Z
UID:15267-1723316400-1723316400@uvdal.no
SUMMARY:Utekonsert med Loveshack og DJ Buskenes
DESCRIPTION:Utekonsert på Imingfjell Turistheim!\n\n\nEtter arrangementet Brandefant Triathlon race\, hvor det er lagt opp til aktivitet på Imingfjell turistheim hele dagen\, avsluttes det hele med utekonsert med DJ Reidar Buskenes og et av Norges beste coverband; Loveshack!\n\nHer blir det lagt opp til fest og god stemning utover kvelden.\n\nMerk at konserten har 18 års aldersgrense!\n\nBilletter selges i inngangen til kr 450.- pr pers.\n\nArrangementet er åpent for alle\, og vi ønsker alle Brandefant-deltagere\, hyttefolket\, turisten og hele bygda velkommen.\n\nDet blir salg av øl\, vin og enkel grillmat
URL:https://uvdal.no/arrangement/utekonsert-med-loveshack-og-dj-buskenes/
LOCATION:Imingfjell Turistheim
ATTACH;FMTTYPE=image/jpeg:https://uvdal.no/wp-content/uploads/2024/02/Utekonsert-Imingfjell-10-august.jpg
ORGANIZER;CN="Brandefant triathlon":MAILTO:info@brandefant.no
END:VEVENT
BEGIN:VEVENT
DTSTART;VALUE=DATE:20240816
DTEND;VALUE=DATE:20240819
DTSTAMP:20260424T152210
CREATED:20231027T110701Z
LAST-MODIFIED:20240709T144804Z
UID:14584-1723766400-1724025599@uvdal.no
SUMMARY:Fentetrøkket 2024
DESCRIPTION:Fentun er et nettverk av kvinner som hvert år arrangerer FENTEtrøkket – en skikkelig majestetisk turopplevelse i fjellheimen.\n\nVil du være med på årets friskeste fjellopplevelse?\n\nVelkommen til årets fineste opplevelse i fjellet med damer for damer\, vi er nå tilbake på Torsetlia Fjellstue hvor hele arrangementet vil foregå. Det vil skje mye spennende i løpet av helgen 16. -18. august 2024.\n\nDet blir en hyggelig helg og tur med mye hygge og kos!\n\nALLE jenter er velkommen på FENTEtrøkket\, om du er 1 eller 99 år gammel\, om du kommer fra øst\, vest\, nord eller sør.\n\n\nPåmeldingen har startet og du kan booke deg inn her på FENTUN\n\n Ta gjerne kontakt direkte  med Torsetlia på e-post: post@torsetlia.no eller tlf. 32743681
URL:https://uvdal.no/arrangement/fentetrokket-2024/
LOCATION:Torsetlia Fjellstue
ATTACH;FMTTYPE=image/jpeg:https://uvdal.no/wp-content/uploads/2023/02/Fentetrokket.jpg
ORGANIZER;CN="Fentun":MAILTO:post@fentun.no
END:VEVENT
BEGIN:VEVENT
DTSTART;VALUE=DATE:20240816
DTEND;VALUE=DATE:20240819
DTSTAMP:20260424T152210
CREATED:20240316T123950Z
LAST-MODIFIED:20240610T105510Z
UID:15628-1723766400-1724025599@uvdal.no
SUMMARY:Vasstulan Fjellfestival\, STAUT\, Tove Bøygard\, Dirty Deeds
DESCRIPTION:Vasstulan 1100\, Konserthelg med STAUT 16 – 18 august!  \nKonserthelgen arrangeres på Vasstulan 1100\, 16. – 18. august 2024. «1100 meter over hverdagen» smeller vi til med årets konserthelg. Sett av helgen raskest mulig\, og bestill billetter her. Vi legger også ut 50 bobilplasser med helgebilletter for 2 personer. Disse blir det rift om 🙂 18 års aldersgrense på konsertene. Det serveres mat og drikke til sultne og tørste fjellfolk. \nFredag 16. august kl. 21 starter vi med Dirty Deeds. \nA Tribute to AC/DC «27 years on the highway to hell…» DIRTY DEEDS ble startet i 1997 og i 27 år nå har altså bandet reist land og strand rundt og gitt folk det nærmeste man kommer en AC/DC konsert uten faktisk å være på konsert med originalen. PREPARE TO BE THUNDERSTRUCK!! DIRTY DEEDS består av: Brede Solberg\, vokal Tor Ivar «Angus» Johansen\, gitar Magne Frydenlund\, bass Snorre Simensen\, trommer Bjørnar Bækken\, gitar. \nLørdag 17. august kl. 13 dundrer The Brokeback Mountain Countryband i gang med gratiskonsert. Coverband – Legendariske norske og utenlandske rockelåter fra 80\, 90\, 00 tallet\, så her blir det trykk og allsang allerede fra formiddagen. \nLørdag kl. 18 får vi besøk av Tove Bøygard. \nTove Helene Bøygard er en norsk låtskriver og sanger. Hun har gitt ut ni plater med eget materiale\, deriblant tre plater i duoen Bøygard sammen med sin søster Anita Bøygard. De ble i 2014 spellemannominert for plata Blågras på Skrindo. I 2010 platedebuterte Tove Bøygard som soloartist med albumet Tove Bøygard som lå 3 uker på VG lista og endte med 12. plass som beste plassering. Hennes andre soloplate\, Blåe Drag\, kom i 2017. Den ble et av det årets mest anmeldte plater\, med 25 omtaler der alle som kastet terning gav den fem eller seks. Dette blir bra. \nLørdag kl. 21 kommer helgens hovedartist STAUT. \nSTAUT kjenner nok de fleste til. Staut er et folkrockband fra Bagn i Valdres som ble etablert i 2010. Musikken er en kombinasjon av folkemusikk\, rock og country\, noe som avspeiler at de seks bandmedlemmene har ulik bakgrunn. Med sine låter av høy kvalitet\, sterke og gode tekster\, særdeles dyktige musikere og ikke minst et voldsomt driv og energi på scenen\, har gjengen fra Valdres vokst seg opp til å bli en av de absolutt ledende i sin sjanger. Staut har både gullplater og førsteplass på albumlista å vise til\, samt en flere år lang turnéliste og et antall konserter som få andre band i Norge kan matche. Det har vært store og profilerte TV-opptredener\, en solid rekke radiolistinger\, og ikke minst: kvalitet hele veien. \n  \nBilletter kan kjøpes her \n  \n 
URL:https://uvdal.no/arrangement/vasstulan-fjellfestival-staut-tove-boygard-dirty-deeds/
LOCATION:Vasstulan1100
ATTACH;FMTTYPE=image/jpeg:https://uvdal.no/wp-content/uploads/2022/06/vasstulan1100-konferanser-1.jpeg
END:VEVENT
BEGIN:VEVENT
DTSTART;TZID=Europe/Oslo:20240825T120000
DTEND;TZID=Europe/Oslo:20240825T120000
DTSTAMP:20260424T152210
CREATED:20240822T132257Z
LAST-MODIFIED:20240822T133515Z
UID:16464-1724587200-1724587200@uvdal.no
SUMMARY:Friluftsgudstjeneste ved Fauskodammen kulturpark i Smådøl
DESCRIPTION:Vi stoler på at værgudene er med oss og ønsker velkommen  til friluftsgudstjeneste ved Fauskodammen kulturpark i Smådøl søndag 25.august kl. 12.00 \n  \nBente Fønnebø forteller om kulturminner før og nå\, samt nye prosjekter som pågår etter gudstjenesten. \nMedlemmer av trekkspill klubben deltar. \nVi tenner opp grillen og spanderer pølser til kirkekaffen\nTa med det du ønsker av drikke selv.\nTa med noe å sitte på. \nVi ønsker dere alle velkommen og håper mange har lyst til å ta turen! \n  \nFor mer info se her Menighetene i Nore\, Uvdal og Tunhovd \n 
URL:https://uvdal.no/arrangement/friluftsgudstjeneste-ved-fauskodammen-kulturpark-i-smadol/
LOCATION:Fauskodammen i Smådøl
ATTACH;FMTTYPE=image/jpeg:https://uvdal.no/wp-content/uploads/2024/08/Fauskodammen-1-scaled.jpg
ORGANIZER;CN="Menighetene Nore%2C Uvdal og Tunhovd":MAILTO:kirkekontoret@nore.kirken.no
END:VEVENT
BEGIN:VEVENT
DTSTART;TZID=Europe/Oslo:20240831T103000
DTEND;TZID=Europe/Oslo:20240831T150000
DTSTAMP:20260424T152210
CREATED:20240822T085300Z
LAST-MODIFIED:20240822T102400Z
UID:16459-1725100200-1725116400@uvdal.no
SUMMARY:Kom deg ut dagen!
DESCRIPTION:I  år tar vi kom deg ut dagen på Nore og Uvdal Bygdetun\n\nDenne dagen skjer det også mye andre spennende ting på tunet.\n\nMer info kommer straks\, følg med her på Facebook.\n\nArrangement\, Kom deg ut dagen\nGratis arrangement.
URL:https://uvdal.no/arrangement/kom-deg-ut-dagen/
LOCATION:Nore og  Uvdal bygdetun
ATTACH;FMTTYPE=image/jpeg:https://uvdal.no/wp-content/uploads/2024/08/Barnas-Turlag-Nore-og-Uvdal.jpg
END:VEVENT
END:VCALENDAR