BEGIN:VCALENDAR
VERSION:2.0
PRODID:-//Uvdal - ECPv6.15.20//NONSGML v1.0//EN
CALSCALE:GREGORIAN
METHOD:PUBLISH
X-ORIGINAL-URL:https://uvdal.no
X-WR-CALDESC:Arrangement for Uvdal
REFRESH-INTERVAL;VALUE=DURATION:PT1H
X-Robots-Tag:noindex
X-PUBLISHED-TTL:PT1H
BEGIN:VTIMEZONE
TZID:Europe/Oslo
BEGIN:DAYLIGHT
TZOFFSETFROM:+0100
TZOFFSETTO:+0200
TZNAME:CEST
DTSTART:20230326T010000
END:DAYLIGHT
BEGIN:STANDARD
TZOFFSETFROM:+0200
TZOFFSETTO:+0100
TZNAME:CET
DTSTART:20231029T010000
END:STANDARD
BEGIN:DAYLIGHT
TZOFFSETFROM:+0100
TZOFFSETTO:+0200
TZNAME:CEST
DTSTART:20240331T010000
END:DAYLIGHT
BEGIN:STANDARD
TZOFFSETFROM:+0200
TZOFFSETTO:+0100
TZNAME:CET
DTSTART:20241027T010000
END:STANDARD
BEGIN:DAYLIGHT
TZOFFSETFROM:+0100
TZOFFSETTO:+0200
TZNAME:CEST
DTSTART:20250330T010000
END:DAYLIGHT
BEGIN:STANDARD
TZOFFSETFROM:+0200
TZOFFSETTO:+0100
TZNAME:CET
DTSTART:20251026T010000
END:STANDARD
END:VTIMEZONE
BEGIN:VEVENT
DTSTART;TZID=Europe/Oslo:20240602T180000
DTEND;TZID=Europe/Oslo:20240602T180000
DTSTAMP:20260424T183336
CREATED:20240426T133954Z
LAST-MODIFIED:20240426T135926Z
UID:15877-1717351200-1717351200@uvdal.no
SUMMARY:Velkommen til vårkonsert
DESCRIPTION:
URL:https://uvdal.no/arrangement/velkommen-til-varkonsert/
LOCATION:Skjønne kirke
END:VEVENT
BEGIN:VEVENT
DTSTART;TZID=Europe/Oslo:20240611T190000
DTEND;TZID=Europe/Oslo:20240611T190000
DTSTAMP:20260424T183336
CREATED:20240530T094556Z
LAST-MODIFIED:20240530T095027Z
UID:16075-1718132400-1718132400@uvdal.no
SUMMARY:Fjellstyrets jegerkafè
DESCRIPTION:Fjellstyret arrangerer vår tradisjonsrike jegerkafe tirsdag 11 juni.\n\nVi har vært heldige å få fotograf og skribent Kjell Bitustøyl på besøk. Han vil holde et foredrag om fuglelivet på Hardangervidda. I tillegg vil det bli informasjon fra Villreinutvalget v/Svein Erik Lund samt praktisk informasjon fra Fjellstyret.\n\nLitt om foredraget og fordragsholderen:\nFuglar på Hardangervidda:\nI 2024 er det 50 år sidan den statlege NOU-rapporten om oppretting av ein nasjonalpark på Hardangervidda kom. Og mykje handla om naturmangfaldet på Vidda. Men fuglelivet har i mange år diverre vore nedprioritert med tanke på forsking og merksemd. Det er difor i år god grunn til å lyfte fram fuglelivet i og rundt denne Noregs største nasjonalpark på fastlandet\, Hardangervidda nasjonalpark. Kjell Bitustøyl er fotograf og skribent opphavleg frå Rauland og har i mange år vore oppteken av både dyre- og fuglelivet på Hardangervidda. Hardangervidda er mangfaldig med flatvidda som ligg mellom ca. 1100 og 1250 moh med små tjønnar\, store våtmarker\, tørre og vide flyer og mange store innsjøar og elvedalar i aust og vest og høgfjell i sørvest\, i vest og i nord med Hardangerjøkulen. I dette varierte landskapet finn me eit rikt fugleliv blant anna med sørgrense for ein god del fugleartar. Men også her som så mange andre stadar\, er det merkbart at ein del fugleartar er i tilbakegang. Kartlegging og overvaking av fuglelivet vil vera eitt av fleire tema for det nystarta laget BirdLife Indre Telemark\, men òg for BirdLife Telemark\, fylkeslaget\, som i 2023 tok initiativ til eit samarbeidet på tvers for å lyfte fram fuglelivet i dei tre fylka som utgjer Hardangervidda. I dette prosjektet vil ein samarbeide med tilsvarande lag i dei to andre fylka\, dvs. Buskerud og Vestland\, men òg med BirdLife Norge.Statsforvaltarane med ansvar for verneområda i og rundt Hardangervidda har vist positiv interesse for prosjektet\, og dette lysbildeforedraget har kome i stand på grunn av støtte frå Statsforvaltarane rundt Vidda. 30 000 kr. har Kjell Bitustøyl fått for å lage og reise rundt med dette foredraget\, som vil bli tilpassa til den delen av Hardangervidda han besøkjer\, altså vil det bli ein viss fokus på Austvidda i dette foredraget i Nore-og Uvdal.\n\n\nGratis inngang– servering av kaffe\, brus og noe å bite i.\n\n\n\nVelkommen!
URL:https://uvdal.no/arrangement/fjellstyrets-jegerkafe/
LOCATION:Rødberg hotell\, Rudisvingen 10\, Rødberg\, 3630\, Norge
ATTACH;FMTTYPE=image/jpeg:https://uvdal.no/wp-content/uploads/2024/05/Jegerkafe-2024.jpg
END:VEVENT
BEGIN:VEVENT
DTSTART;TZID=Europe/Oslo:20240615T094500
DTEND;TZID=Europe/Oslo:20240615T094500
DTSTAMP:20260424T183336
CREATED:20240524T090625Z
LAST-MODIFIED:20240524T105913Z
UID:16016-1718444700-1718444700@uvdal.no
SUMMARY:Fiskeutsett på Dagalifjell
DESCRIPTION:Dagalifjellets Vel disponerer 7 fiskevann på Dagalifjellet. Disse vannene overvåker vi tett og setter ut litt fisk i noen av dem.  \nDette er en flott familie aktivitet! \nLørdag 15. juni er det igjen tid for å bære ut fisk til noen av disse vannene. \nVi møtes på Torsetlia Fjellstue lørdag 15. juni kl. 09.45. Det blir servert kaffe og gitt litt informasjon om utsettet før vi fordeler oss og bærer ut settefisken. \nFor å kunne planlegge transport av fisk setter vi stor pris på om at de som ønsker å hjelpe til melder fra om det så snart som mulig til Marius på e-post Marius Nilsen fiske@dagalifjelletsvel.no senest tirsdag 11. juni. Husk å gi beskjed om hvor mange som kan bære fisk. Hver pose med settefisk er ikke tung å bære\, ca. 12-14 kg\, men den tar et relativt stort volum. \nTa derfor med en stor sekk! \nVi trenger også noen til å møte oss ved fiskeoppdrettet ned ved Norefjorden\, noe vi anbefaler barnefamilier å være med på. Stor opplevelse for både små og store! \nVi ser frem til å se flest mulig i fjellet denne lørdagen\, og ta gjerne med barn!
URL:https://uvdal.no/arrangement/fiskeutsett-pa-dagalifjell-2/
LOCATION:Torsetlia/ Dagalifjell
ATTACH;FMTTYPE=image/png:https://uvdal.no/wp-content/uploads/2024/05/FiskeutsettDFV.png
END:VEVENT
BEGIN:VEVENT
DTSTART;TZID=Europe/Oslo:20240622T120000
DTEND;TZID=Europe/Oslo:20240622T160000
DTSTAMP:20260424T183336
CREATED:20240618T084312Z
LAST-MODIFIED:20240618T133139Z
UID:16123-1719057600-1719072000@uvdal.no
SUMMARY:Motorhistoriskdag på bygdetunet
DESCRIPTION:Øvre Numedal Motorhistoriske forening stiller med biler og motorer og vi tror det blir et trivelig treff for store og små. \nAlle som kommer med noe motorhistorisk kommer gratis inn\, registrer deg i kassen. \n  \nVelkommen! \n 
URL:https://uvdal.no/arrangement/motorhistoriskdag-pa-bygdetunet/
LOCATION:Nore og  Uvdal bygdetun
ATTACH;FMTTYPE=image/jpeg:https://uvdal.no/wp-content/uploads/2024/06/bygdetunet-motorhistoriske-2024.jpg
END:VEVENT
BEGIN:VEVENT
DTSTART;VALUE=DATE:20240623
DTEND;VALUE=DATE:20240629
DTSTAMP:20260424T183336
CREATED:20240502T085746Z
LAST-MODIFIED:20240502T090158Z
UID:15887-1719100800-1719619199@uvdal.no
SUMMARY:Hund og friluftsleir Langedrag
DESCRIPTION:På en hund- og friluftslivleir på Langedrag Naturpark får du lære hvordan en hundekjører trener og tar vare på hundene sine. \nMan får hver sin «pass»-hund man skal følge opp hele uka\, man skal på overnatting\, fjelltur\, hundekjøringstur og mye mer. \nMan får: \n– Stell av hunder i hundegården.\n– Hundekjøring barmark\n– Fjelltur og orientering med hund\n– Masse kos med hunder i kennel og løpegård\n– Lære hvordan lese hundens kroppsspråk\n– Kos med kaniner.\n– Melking av geiter.\n– Natursti og klatrepark.\n– Fjelltur med kanopadling\, bading\, kullstift laging og pinnebrødsteking.\n– Overnatting ute med hund \nSøndag – Fredag \nPris: kr. 6550\,- \nVi har dyr og friluftslivleir i uke 26 og 33. \n  \nPåmelding kan du gjøre her
URL:https://uvdal.no/arrangement/hund-og-friluftsleir-langedrag/
LOCATION:Langedrag Naturpark\, Tunhovd\, 3544
ATTACH;FMTTYPE=image/jpeg:https://uvdal.no/wp-content/uploads/2024/05/Hund-og-fritidsleir-sommer.jpg
ORGANIZER;CN="Langedrag Naturpark":MAILTO:post@langedrag.no
END:VEVENT
BEGIN:VEVENT
DTSTART;VALUE=DATE:20240628
DTEND;VALUE=DATE:20240630
DTSTAMP:20260424T183336
CREATED:20240424T140157Z
LAST-MODIFIED:20240627T151114Z
UID:15861-1719532800-1719705599@uvdal.no
SUMMARY:Rødbergdagene 2024
DESCRIPTION:Velkommen til årets Rødbergdager 28 – 29 juni! \nPå Rødbergdagene er det aktiviteter og gode tilbud i sentrum og mange spennende utstillere.Vi sparker i gang med lokalt moteshow fredag\, her blir det foruten lekre sommerklær litt liv og røre. Moteshowet vil som tidligere være på Rødberg hotell\, her vil det serveres god mat og drikke. Det vil serveres gratis frokost til alle lørdag.Hele lørdagene vil det være aktiviteter for små og store\, boder og sentrums butikkene\, vil ha gode tilbud. Det blir selvfølgelig olabilløp\, hoppeslott\, softis hos Risans og mye mer.\n\nSe hele programmet her\n\n\n\n\nProgram 28 juni:Kl. 16 – 18.00 fiskekonkurranse i Rødbergdammen\, påmelding vil være til Sport 1.\nRødberghotell:Kl. 17.00 moteshow med klær fra Lykkebua og D Unike.Lykkebua og D Unike har åpent til kl. 20.00\n\nProgram 29 juni:Kl. 0900 er det gratis frokost på Rødberg hotellKl. 10.00 ordfører åpner RødbergdageneKl. 10 – 17.00 butikker/stands/ aktiviteterKl. 11 – 14.00 generasjonslekerKl. 14.00 olabilløp/ påmelding Rødberg hotellKl. 15.00 kåring av beste standKl. 22.00 Fest med liveband på Risan (18 års grense)\n\nHer finner du en oversikt over alle standene og et kart over sentrum med parkering.\n\n \n 
URL:https://uvdal.no/arrangement/rodbergdagene-2024/
LOCATION:Rødberg sentrum
ATTACH;FMTTYPE=image/jpeg:https://uvdal.no/wp-content/uploads/2024/04/Folkeliv-naeringsliv-olabilllop-og-konsert-23.jpg
END:VEVENT
BEGIN:VEVENT
DTSTART;TZID=Europe/Oslo:20240628T170000
DTEND;TZID=Europe/Oslo:20240628T170000
DTSTAMP:20260424T183336
CREATED:20240611T080709Z
LAST-MODIFIED:20240611T081218Z
UID:16107-1719594000-1719594000@uvdal.no
SUMMARY:Moteshow / Rødbergdagene
DESCRIPTION:Wooho\, Lykkebua & D UNIKE! kjører i gang med moteshow under Rødbergdagene i tradisjonstro! \nDet blir visning av sesongens trender og rabattkuponger til alle som kommer.\n\nBli med da vell!\n\nTid og sted:\nFredag 28.juni kl. 17.00 på Rødberg Hotell.\n\nVi får tilogmed besøk av Nabokjærringan og lokale krefter skal opptre. Så dette blir bra! Gled dere!\n\nLykkebua og D UNIKE! holder butikkene åpne helt til kl. 20.00 denne fredagen.\n____\nPst. Etter moteshowet arrangerer Rødberg Hotell Tapas & Bobler kl. 19.00 Se eget arrangement på Facebook.
URL:https://uvdal.no/arrangement/moteshow-rodbergdagene/
LOCATION:Rødberg hotell\, Rudisvingen 10\, Rødberg\, 3630\, Norge
END:VEVENT
BEGIN:VEVENT
DTSTART;TZID=Europe/Oslo:20240629T140000
DTEND;TZID=Europe/Oslo:20240629T140000
DTSTAMP:20260424T183336
CREATED:20240610T113116Z
LAST-MODIFIED:20240610T124358Z
UID:16102-1719669600-1719669600@uvdal.no
SUMMARY:Olabilløp på Rødbergdagene 2024
DESCRIPTION: 
URL:https://uvdal.no/arrangement/olabillop-pa-rodbergdagene-2024/
LOCATION:Rødberg sentrum
ATTACH;FMTTYPE=image/jpeg:https://uvdal.no/wp-content/uploads/2024/06/Folkeliv-naeringsliv-olabilllop-og-konsert-49.jpg
END:VEVENT
BEGIN:VEVENT
DTSTART;TZID=Europe/Oslo:20240630T110000
DTEND;TZID=Europe/Oslo:20240630T150000
DTSTAMP:20260424T183336
CREATED:20240524T111718Z
LAST-MODIFIED:20240524T111718Z
UID:16024-1719745200-1719759600@uvdal.no
SUMMARY:Middelalder SUP
DESCRIPTION:Middelalder-SUP 30 juni med Frognerhagen gård. \nPadling fra Veggli til Bygdetunet i Rollag. \nOmvisning i Rollag stavkirke. \nLunsj og omvisning på Rollag Bygdetun. \nVelkommen!
URL:https://uvdal.no/arrangement/middelalder-sup/
LOCATION:Frognerhagen gård
ATTACH;FMTTYPE=image/jpeg:https://uvdal.no/wp-content/uploads/2024/05/sup-lagen2.jpg
ORGANIZER;CN="Frognerhagen g%C3%A5rd":MAILTO:post@frognerhagen.no
END:VEVENT
END:VCALENDAR