BEGIN:VCALENDAR
VERSION:2.0
PRODID:-//Uvdal - ECPv6.15.20//NONSGML v1.0//EN
CALSCALE:GREGORIAN
METHOD:PUBLISH
X-WR-CALNAME:Uvdal
X-ORIGINAL-URL:https://uvdal.no
X-WR-CALDESC:Arrangement for Uvdal
REFRESH-INTERVAL;VALUE=DURATION:PT1H
X-Robots-Tag:noindex
X-PUBLISHED-TTL:PT1H
BEGIN:VTIMEZONE
TZID:Europe/Oslo
BEGIN:DAYLIGHT
TZOFFSETFROM:+0100
TZOFFSETTO:+0200
TZNAME:CEST
DTSTART:20230326T010000
END:DAYLIGHT
BEGIN:STANDARD
TZOFFSETFROM:+0200
TZOFFSETTO:+0100
TZNAME:CET
DTSTART:20231029T010000
END:STANDARD
BEGIN:DAYLIGHT
TZOFFSETFROM:+0100
TZOFFSETTO:+0200
TZNAME:CEST
DTSTART:20240331T010000
END:DAYLIGHT
BEGIN:STANDARD
TZOFFSETFROM:+0200
TZOFFSETTO:+0100
TZNAME:CET
DTSTART:20241027T010000
END:STANDARD
BEGIN:DAYLIGHT
TZOFFSETFROM:+0100
TZOFFSETTO:+0200
TZNAME:CEST
DTSTART:20250330T010000
END:DAYLIGHT
BEGIN:STANDARD
TZOFFSETFROM:+0200
TZOFFSETTO:+0100
TZNAME:CET
DTSTART:20251026T010000
END:STANDARD
END:VTIMEZONE
BEGIN:VEVENT
DTSTART;TZID=Europe/Oslo:20240103T173000
DTEND;TZID=Europe/Oslo:20240103T180000
DTSTAMP:20260425T023716
CREATED:20231211T121708Z
LAST-MODIFIED:20231211T124420Z
UID:14871-1704303000-1704304800@uvdal.no
SUMMARY:Omvisning: Harriet Backer i Uvdal stavkirke
DESCRIPTION:Harriet Backer tilbrakte seks somrer i det fargerike\, særpregete og mørke interiøret i Uvdal stavkirke\, bygget i 1168. Siden kirken ikke lengre var i bruk\, kunne hun studere interiøret lenge av gangen.\n\nI brev til venner skrev Backer at hun strevde med maleriene. Hun følte seg ensom og savnet miljøet i Kristiania. Til tross for dette\, var hun fast bestemt på å gjøre seg ferdig i Numedal.\n\nBacker jobbet nøye og omstendelig. I løpet av seks år\, hadde hun bare malt tre verk av interiøret og området rundt kirken. Da «Interiør fra Uvdal stavkirke» omsider ble stilt ut på Høstutstillingen i 1910\, var det til stor begeistring fra kritikere og publikum.\nI denne omvisningen kan du bli bedre kjent med Backers reiser og tid i Numedal. Arrangementet er en del av formidlingsprogrammet til utstillingen «Harriet Backer.\nHvert atom er farge» i Lyshallen\, som står til og med 14. januar.\n\nOmvisningen er gratis med gyldig inngangsbillett til museet. Billetten kan kjøpes her: \n\nLes mer her: nasjonalmuseet.no/hvert-atom-er-farge\n\nVelkommen!\n\n\nBilde: Harriet Backer\, «Interiør fra Uvdal stavkirke» (utsnitt)\, 1909. Foto: Kode / Dag Fosse
URL:https://uvdal.no/arrangement/omvisning-harriet-backer-i-uvdal-stavkirke/
LOCATION:Nasjonlmuseet\, Oslo
ATTACH;FMTTYPE=image/jpeg:https://uvdal.no/wp-content/uploads/2023/12/Nasjonalmuseet-og-Uvdal-stavkirke.jpg
END:VEVENT
BEGIN:VEVENT
DTSTART;TZID=Europe/Oslo:20240106T180000
DTEND;TZID=Europe/Oslo:20240106T180000
DTSTAMP:20260425T023716
CREATED:20231130T101650Z
LAST-MODIFIED:20231130T103307Z
UID:14771-1704564000-1704564000@uvdal.no
SUMMARY:Nyttårskonsert Uvdal kirke
DESCRIPTION:  \nLAAGEN og Breviglyd inviterer til en musikalsk pangstart på året 2024 lørdag 6 januar ! \nAllsidig musikalsk meny båret frem av 30 sangere\, musikere og ensemblets dyktige solister.\nLedet og arrangert av Marit og Lars-Erik Brevig \nBilletsalg i døra fra kl 17:30\n250\,- Barn under 12 gratis
URL:https://uvdal.no/arrangement/nyttarskonsert-uvdal-kirke/
LOCATION:Uvdal kirke
ATTACH;FMTTYPE=image/jpeg:https://uvdal.no/wp-content/uploads/2023/11/Nyttarskonsert-Uvdal-kirke.jpg
END:VEVENT
BEGIN:VEVENT
DTSTART;TZID=Europe/Oslo:20240109T180000
DTEND;TZID=Europe/Oslo:20240109T210000
DTSTAMP:20260425T023716
CREATED:20240104T122134Z
LAST-MODIFIED:20240104T122134Z
UID:15076-1704823200-1704834000@uvdal.no
SUMMARY:En kveld for frivilligheten
DESCRIPTION:
URL:https://uvdal.no/arrangement/en-kveld-for-frivilligheten/
LOCATION:Rødberg hotell\, Rudisvingen 10\, Rødberg\, 3630\, Norge
ORGANIZER;CN="Folkehelseprogrammet i Numedal":MAILTO:sml@noreuvdal.no
END:VEVENT
BEGIN:VEVENT
DTSTART;TZID=Europe/Oslo:20240127T130000
DTEND;TZID=Europe/Oslo:20240127T130000
DTSTAMP:20260425T023716
CREATED:20240125T090519Z
LAST-MODIFIED:20240125T094624Z
UID:15205-1706360400-1706360400@uvdal.no
SUMMARY:Klesbyttedag\, Uvdal Herredshus
DESCRIPTION:Forny garderoben din på en hyggelig og miljøvennlig måte. \nTa med deg inntil fire rene plagg i god stand.\nFor hvert plagg du leverer inn får du utdelt en byttelapp og kan velge deg ut et nytt plagg \nHvor: Uvdal herredshus \nArrangør: Uvdal bygdekvinnelag \nNår: Lørdag 27. Januar kl. 13:00 \nVi serverer kaffe og kake
URL:https://uvdal.no/arrangement/klesbyttedag-uvdal-herredshus/
LOCATION:Uvdal herredshus
END:VEVENT
END:VCALENDAR