BEGIN:VCALENDAR
VERSION:2.0
PRODID:-//Uvdal - ECPv6.15.20//NONSGML v1.0//EN
CALSCALE:GREGORIAN
METHOD:PUBLISH
X-WR-CALNAME:Uvdal
X-ORIGINAL-URL:https://uvdal.no
X-WR-CALDESC:Arrangement for Uvdal
REFRESH-INTERVAL;VALUE=DURATION:PT1H
X-Robots-Tag:noindex
X-PUBLISHED-TTL:PT1H
BEGIN:VTIMEZONE
TZID:Europe/Oslo
BEGIN:DAYLIGHT
TZOFFSETFROM:+0100
TZOFFSETTO:+0200
TZNAME:CEST
DTSTART:20220327T010000
END:DAYLIGHT
BEGIN:STANDARD
TZOFFSETFROM:+0200
TZOFFSETTO:+0100
TZNAME:CET
DTSTART:20221030T010000
END:STANDARD
BEGIN:DAYLIGHT
TZOFFSETFROM:+0100
TZOFFSETTO:+0200
TZNAME:CEST
DTSTART:20230326T010000
END:DAYLIGHT
BEGIN:STANDARD
TZOFFSETFROM:+0200
TZOFFSETTO:+0100
TZNAME:CET
DTSTART:20231029T010000
END:STANDARD
BEGIN:DAYLIGHT
TZOFFSETFROM:+0100
TZOFFSETTO:+0200
TZNAME:CEST
DTSTART:20240331T010000
END:DAYLIGHT
BEGIN:STANDARD
TZOFFSETFROM:+0200
TZOFFSETTO:+0100
TZNAME:CET
DTSTART:20241027T010000
END:STANDARD
END:VTIMEZONE
BEGIN:VEVENT
DTSTART;VALUE=DATE:20231124
DTEND;VALUE=DATE:20231224
DTSTAMP:20260425T043455
CREATED:20231010T074940Z
LAST-MODIFIED:20231010T074956Z
UID:14475-1700784000-1703375999@uvdal.no
SUMMARY:Julebord på Langedrag Naturpark
DESCRIPTION:Hei. \nKontakt oss om dere vil ha en julebord-opplevelse som vil sette spor! \nepost: post@langedrag.no\ntlf: 32 74 25 50
URL:https://uvdal.no/arrangement/julebord-pa-langedrag-naturpark/
LOCATION:Langedrag Naturpark\, Tunhovd\, 3544
ATTACH;FMTTYPE=image/jpeg:https://uvdal.no/wp-content/uploads/2023/10/319640054_6093468310664649_4859382320115394356_n.jpg
ORGANIZER;CN="Langedrag Naturpark":MAILTO:post@langedrag.no
END:VEVENT
BEGIN:VEVENT
DTSTART;VALUE=DATE:20231201
DTEND;VALUE=DATE:20231204
DTSTAMP:20260425T043455
CREATED:20230826T133952Z
LAST-MODIFIED:20231116T113036Z
UID:14322-1701388800-1701647999@uvdal.no
SUMMARY:Førjulshelg  og juleshow på Langedrag
DESCRIPTION:  \nHelgene i uke 47 og 48 har Langedrag Naturpark  førjulshelger\, og da blir det mye moro for både store og små.\n\nUnder juleshowet 2. desember blir det laget pinnebrød og gløgg\, vi fyrer bål på tunet og tenner fakler rundt om\, det blir Nissespill og kanskje kommer selveste julenissen innom også med overraskelser til alle barna.\nFørjulshelg-opphold for overnattingsgjester er kun for Fredag-Søndag. Førjulshelg kan altså ikke bestilles for kun én overnatting.\nHer har du prisene for førjulshelgene i uke 47 og 48:\nVoksen: 3000\,-\nUngdom (9-15år): 2250\,-\nBarn (2-8år): 2050\,-\nPrisene gjelder standardrom
URL:https://uvdal.no/arrangement/forjulshelg-uke-47-pa-langedrag/
LOCATION:Langedrag Naturpark\, Tunhovd\, 3544
ORGANIZER;CN="Langedrag Naturpark":MAILTO:post@langedrag.no
END:VEVENT
BEGIN:VEVENT
DTSTART;TZID=Europe/Oslo:20231201T130000
DTEND;TZID=Europe/Oslo:20231201T180000
DTSTAMP:20260425T043455
CREATED:20231030T102235Z
LAST-MODIFIED:20231030T102357Z
UID:14599-1701435600-1701453600@uvdal.no
SUMMARY:Julemarked i Rødberg sentrum
DESCRIPTION:Velkommen til årets julemarked i Rødberg fredag 1. desember\n\nVi ser frem til både juleverksted\, lokale utstillere\, nissebod og lokalmat.\n\nÅrets beste julestemning finner du i Rødberg!\n\nFølg med for mer informasjon her
URL:https://uvdal.no/arrangement/julemarked-i-rodberg-sentrum/
LOCATION:Rødberg sentrum
END:VEVENT
BEGIN:VEVENT
DTSTART;TZID=Europe/Oslo:20231201T190000
DTEND;TZID=Europe/Oslo:20231201T190000
DTSTAMP:20260425T043455
CREATED:20231110T112910Z
LAST-MODIFIED:20231110T113008Z
UID:14629-1701457200-1701457200@uvdal.no
SUMMARY:Jegerpub\, Rødberg hotell
DESCRIPTION:Jakt skaper minner! \nSett av kvelden 01.12 da Fjellstyret arrangerer jegerpub på Rødberg hotell.\n\nDet legges opp til en kveld med mye humor og gode jakthistorier presentert av Runar Høgfoss.\nHotellet holder puben åpen ut kvelden med servering.\n\nGratis inngang– servering av kaffe og noe å bite i
URL:https://uvdal.no/arrangement/jegerpub-rodberg-hotell/
LOCATION:Rødberg hotell\, Rudisvingen 10\, Rødberg\, 3630\, Norge
END:VEVENT
BEGIN:VEVENT
DTSTART;TZID=Europe/Oslo:20231201T190000
DTEND;TZID=Europe/Oslo:20231201T190000
DTSTAMP:20260425T043455
CREATED:20231121T133701Z
LAST-MODIFIED:20231121T133701Z
UID:14704-1701457200-1701457200@uvdal.no
SUMMARY:Møljedag i Storstua på Camp Uvdal
DESCRIPTION:Velkommen til hyggelig førjulskos! \nTa med deg venner og familie og bli med på vårt første MØLJELAG! \nDet blir Jule-Quiz med premier og nydelig tradisjonsrik førjulsmat.\nMøljebrød i kraft med ribbe\, medisterkake\, julepølse og ribbefett. \nKr 350 inkl. kaffe og kake. Halv pris under 16 år\nDrikke tas med selv. \nPåmelding: Vippsnr 510835 innen 25.11. \nVelkommen!!!
URL:https://uvdal.no/arrangement/moljedag-i-storstua-pa-camp-uvdal/
LOCATION:Camp Uvdal\, Uvdalsvegen 966\, Uvdal\, 3632\, Norge
ATTACH;FMTTYPE=image/jpeg:https://uvdal.no/wp-content/uploads/2023/11/Moljedag-1-desember.jpg
END:VEVENT
BEGIN:VEVENT
DTSTART;TZID=Europe/Oslo:20231202T100000
DTEND;TZID=Europe/Oslo:20231202T180000
DTSTAMP:20260425T043455
CREATED:20231116T114433Z
LAST-MODIFIED:20231116T114433Z
UID:14660-1701511200-1701540000@uvdal.no
SUMMARY:Juleshow 1000 meter over havet!
DESCRIPTION:Langedrag Naturpark inviterer til årets vakreste juleshow! \n \nLangedrag håper på stort besøk for billettinntektene denne dagen går til å finansiere førjulshelg på Langedrag for brukere av Fattighuset Oslo. \nLørdag 2.desember vil det bli julegrøt på låven med nissespill. Hvem er den ekte nissen? Julenissen og fjøsnissen møtes – blir de enige tro?  Etterpå møtes rødnissene og blånissene til årets nisseleker på ridebanen. Det blir et forrykende show med mennesker og dyr. Det blir fjordhest oppvisning med blant annet det spektakulære nummeret «ungarsk post» (rytter står på to hester)\, og nissene vil opptre med sine gode dyrevenner som geit og gris. Vi vil vise det gode samspillet mellom dyr og mennesker\, har du sett «geiteagility» før? \nDenne dagen er det julemarked med ulike salgsboder. Det vil være juleverksted for barna med kubbenisser og ullengler. I tillegg vil det bli foring av ulv\, gaupe\, elg\, mulighet for å være med inn til fjellrev og reinsdyr. \nDet vil være kanefart med hest\, slede og dombjeller! \nAlt dette får du med deg og billett inntektene gir mulighet for at vanskeligstilte kan komme til et gratis opphold på Langedrag 15-17.desember og kjenne gleden ved fellesskap og julestemning. Det kommer ca. 80 personer av både barn\, voksne\, familier og enslige fra Oslo regionen. \nKl. 11-17: Aktiviteter for store og små:  \n\nRunderidning med voltigeøvelser for barn.\nPinnebrød og gløgg på bålplassen\, kjøp i kafé og grill ute.\nNisseverksted\, lag deg en kubbenisse eller en ullengel.\nSnørekjøring\, kjelke etter hest\nHundekjøring\n\nKl. 11.30:   Besøk i gaupegården\nBli med inn til gaupene og lær mer om dette flotte dyret! \nKl. 12.30:   Julegrøt og nissespill på låven \nKl. 13.15:  JULESHOW \nFjordhest-oppvisning\, se nissene opptre med hest og geit. Kanskje kommer julenissen også?  \nKl. 14.00:  Rovdyrforing\nVi kaller på rovdyrene og orienterer om stedets drift. Vi forer ulver og gauper. Du kan bli med inn til fjellrev- omvisningen tar ca. 1 time.   \nKl. 15.15:  Elg og Reinsdyrforing\nBli med ned til elg og reinsdyr. Se vår flotte elgstall og bli med innenfor gjerdet og gi gulrot fra hånda.   \nKl. 15.30:   Besøk i ulvegården\nBli med inn til ulveflokken og lær mer om dette flotte dyret! \nKl. 15.30:   Revecamp\nBli med inn til de sosialiserte fjellrever. Har du fått revemassasje noen gang? \nKl. 16-17:  Kanefart \nFå ekte julestemning med hester\, slede\, fakler\, gløgg og dombjeller. \n  \nParken er åpen kl. 10-18\, kafeen kl. 11.00-17.00 og butikken kl. 10.00-17.00
URL:https://uvdal.no/arrangement/juleshow-1000-meter-over-havet/
LOCATION:Langedrag Naturpark\, Tunhovd\, 3544
ATTACH;FMTTYPE=image/jpeg:https://uvdal.no/wp-content/uploads/2023/11/Juleshow-pa-Langedrag-lordag.jpg
ORGANIZER;CN="Langedrag Naturpark":MAILTO:post@langedrag.no
END:VEVENT
BEGIN:VEVENT
DTSTART;TZID=Europe/Oslo:20231202T110000
DTEND;TZID=Europe/Oslo:20231202T170000
DTSTAMP:20260425T043455
CREATED:20231012T105328Z
LAST-MODIFIED:20231012T105328Z
UID:14520-1701514800-1701536400@uvdal.no
SUMMARY:Påmelding til julemarked\, Nordstjerna Grendehus
DESCRIPTION:Nordstjerna vil i år som i fjor arrangere Julemarked \, lørdag 2 desember fra 12-17 \nVi har plass til 11 stk. så her gjelder det å melde seg på så fort som mulig! \nFrist påmelding er satt til19 november! \nInfo om sette opp bord osv. kommer etter påmelding! \nVi ønsker som sist\, ingen betaling men en gave til Lynlotteriet våres i Nordstjerna. \nVi stiller også opp med kiosk som vanlig!\nPåmelding her på Facebook el til:\nSonja tlf 94868318 el\nJanne tlf 95948664 innen 19 nov!
URL:https://uvdal.no/arrangement/pamelding-til-julemarked-nordstjerna-grendehus/
LOCATION:Nordstjerna\, Uvdal
ATTACH;FMTTYPE=image/jpeg:https://uvdal.no/wp-content/uploads/2023/10/Nordstjerna-Grendehus-vinter.jpg
END:VEVENT
BEGIN:VEVENT
DTSTART;TZID=Europe/Oslo:20231203T150000
DTEND;TZID=Europe/Oslo:20231203T150000
DTSTAMP:20260425T043455
CREATED:20231129T205000Z
LAST-MODIFIED:20231129T211347Z
UID:14766-1701615600-1701615600@uvdal.no
SUMMARY:Julegrantenning & kino
DESCRIPTION:
URL:https://uvdal.no/arrangement/julegrantenning-kino/
LOCATION:Rødberg sentrum
END:VEVENT
BEGIN:VEVENT
DTSTART;TZID=Europe/Oslo:20231209T120000
DTEND;TZID=Europe/Oslo:20231209T160000
DTSTAMP:20260425T043455
CREATED:20231124T112349Z
LAST-MODIFIED:20231124T113652Z
UID:14737-1702123200-1702137600@uvdal.no
SUMMARY:Julebasar og julemarked
DESCRIPTION:Velkommen til julebasar og julemarked med Uvdal bygdekvinnelag 9. desember i Uvdal
URL:https://uvdal.no/arrangement/julebasar-og-julemarked/
LOCATION:Uvdal herredshus
END:VEVENT
BEGIN:VEVENT
DTSTART;TZID=Europe/Oslo:20231209T180000
DTEND;TZID=Europe/Oslo:20231209T180000
DTSTAMP:20260425T043455
CREATED:20231118T084120Z
LAST-MODIFIED:20231118T084139Z
UID:14698-1702144800-1702144800@uvdal.no
SUMMARY:Gårdsjulebord på Sevletunet
DESCRIPTION:Velkommen til gårdsjulebord med livemusikk og dansefest!\n\nHjertelig velkommen til julebord og dansefest på Sevletunet den andre helgen i desember! Du kan velge å kombinere julebord med fest etterpå – eller komme rett til dansen. Vi lover god gammeldags julestemning og lun atmosfære.\n\nJulematbuffeten serveres i våningshuset fra 1850 kl. 18.00. Det er plass til 26 personer rundt bordene og dere kan da gå rett bort til førjulsdansen i nabolokalet etter maten. Dørene åpner kl. 17.30 og da får dere først servert en liten velkomstdrink. Lokalet er lunt og intimt – med sprakende bål i Numedalspeisen. Vi har alle rettigheter og lokalt produsert drikke i tillegg til den vanlige drikkemenyen vår.\nFra kl. 21.00 spilles det opp til dans i lokalet «Telegrafen». Lokalet ligger et steinkast fra våningshuset. Her er det sittegrupper\, levende lys\, dansegulv og gårds-pub med både alkoholholdige og alkoholfrie alternativer.\nTrubadur Rolf Grongstad lover mange gode sving-låter som får det til å rykke i dansefoten! «En særdeles allsidig og anvendelig trubadur som setter publikum i førersetet. Et stort og allsidig repertoar i kombinasjon med godt humør blir aldri umoderne.\n\nTil underholdning og / eller dans. Kan også bookes med duo Cover up.»\nAldersgrense: 20 år.\nForhåndspåmelding både til julebord og dans via vipps.\nVi tar imot kortbetaling i baren.\nHåper dere vil komme! Vi tar forbehold om nok påmeldte.\nHjertlig velkommen\, hilsen vertinnene på Sevle\n// Mer info kommer straks\, stay tuned
URL:https://uvdal.no/arrangement/gardsjulebord-pa-sevletunet/
LOCATION:Sevletunet
ATTACH;FMTTYPE=image/jpeg:https://uvdal.no/wp-content/uploads/2023/11/Gardsjulebord-Sevletunet.jpg
END:VEVENT
BEGIN:VEVENT
DTSTART;TZID=Europe/Oslo:20231210T140000
DTEND;TZID=Europe/Oslo:20231210T180000
DTSTAMP:20260425T043455
CREATED:20231129T201939Z
LAST-MODIFIED:20231129T201939Z
UID:14761-1702216800-1702231200@uvdal.no
SUMMARY:Familiejulebord på Rødberg hotell
DESCRIPTION:Velkommen til familiejulebord på Rødberg Hotell Søndag 10 Desember  fra 14.00 – 18.00.\n\nVarm og kald buffé\, dessert og kaker.\n\nDu kan bestille bord på tlf 32741640\,\nEller mail post@rodberg.no\n\nØnsker alle hjertelig velkommen!\n\n\n\nKroa holder stengt denne dagen.
URL:https://uvdal.no/arrangement/familiejulebord-pa-rodberg-hotell/
LOCATION:Rødberg hotell\, Rudisvingen 10\, Rødberg\, 3630\, Norge
ATTACH;FMTTYPE=image/jpeg:https://uvdal.no/wp-content/uploads/2023/11/Rodberg-hotell-julebord-2023.jpg
END:VEVENT
BEGIN:VEVENT
DTSTART;TZID=Europe/Oslo:20231218T163000
DTEND;TZID=Europe/Oslo:20231218T170000
DTSTAMP:20260425T043455
CREATED:20231208T100951Z
LAST-MODIFIED:20231208T101002Z
UID:14837-1702917000-1702918800@uvdal.no
SUMMARY:Lysmesse i Nore kirke
DESCRIPTION:Velkommen til Nore kirke 18 desember! \n  \n\nDet vil være  lysmesse i Nore kirke kl. 16.30. 18 desember. Det vil være elever fra 3.klasse på rødberg skole er med som lysbærere og fremfører julefortellingen. \n\nFor mer info se her \n  \n 
URL:https://uvdal.no/arrangement/lysmesse-i-nore-kirke/
LOCATION:Nore kirke
ATTACH;FMTTYPE=image/jpeg:https://uvdal.no/wp-content/uploads/2022/12/Kirkene-i-Nore-og-Uvdal-2.jpg
ORGANIZER;CN="Menighetene Nore%2C Uvdal og Tunhovd":MAILTO:kirkekontoret@nore.kirken.no
END:VEVENT
BEGIN:VEVENT
DTSTART;TZID=Europe/Oslo:20231221T200000
DTEND;TZID=Europe/Oslo:20231221T200000
DTSTAMP:20260425T043455
CREATED:20231027T072006Z
LAST-MODIFIED:20231027T081029Z
UID:14563-1703188800-1703188800@uvdal.no
SUMMARY:Julekonsert - Mamas garden Tunhovd kirke
DESCRIPTION:Tunhovd Menighetsråd har gleden av å invitere til ny julekonsert i Tunhovd Kirke. Denne gangen gleder vi oss til å ønske Mamas Garden velkommen.\n\nTid: 21 desember kl: 20.00\n\nMamas Garden består av søsknene Ingvild\, Håvard og Dag Arnold\, og er etter hvert blitt en godt etablert trio både lokalt og nasjonalt.\nMedlemmene er bosatt i Drammen og Tønsberg\, men har røtter fra Finnmark\, noe som også gjenspeiles i et repertoar\nbestående av en stadig økende andel tekster på «morsmålet».\nSøsknene har sunget sammen i over 25 år og kan i forbindelse med sine to plater og flere singelutgivelser vise til en omfattende konsert- og turnévirksomhet\, og får svært fine tilbakemeldinger fra presse og publikum.\nMamas garden plasserer musikken sin i landskapet mellom vise\, country og pop.\nSøsknene er svært glad i iørefallende vokal arrangement og gode melodier\, men har også et ønske om å formidle noe utover det\, gjennom tekster som omhandler mangfoldigheten i relasjonen både til Gud og mennesker.\nSom trio har de tidligere vært deltagere både i MGP og X-factor. De har gjestet God Morgen Norge flere ganger\, og hver for seg koret for artister som Carola og Sissel Kyrkjebø\, i tillegg til koristoppdrag i MGP\, Idol\, fredspriskonserten og Spelemannsprisen. Alle har dessuten lang fartstid som korsangere i henholdsvis Mosaic og Oslo gospel Choir\, og har til sammen deltatt på over tretti plateproduksjoner\n\nBilletter kjøpes direkte her
URL:https://uvdal.no/arrangement/julekonsert-mamas-garden-tunhovd-kirke/
LOCATION:Tunhovd kirke
ATTACH;FMTTYPE=image/jpeg:https://uvdal.no/wp-content/uploads/2023/10/Mamas-Garden-julekonsert.jpg
END:VEVENT
BEGIN:VEVENT
DTSTART;TZID=Europe/Oslo:20231222T193000
DTEND;TZID=Europe/Oslo:20231222T193000
DTSTAMP:20260425T043455
CREATED:20231208T101346Z
LAST-MODIFIED:20231208T101527Z
UID:14840-1703273400-1703273400@uvdal.no
SUMMARY:Vi synger julen inn
DESCRIPTION:Uvdal kirke 22 desember\, med vi synger julen inn! \n  \nVi synger kjente og kjære julesanger og lytter til juledikt. \nArtister som deltar er:\nYana\nHalvor Lesteberg\nNore og Uvdal Trekkspillklubb\nBjørn Wiggo Engen\nRune Lundsør\nKonfirmanter deltar.\nSammen setter vi tonen for julen \nVelkommen
URL:https://uvdal.no/arrangement/vi-synger-julen-inn/
LOCATION:Uvdal kirke
ATTACH;FMTTYPE=image/jpeg:https://uvdal.no/wp-content/uploads/2022/11/Uvdal-kirke-vinter.jpg
ORGANIZER;CN="Menighetene Nore%2C Uvdal og Tunhovd":MAILTO:kirkekontoret@nore.kirken.no
END:VEVENT
BEGIN:VEVENT
DTSTART;TZID=Europe/Oslo:20231224T120000
DTEND;TZID=Europe/Oslo:20231224T160000
DTSTAMP:20260425T043455
CREATED:20231208T102153Z
LAST-MODIFIED:20231208T105916Z
UID:14844-1703419200-1703433600@uvdal.no
SUMMARY:Gudstjenester julaften 2023
DESCRIPTION:Velkommen til julens gudstjenester i Nore og Uvdal! \n  \nJulaften 24 desember: \n– Tunhovd kirke kl. 12.00: Familiegudstjeneste\n– Skjønne kirke kl. 14.00: Familiegudstjeneste\n– Uvdal kirke kl. 16.00: Familiegudstjeneste \n  \nFor mer info vedrørende julens gudstjenester se her \n  \nHa en fin førjulstid.
URL:https://uvdal.no/arrangement/gudstjenester-julaften-2023/
LOCATION:Nore og Uvdal
ATTACH;FMTTYPE=image/jpeg:https://uvdal.no/wp-content/uploads/2023/12/Julegudstjenester-2020.jpg
ORGANIZER;CN="Menighetene Nore%2C Uvdal og Tunhovd":MAILTO:kirkekontoret@nore.kirken.no
END:VEVENT
BEGIN:VEVENT
DTSTART;TZID=Europe/Oslo:20231228T153000
DTEND;TZID=Europe/Oslo:20231228T153000
DTSTAMP:20260425T043455
CREATED:20231219T114208Z
LAST-MODIFIED:20231219T114217Z
UID:14929-1703777400-1703777400@uvdal.no
SUMMARY:Juletrefest Tunhovd samfunnshus
DESCRIPTION:
URL:https://uvdal.no/arrangement/juletrefest-tunhovd-samfunnshus/
LOCATION:Tunhovd samfunnshus
END:VEVENT
BEGIN:VEVENT
DTSTART;TZID=Europe/Oslo:20231228T200000
DTEND;TZID=Europe/Oslo:20231228T200000
DTSTAMP:20260425T043455
CREATED:20231127T141226Z
LAST-MODIFIED:20231127T141313Z
UID:14753-1703793600-1703793600@uvdal.no
SUMMARY:Romjulstreff
DESCRIPTION:Julas møteplass i Nore og Uvdal. \nDette arrangementet er for alle som er hjemme på juleferie i Nore og Uvdal\, og for ungdom i alle aldre\, som allerede bor i Nore og Uvdal. Møt opp\, treff gamle og nye kjente. Få informasjon om kommunens arbeid med bolyst og folkehelse og møt ungdom som har etablert seg i næringslivet og ungdom som jobber i kommunen. \n 
URL:https://uvdal.no/arrangement/romjulstreff/
LOCATION:Rødberg hotell\, Rudisvingen 10\, Rødberg\, 3630\, Norge
END:VEVENT
BEGIN:VEVENT
DTSTART;TZID=Europe/Oslo:20231231T130000
DTEND;TZID=Europe/Oslo:20231231T190000
DTSTAMP:20260425T043455
CREATED:20231121T134409Z
LAST-MODIFIED:20231121T134538Z
UID:14712-1704027600-1704049200@uvdal.no
SUMMARY:Nyttårslunsj med livemusikk på Vasstulan1100
DESCRIPTION:Velkommen til hyggelig lunsj med livemusikk fra flotte lokale musikere!  \n  \nVasstulan1100 kjører reprise fra forrige år\, med lunsj og musikk.\nLivemusikk  er med med Line & Thomas.\nDet serveres snacksfjøl med lokale smaker kr. 240\,-\nInngang kun for påmeldte: jorun@vasstulan.no\n\nVelkommen!
URL:https://uvdal.no/arrangement/nyttarslunsj-med-livemusikk-pa-vasstulan1100/
LOCATION:Vasstulan 1100\, Vasstulan 46\, Uvdal\, 3632\, Norge
ATTACH;FMTTYPE=image/jpeg:https://uvdal.no/wp-content/uploads/2022/11/Konsert-Vasstulan-nyttar.jpg
ORGANIZER;CN="Vasstulan 1100":MAILTO:bestilling@vasstulan.no
END:VEVENT
END:VCALENDAR