BEGIN:VCALENDAR
VERSION:2.0
PRODID:-//Uvdal - ECPv6.15.20//NONSGML v1.0//EN
CALSCALE:GREGORIAN
METHOD:PUBLISH
X-WR-CALNAME:Uvdal
X-ORIGINAL-URL:https://uvdal.no
X-WR-CALDESC:Arrangement for Uvdal
REFRESH-INTERVAL;VALUE=DURATION:PT1H
X-Robots-Tag:noindex
X-PUBLISHED-TTL:PT1H
BEGIN:VTIMEZONE
TZID:Europe/Oslo
BEGIN:DAYLIGHT
TZOFFSETFROM:+0100
TZOFFSETTO:+0200
TZNAME:CEST
DTSTART:20220327T010000
END:DAYLIGHT
BEGIN:STANDARD
TZOFFSETFROM:+0200
TZOFFSETTO:+0100
TZNAME:CET
DTSTART:20221030T010000
END:STANDARD
BEGIN:DAYLIGHT
TZOFFSETFROM:+0100
TZOFFSETTO:+0200
TZNAME:CEST
DTSTART:20230326T010000
END:DAYLIGHT
BEGIN:STANDARD
TZOFFSETFROM:+0200
TZOFFSETTO:+0100
TZNAME:CET
DTSTART:20231029T010000
END:STANDARD
BEGIN:DAYLIGHT
TZOFFSETFROM:+0100
TZOFFSETTO:+0200
TZNAME:CEST
DTSTART:20240331T010000
END:DAYLIGHT
BEGIN:STANDARD
TZOFFSETFROM:+0200
TZOFFSETTO:+0100
TZNAME:CET
DTSTART:20241027T010000
END:STANDARD
END:VTIMEZONE
BEGIN:VEVENT
DTSTART;TZID=Europe/Oslo:20230601T080000
DTEND;TZID=Europe/Oslo:20230815T170000
DTSTAMP:20260425T144052
CREATED:20230530T144627Z
LAST-MODIFIED:20230530T152311Z
UID:13726-1685606400-1692118800@uvdal.no
SUMMARY:Sommerens leserutfordring for barn
DESCRIPTION:Velkommen til vår lokale bibliotek i sommer! \nAlle barn inviteres til å bli med på Rødberg biblioteks sommerlige lesekampanje! \nEnkle utfordringer kan motivere til lesing i lange\, lyse feriedager! \nKampanjen starter 1. juni og varer til 15. august. \nVelg 8 av utfordringene og lever skjemaet på biblioteket innen 20. august! \nAlle som deltar får is\, og det er store vinnersjanser for fine premier! \nKom innom biblioteket og hent skjema!
URL:https://uvdal.no/arrangement/sommerens-leserutfordring-for-barn/
LOCATION:Rødberg bibliotek\, Syljerudvegen 5\, Rødberg\, 3630
ATTACH;FMTTYPE=image/jpeg:https://uvdal.no/wp-content/uploads/2023/05/Rodberg-bibliotek-i-sommer-1.jpg
END:VEVENT
BEGIN:VEVENT
DTSTART;TZID=Europe/Oslo:20230601T100000
DTEND;TZID=Europe/Oslo:20230601T180000
DTSTAMP:20260425T144052
CREATED:20230127T084207Z
LAST-MODIFIED:20230127T085051Z
UID:5409-1685613600-1685642400@uvdal.no
SUMMARY:Åpning av Stavkirken og bygdetunet for sesongen 2023
DESCRIPTION:Velkommen til oss i sommer! \n  \nÅpning av sesongen på bygdetunet 1. juni\nBygdetunet og stavkirken er åpen fra 1. juni – 31. august\, alle dager.
URL:https://uvdal.no/arrangement/apning-av-stavkirken-og-bygdetunet-for-sesongen-2023/
LOCATION:Nore og Uvdal Bygdetun\, Fv122\, Nore og Uvdal\, 3632\, Norge
ATTACH;FMTTYPE=image/jpeg:https://uvdal.no/wp-content/uploads/2023/01/Apning-sommer-2023.jpg
END:VEVENT
BEGIN:VEVENT
DTSTART;VALUE=DATE:20230602
DTEND;VALUE=DATE:20230605
DTSTAMP:20260425T144052
CREATED:20230417T132031Z
LAST-MODIFIED:20230417T132521Z
UID:13378-1685664000-1685923199@uvdal.no
SUMMARY:Sevleseminaret 2023 - BRYTNINGSTID -
DESCRIPTION:SEVLESEMINARET 2023: «BRYTNINGSTID»\n\n– “Det store landeveisrøveriet” v/ Hans Eirik Olav\n– “Inflasjonens sanne ansikt” v/ Gregard Mikkelborg\n– “Gullet i den feminine kraften: Hvorfor er den viktig – for både kvinner og menn – for å skape vår nye verden?” Bonusforedrag: “Det nye økonomiske systemet “QFS” – illusjon eller virkelighet?” v/ Trude Dybendahl\n– “Krig\, som bestilt? Om krigen i Ukraina og litt om hva den betyr for Norge” v/ Lars Birkelund\n– “Sensur i Norge? Nei\, det er i Russland det!” v/ Julia Schreiner Benito\n– “Det er maten vår for pokker! Om myter og paradokser i matsystemet vårt” v/ Anders Nordstad\n– “Hvorfor virker ikke demokratiet og hva må til?” v/ Susanne Heart\n– “Lawful world versus legal world — hvor er vi nå i denne brytningsperioden vi befinner oss?” v/ Barbro Paulsen\n– “Å velge annerledes i en verden som forteller deg hvordan du skal leve” v/ Guro Skjelderup\n– “Tanker rundt egenberedskap og prepping” v/ Anita Lislien\n– “Bygging av et parallelt samfunn. Hva blir viktig da?” // Kåseri fredag kveld: «En betraktning fra et sted utenfor boksen» v/ Jon Holden\n\nPåmelding kan du gjøre her\n\nVelkommen 2 – 4 juni.
URL:https://uvdal.no/arrangement/sevleseminaret-2023-brytningstid/
LOCATION:Sevletunet
ATTACH;FMTTYPE=image/jpeg:https://uvdal.no/wp-content/uploads/2023/04/Sevleseminaret-2023.jpg
END:VEVENT
BEGIN:VEVENT
DTSTART;TZID=Europe/Oslo:20230609T140000
DTEND;TZID=Europe/Oslo:20230609T180000
DTSTAMP:20260425T144052
CREATED:20230601T071044Z
LAST-MODIFIED:20230601T104103Z
UID:13733-1686319200-1686333600@uvdal.no
SUMMARY:Superfredag - møteplass i Tunhovd!
DESCRIPTION:Klarer vi å få 200 mennesker ut på tur?\n\nFolkehelsekoordinator har laget turløyper i området.\nEgen natursti for barn.\nGratis is til alle som gjennomfører\nJoker Tunhovd spanderer grillmat og kaffe.\nKonkurranser og premier.\n\nTuren er vel 5 km. og det blir egen tur for de minste.\n\nFra Nore og Uvdal kommune kommer:\nOrdfører\, leder av frivilligsentralen og bygdeutvikler\nTrenger du skyss?\nDu kan booke plass i bygdebilen – kontakt Jorun på Tlf: 475 15 042.\n\nAlle er velkomne!
URL:https://uvdal.no/arrangement/superfredag-moteplass-i-tunhovd/
LOCATION:Joker\, Tunhovd
ORGANIZER;CN="Nore og Uvdal kommune":MAILTO:post@nore-og-uvdal.kommune.no
END:VEVENT
BEGIN:VEVENT
DTSTART;VALUE=DATE:20230610
DTEND;VALUE=DATE:20230612
DTSTAMP:20260425T144052
CREATED:20230515T092707Z
LAST-MODIFIED:20230515T093648Z
UID:13634-1686355200-1686527999@uvdal.no
SUMMARY:3. NM runde Crosskart 2023
DESCRIPTION:Velkommen til 3.NM runde i Crosskart hos oss på Smådøl Motorsenter 10-11.juni!\n\nSportitykode: 3NM-NC2023
URL:https://uvdal.no/arrangement/3-nm-runde-crosskart-2023/
LOCATION:Smådøl Motorsenter\, Nore og Uvdal\, 3630
ATTACH;FMTTYPE=image/jpeg:https://uvdal.no/wp-content/uploads/2023/05/346862590_593801336062559_7719248372245618147_n.jpg
END:VEVENT
BEGIN:VEVENT
DTSTART;TZID=Europe/Oslo:20230610T110000
DTEND;TZID=Europe/Oslo:20230610T170000
DTSTAMP:20260425T144052
CREATED:20230605T075445Z
LAST-MODIFIED:20230609T082350Z
UID:13754-1686394800-1686416400@uvdal.no
SUMMARY:Åpen dag på Øktodden mølle
DESCRIPTION:Velkommen til åpen dag \nØktodden Mølle\nMølla på Øktodden var en bygdemølle med en møller. Den eldste delen av mølla er fra begynnelsen av 1800-tallet. Tidlig på 1900-tallet ble den bygget om til turbindrift. Hit kom karfolka med kornet for å få det malt. Møllerdatteren husker at de satt og venta i «kontoret» og fikk traktering hos moren. \nDet blir dugnad på Øktodden fra klokka 11 til 14\nOmvisning i mølla klokka 13:30\nVassgraut kl. 14.00\nVi deler minner og historier fra Vonheim fra kl 15. \nFor mer info se her\nVi avslutter med en tur opp for å se på bygget. \n 
URL:https://uvdal.no/arrangement/apen-dag-pa-oktodden-molle/
LOCATION:Øktodden
ATTACH;FMTTYPE=image/jpeg:https://uvdal.no/wp-content/uploads/2023/06/Oktodden-Molle-bygdetunet.jpg
END:VEVENT
BEGIN:VEVENT
DTSTART;TZID=Europe/Oslo:20230617T200000
DTEND;TZID=Europe/Oslo:20230617T200000
DTSTAMP:20260425T144052
CREATED:20230503T115750Z
LAST-MODIFIED:20230503T120245Z
UID:13532-1687032000-1687032000@uvdal.no
SUMMARY:Konsert og fest med Nore Kraftwerk
DESCRIPTION:I juni er det klart for den årlige rockebegivenheten i Nore.\n\nEtter en vinter med intens øving er Nore Kraftwerk klare for konsert og fest på Norehallen. Håper mange har lyst til å slå ut håret til litt skikkelig rock ‘n’ roll denne kvelden.\nVeggli vertshus står for bevertningen og BuiNore er arrangør. Dørene åpner klokka 20.00 og første sett begynner ca. 21.00. Etter konserten (og under) blir det fest:)\n\nTid: Lørdag 17 juni\nKlokkeslett: 20.00 – 02.00\nAldergrense 18 år\nMer info kommer så følg med her 
URL:https://uvdal.no/arrangement/konsert-og-fest-med-nore-kraftwerk/
LOCATION:Norefjord\, Norehallen
ATTACH;FMTTYPE=image/jpeg:https://uvdal.no/wp-content/uploads/2023/05/Konsert-Bu-I-Nore-17-juni.jpg
END:VEVENT
BEGIN:VEVENT
DTSTART;VALUE=DATE:20230619
DTEND;VALUE=DATE:20230624
DTSTAMP:20260425T144052
CREATED:20230105T103149Z
LAST-MODIFIED:20230105T112923Z
UID:5144-1687132800-1687564799@uvdal.no
SUMMARY:Besteforeldre og barnebarn-leir uke 25 på Langedrag
DESCRIPTION:Gårdsferie med aktiviteter for besteforeldre med barnebarn.\n\nHva med å gi dine barnebarn ei uke full av opplevelser i gave?\nOg hva med å dele gleden med barnebarna? Bli med på besteforeldre leir på Langedrag Naturpark.\nVi lager et program fullt av læring og aktiviteter som passer for alle.\nMan får oppleve ulv og gaupe på nært hold\, og nærkontakt med fjellrev\, reinsdyr og elg. Naturnære opplevelser for både små og store.\n– Stell i stall og fjøs og i hundegården\n– Kos med kanin- og villsvinunger\n– Har du melket geiter?\n– Seterdag. Det blir ysting\, takkesteking\, sanking av nyttevekster og plantefarging\n– Riding\, balansekunst på hesteryggen\n– Natursti og klatrepark\n– Fjelltur med mulighet for kanopadling\, kullstiftbrenning og pinnebrødsteking.\nOg mye\, mye mer.\n\nLangedrag vil legge vekt på et trygt og sosialt miljø!\n\nPris:\nVoksen: kr. 6500\,-\nBarn 9-15 år kr. 4850\,-\nBarn 2-8 år kr. 4520\,-\nLangedrag naturpark  har besteforeldreleir i uke 25 og i uke 31.\n\nFor mer info se her 
URL:https://uvdal.no/arrangement/besteforeldre-og-barnebarn-leir-uke-25-pa-langedrag/
LOCATION:Langedrag Naturpark\, Tunhovd\, 3544
ATTACH;FMTTYPE=image/jpeg:https://uvdal.no/wp-content/uploads/2023/01/Familie-camp-2023.jpg
ORGANIZER;CN="Langedrag Naturpark":MAILTO:post@langedrag.no
END:VEVENT
BEGIN:VEVENT
DTSTART;TZID=Europe/Oslo:20230622T180000
DTEND;TZID=Europe/Oslo:20230622T200000
DTSTAMP:20260425T144052
CREATED:20230615T073629Z
LAST-MODIFIED:20230622T090728Z
UID:13896-1687456800-1687464000@uvdal.no
SUMMARY:Damenes aften
DESCRIPTION:
URL:https://uvdal.no/arrangement/damenes-aften/
LOCATION:Første etasje\, Gaver og Interiør
ATTACH;FMTTYPE=image/jpeg:https://uvdal.no/wp-content/uploads/2023/06/Damenes-aften-forste-etasje.jpg
END:VEVENT
BEGIN:VEVENT
DTSTART;TZID=Europe/Oslo:20230623T180000
DTEND;TZID=Europe/Oslo:20230623T180000
DTSTAMP:20260425T144052
CREATED:20230601T110645Z
LAST-MODIFIED:20230601T111153Z
UID:13747-1687543200-1687543200@uvdal.no
SUMMARY:St. Hans feiring på Nordstjerna grendehus
DESCRIPTION:Ta med det du vil grille selv og grillene vil være varme til KL 18.00 \nKiosksalg av:\nBrus\, kaffe/te og kaker\nLoddsalg med fine premier\nSkattejakt for barna og leiker\nEn liten sommerquiz \nVelkommen hilsen styret i Nordstjerna Ungdomslag
URL:https://uvdal.no/arrangement/st-hans-feiring-pa-nordstjerna-grendehus/
LOCATION:Nordstjerna Grendehus\, Uvdalsvegen 966\, Uvdal\, 3632\, Norge
ATTACH;FMTTYPE=image/jpeg:https://uvdal.no/wp-content/uploads/2023/06/St.-hans-feiring-Nordstjerna.jpg
END:VEVENT
BEGIN:VEVENT
DTSTART;TZID=Europe/Oslo:20230623T180000
DTEND;TZID=Europe/Oslo:20230623T180000
DTSTAMP:20260425T144052
CREATED:20230616T072121Z
LAST-MODIFIED:20230616T072121Z
UID:13932-1687543200-1687543200@uvdal.no
SUMMARY:St.Hans feiring i Øymoparken
DESCRIPTION:
URL:https://uvdal.no/arrangement/st-hans-feiring-i-oymoparken/
LOCATION:Øymoparken\, Nore
ATTACH;FMTTYPE=image/jpeg:https://uvdal.no/wp-content/uploads/2023/06/Vassbotten-Vel.jpg
END:VEVENT
BEGIN:VEVENT
DTSTART;TZID=Europe/Oslo:20230624T120000
DTEND;TZID=Europe/Oslo:20230624T120000
DTSTAMP:20260425T144052
CREATED:20230530T124931Z
LAST-MODIFIED:20230530T140626Z
UID:13717-1687608000-1687608000@uvdal.no
SUMMARY:Motorhistorisk dag på bygdetunet
DESCRIPTION:Numedal motorhistoriske forening kommer på besøk. \nVelkommen! \n 
URL:https://uvdal.no/arrangement/motorhistorisk-dag-pa-bygdetunet-2/
LOCATION:Nore og Uvdal Bygdetun\, Fv122\, Nore og Uvdal\, 3632\, Norge
ATTACH;FMTTYPE=image/jpeg:https://uvdal.no/wp-content/uploads/2023/05/Ovre-Numedal-motorhistoriske.jpg
END:VEVENT
BEGIN:VEVENT
DTSTART;TZID=Europe/Oslo:20230624T170000
DTEND;TZID=Europe/Oslo:20230624T170000
DTSTAMP:20260425T144052
CREATED:20230601T104824Z
LAST-MODIFIED:20230601T105811Z
UID:13741-1687626000-1687626000@uvdal.no
SUMMARY:Livet er ei vise - Maj Britt Andersen med musikere
DESCRIPTION:Det er med stor glede vi kan presentere den folkekjære artisten Maj Britt Andersen og hennes familieforestilling «Livet er ei vise». \nDette er også tittelen på jubileumsplata som Maj Britt ga ut i forbindelse sitt 40 års som artist. \nEi samleplate med 60 sanger hun mottok spellemannspris i kategorien beste barneplate for. \nEn unik familieforestilling med kjente og kjære sanger. \nTunhovd kirke er ikke stor\, så her gjelder første man til mølla prinsippet! \nBilletter kan kjøpes her \nArrangør: Tunhovd Menighetsråd \n  \n 
URL:https://uvdal.no/arrangement/livet-er-ei-vise-maj-britt-andersen-med-musikere/
LOCATION:Tunhovd kirke
ATTACH;FMTTYPE=image/jpeg:https://uvdal.no/wp-content/uploads/2023/06/Livet-er-ei-rose-May-Britt-Andersen.jpg
END:VEVENT
BEGIN:VEVENT
DTSTART;TZID=Europe/Oslo:20230628T180000
DTEND;TZID=Europe/Oslo:20230628T193000
DTSTAMP:20260425T144052
CREATED:20230615T081029Z
LAST-MODIFIED:20230615T082313Z
UID:13903-1687975200-1687980600@uvdal.no
SUMMARY:SommerYoga for alle på Rødberg
DESCRIPTION:Bli med på en introduksjon til yoga\, meditasjon og yogafilosofi.\nTimene passer for stive kontorkropper\, spente landbruksrygger\, forknytte mobilnakker\, overarbeidede hjerner og generelt alle som er nysgjerrige på om yoga har noe å by på.\n\nNår: Onsdag 28/06 og 05/07\nTid: 18:00 – 19:30 (90min)\nSted: Avhengig av vær\nFritidsparken eller Vennepunktet – Rødberg\nPris: 225 kr for 90 min.\n(Reserverer du 2 klasser blir total pris 400 kr )\nFrist for påmelding 26/03\nVed spørsmål send meg gjerne en Messenger.\nHyggelig om vi ses!\n\nSommerhilsen fra Marianne
URL:https://uvdal.no/arrangement/sommeryoga-for-alle-pa-rodberg/
LOCATION:Fritidsparken eller Vennepunktet Rødberg
ATTACH;FMTTYPE=image/jpeg:https://uvdal.no/wp-content/uploads/2023/06/Sommeryoga-for-alle-pa-Rodberg.jpg
END:VEVENT
BEGIN:VEVENT
DTSTART;VALUE=DATE:20230630
DTEND;VALUE=DATE:20230702
DTSTAMP:20260425T144052
CREATED:20230609T074416Z
LAST-MODIFIED:20230609T074744Z
UID:13806-1688083200-1688255999@uvdal.no
SUMMARY:Ditt Apotek Rødberg feirer 5 år!
DESCRIPTION:30.06 og 01.07.23 ferier vi at Ditt apotek har vært på Rødberg i 5 år!\n\nJubileet går av stabelen samtidig som Rødbergdagen så her blir det god stemning og mange gode tilbud!\nHos oss blir det servering av cupcakes og kaffe\, konkurranser og hele 40% på nesten alle varer!\nVi er så takknemlige for alle våre kunder\, som benytter akkurat oss\nVi sees!\nKristin\, Sigrun\, Guro & Maria
URL:https://uvdal.no/arrangement/ditt-apotek-rodberg-feirer-5-ar/
LOCATION:Ditt Apotek Rødberg\, Sentrum 50\, Rødberg\, 3630
END:VEVENT
BEGIN:VEVENT
DTSTART;VALUE=DATE:20230630
DTEND;VALUE=DATE:20230702
DTSTAMP:20260425T144052
CREATED:20230615T073101Z
LAST-MODIFIED:20230615T073114Z
UID:13823-1688083200-1688255999@uvdal.no
SUMMARY:Rødbergdagene 2023
DESCRIPTION:Velkommen til Rødbergdagen. \n  \nFor mer info se her  \n 
URL:https://uvdal.no/arrangement/rodbergdagene-2023/
LOCATION:Rødberg sentrum
ATTACH;FMTTYPE=image/jpeg:https://uvdal.no/wp-content/uploads/2023/06/Rodbergdagene-2022-2-juli.jpeg
END:VEVENT
BEGIN:VEVENT
DTSTART;TZID=Europe/Oslo:20230630T190000
DTEND;TZID=Europe/Oslo:20230630T210000
DTSTAMP:20260425T144052
CREATED:20230612T084132Z
LAST-MODIFIED:20230612T084448Z
UID:13878-1688151600-1688158800@uvdal.no
SUMMARY:Valgkampstart på Rødberg hotell
DESCRIPTION:
URL:https://uvdal.no/arrangement/valgkampstart-pa-rodberg-hotell/
LOCATION:Rødberg hotell\, Rudisvingen 10\, Rødberg\, 3630\, Norge
END:VEVENT
END:VCALENDAR