BEGIN:VCALENDAR
VERSION:2.0
PRODID:-//Uvdal - ECPv6.15.20//NONSGML v1.0//EN
CALSCALE:GREGORIAN
METHOD:PUBLISH
X-ORIGINAL-URL:https://uvdal.no
X-WR-CALDESC:Arrangement for Uvdal
REFRESH-INTERVAL;VALUE=DURATION:PT1H
X-Robots-Tag:noindex
X-PUBLISHED-TTL:PT1H
BEGIN:VTIMEZONE
TZID:Europe/Oslo
BEGIN:DAYLIGHT
TZOFFSETFROM:+0100
TZOFFSETTO:+0200
TZNAME:CEST
DTSTART:20220327T010000
END:DAYLIGHT
BEGIN:STANDARD
TZOFFSETFROM:+0200
TZOFFSETTO:+0100
TZNAME:CET
DTSTART:20221030T010000
END:STANDARD
BEGIN:DAYLIGHT
TZOFFSETFROM:+0100
TZOFFSETTO:+0200
TZNAME:CEST
DTSTART:20230326T010000
END:DAYLIGHT
BEGIN:STANDARD
TZOFFSETFROM:+0200
TZOFFSETTO:+0100
TZNAME:CET
DTSTART:20231029T010000
END:STANDARD
BEGIN:DAYLIGHT
TZOFFSETFROM:+0100
TZOFFSETTO:+0200
TZNAME:CEST
DTSTART:20240331T010000
END:DAYLIGHT
BEGIN:STANDARD
TZOFFSETFROM:+0200
TZOFFSETTO:+0100
TZNAME:CET
DTSTART:20241027T010000
END:STANDARD
END:VTIMEZONE
BEGIN:VEVENT
DTSTART;VALUE=DATE:20230303
DTEND;VALUE=DATE:20230306
DTSTAMP:20260425T210601
CREATED:20230208T092557Z
LAST-MODIFIED:20230208T092557Z
UID:5740-1677801600-1678060799@uvdal.no
SUMMARY:Monoski Landstreff I Uvdal Skisenter
DESCRIPTION:Norges Monoskiforening inviterer alle der ute som enten har monoski eller får skaffet seg en til treff i Uvdal lørdag 03-05.mars!\n\nHelgen blir fylt med historier og hygge\, monoski og afterski.\nAlle er velkommen\, bare du har en monoski på beina.\nPå dagen blir det cruising rundt i Uvdals bakker\, gruppebilder og formasjonskjøring.\n\nProgram: Monoski Landstreff\, Uvdal 04.mars 2023.\nFredag blir det gallamiddag i Snowboardmuseet kl 20.00. Det blir cateringmat fra Vasstulan1100 og åpen bar. Her blir det utdeling av Gull-Mono\, taler\, kåringer og sang i kjent stil før vi drar opp i Lavvoen.\nLørdag har vi oppmøte på bunnstasjon kl 11.00. Så cruiser vi i bakken og hygger oss tett etterfulgt av afterski i Lavvoen. Vi får servert litt enkel bespisning i 2.etg på lavvoen under afterskien\, så vi holder ut hele kvelden.\n«Monopakka» koster kr 2400\,- og inneholder:\n– Overnatting i leiligheter i skisenteret\n– Heiskort lørdag og søndag\n– Gallamiddag fredag\n– Enkel bespisning i Lavvoen lørdag\n«Mono&Mat» koster kr 650\,- og inneholder:\n– Gallamiddag fredag\n– Enkel bespisning i Lavoen lørdag\n\nPåmelding:\nSend følgende informasjon til snowboardtrener@gmail.com\nMONOSKI LANDSTREFF!\nNavn:\nMonopakka eller Mono&Mat:\nBo med:\n\nVelkommen!
URL:https://uvdal.no/arrangement/monoski-landstreff-i-uvdal-skisenter/
LOCATION:Uvdal Skisenter\, Uvdal\, 3632\, Norge
ATTACH;FMTTYPE=image/jpeg:https://uvdal.no/wp-content/uploads/2023/02/Monoski-landstreff-2023.jpg
END:VEVENT
BEGIN:VEVENT
DTSTART;VALUE=DATE:20230304
DTEND;VALUE=DATE:20230305
DTSTAMP:20260425T210601
CREATED:20230227T143523Z
LAST-MODIFIED:20230227T143539Z
UID:5320-1677888000-1677974399@uvdal.no
SUMMARY:Numedalsrally 2023
DESCRIPTION:Numedalsrally 2023 går av stabelen lørdag  4.mars i Smådøl.\n\nNumedalsrally er et vinterrally og et av de største rallyene i Norge.\n\nVi håper å se mange rallybiler og folk på skogen denne helga\, uke 9 i vinterferien. Numedalsrally har i år NM status.\n\n\n\nHer kommer litt info til publikum.\n\n\nVi vil sterkt anbefale å ta turen inn på motorbanen SS2/7 under årets Numedalsrally. Her kan man kjøre helt inn på motorbanen og parkere. Man kan også kjøre inn og ut uavhengig av rally’n.\nHer får man sett mye bilkjøring\, fordi bilene kjører rundt motorbanen. Med andre ord veldig publikumsvennlig. Førermøte podcast gutta skal være speakere\, og i pausa mellom etappene kommer rallyradioen til å være på høytalerne. Det blir også kiosk med godt utvalg\, inne i klubbhuset med mulighet til å varme seg.\n\nFor kart se her\n\n\n\n\nBallongbilen skal også stå på motorbanen\, med masse flagg og godt humør som vanlig.\nHer blir det liv for både små og store!\n\n\nVil også minne alle førere på å melde seg på Numedalsrally! Håper å se mange på start 4. Mars. Det er supre forhold!\n\nFor mer info se her \n\n\nVi gleder oss!\nSportity kode: numedalsrally23\n\n\n\nFor mer info\, følg med på Facebook 
URL:https://uvdal.no/arrangement/numedalsrally-2023/
LOCATION:Smådøl Motorsenter\, Nore og Uvdal\, 3630
ATTACH;FMTTYPE=image/jpeg:https://uvdal.no/wp-content/uploads/2023/01/Numedalsrally-2023-NM.jpg
END:VEVENT
BEGIN:VEVENT
DTSTART;TZID=Europe/Oslo:20230314T180000
DTEND;TZID=Europe/Oslo:20230314T210000
DTSTAMP:20260425T210601
CREATED:20230306T143814Z
LAST-MODIFIED:20230306T151700Z
UID:6536-1678816800-1678827600@uvdal.no
SUMMARY:Åpent informasjonsmøte om utviklingen i Rødberg sentrum
DESCRIPTION:Nore og Uvdal kommune ønsker å informere om utviklingen i Rødberg sentrum.\n\nAgenda:\nSentrumsgate og uteområde kommunehuset\nFritidsparken\nBoligutvikling\nFlerbrukshus/folkebad\nMøteplasser\nEtterbruk Rødberghallen\, Bergtun og Bråflåttun.\n\nDet blir servert kaffe og kake til møte.\n\nSted: Rødberg hotell\, tirsdag 14 mars
URL:https://uvdal.no/arrangement/apent-informasjonsmote-om-utviklingen-i-rodberg-sentrum/
LOCATION:Rødberg hotell\, Rudisvingen 10\, Rødberg\, 3630\, Norge
ORGANIZER;CN="Nore og Uvdal kommune":MAILTO:post@nore-og-uvdal.kommune.no
END:VEVENT
BEGIN:VEVENT
DTSTART;VALUE=DATE:20230318
DTEND;VALUE=DATE:20230319
DTSTAMP:20260425T210601
CREATED:20230313T091233Z
LAST-MODIFIED:20230313T091436Z
UID:6726-1679097600-1679183999@uvdal.no
SUMMARY:Snøscooter-treff\, veteran & klassiker\, samt pub!
DESCRIPTION:Da er det tid for snøscooter-treff\, veteran og klassiker!\n\nHer blir det liv\, med masse snø og eksos i naturskjønne omgivelser .\nSom vanlig er det frokost i 2. etg kl 09.30-11. Det vil bli taco-buffe kl 14.00.\nDet kjøres løype på idealtid\, premiering vil forekomme .\nVelkommen til Øygardsgrend!\n\nPub!\nNår klokka slår 21.00 vil vi åpne puben og det vil være mulighet for å nyte kald drikke og bevege litt på rockefoten\n Puben holder åpent til kl. 01.00.\n18/20 års aldersgrense
URL:https://uvdal.no/arrangement/snoscooter-treff-veteran-klassiker-samt-pub/
LOCATION:Fjellhandel Øygardsgrend\, Tunhovdvegen 66\, Rødberg\, 3630
ATTACH;FMTTYPE=image/jpeg:https://uvdal.no/wp-content/uploads/2023/03/Scooter-treff-i-Oygardsgrend.jpg
END:VEVENT
BEGIN:VEVENT
DTSTART;TZID=Europe/Oslo:20230318T140000
DTEND;TZID=Europe/Oslo:20230318T180000
DTSTAMP:20260425T210601
CREATED:20230216T131424Z
LAST-MODIFIED:20230306T142603Z
UID:5909-1679148000-1679162400@uvdal.no
SUMMARY:Tapas og livemusikk på Vasstulan
DESCRIPTION:Ta gjerne med deg en venn eller to til en sosial formiddag.\n\n\n\nDet blir tapas og live musikk i Bar 1100 lørdag 18.mars kl. 14 – 18.\n\n\n\n20 års grense. Pris kr. 375\,- (forhåndspåmelding: jorun@vasstulan.no)
URL:https://uvdal.no/arrangement/tapas-og-livemusikk-pa-vasstulan/
LOCATION:Vasstulan 1100\, Vasstulan 46\, Uvdal\, 3632\, Norge
ATTACH;FMTTYPE=image/jpeg:https://uvdal.no/wp-content/uploads/2023/02/Tapas-og-livemusikk-2023.jpg
ORGANIZER;CN="Vasstulan 1100":MAILTO:bestilling@vasstulan.no
END:VEVENT
BEGIN:VEVENT
DTSTART;TZID=Europe/Oslo:20230323T190000
DTEND;TZID=Europe/Oslo:20230323T190000
DTSTAMP:20260425T210601
CREATED:20230127T082200Z
LAST-MODIFIED:20230127T082210Z
UID:5383-1679598000-1679598000@uvdal.no
SUMMARY:Numedal spel og dansarlag inviterer til sang-kafé
DESCRIPTION:Velkommen til bygdetunet! \nI år der det 100 år siden landslaget for spelemenn\, nå FolkOrg\, var stifta. Vårt lokallag\, Numedal spel og dansarlag\, inviterer til sang-kafé på bygdetunet med utgangspunkt i sangboka «Ord og tonar – folkesong i Numedal.\nKl. 19:00\nBli med å syng!\n• Ingen krav om forkunnskaper\n• Lavterskel\n• For alle!\nGratis inngang
URL:https://uvdal.no/arrangement/numedal-spel-og-dansarlag-inviterer-til-sang-kafe/
LOCATION:Nore og Uvdal Bygdetun\, Fv122\, Nore og Uvdal\, 3632\, Norge
ATTACH;FMTTYPE=image/jpeg:https://uvdal.no/wp-content/uploads/2023/01/Bygdetunet-i-vinterdrakt.jpg
END:VEVENT
BEGIN:VEVENT
DTSTART;VALUE=DATE:20230325
DTEND;VALUE=DATE:20230326
DTSTAMP:20260425T210601
CREATED:20221111T132211Z
LAST-MODIFIED:20230123T100825Z
UID:4377-1679702400-1679788799@uvdal.no
SUMMARY:NM i rumpeakebrett 2023
DESCRIPTION:NM i rumpeakebrett 2023 nærmer seg med stormskritt!\n\n\nDet hele starter lørdag 25 mars!\n\n\nHusk forhåndspåmelding direkte her\n\n\n\nPlanleggingen av årets arrangement er i boks\, og det ligger an til råeste NM i rumpeakebrett noensinne!\n\n\n\n\n\n\n\nFølg med på Facebook for videre informasjon
URL:https://uvdal.no/arrangement/nm-i-rumpeakebrett-2023/
LOCATION:Uvdal Skisenter\, Uvdal\, 3632\, Norge
ATTACH;FMTTYPE=image/jpeg:https://uvdal.no/wp-content/uploads/2022/11/NM-Rumpeakebrett-2023.jpg
END:VEVENT
BEGIN:VEVENT
DTSTART;TZID=Europe/Oslo:20230325T140000
DTEND;TZID=Europe/Oslo:20230325T160000
DTSTAMP:20260425T210601
CREATED:20230321T075935Z
LAST-MODIFIED:20230321T075935Z
UID:6774-1679752800-1679760000@uvdal.no
SUMMARY:Strikkekafè på Solheimstulen Turisthytte
DESCRIPTION:Lørdag 25. mars inviterer vi på strikkekafé på Solheimstulen! \nTa med deg håndarbeidet ditt og bli med på en hyggelig formiddag her hos oss i peisestua. \nKafeen er åpen med servering av kaker og bakst \nVelkommen!
URL:https://uvdal.no/arrangement/strikkekafe-pa-solheimstulen-turisthytte/
LOCATION:Solheimstulen Turisthytte\, Jønndalsvegen 754\, Uvdal\, 3632
ATTACH;FMTTYPE=image/jpeg:https://uvdal.no/wp-content/uploads/2023/03/Strikkekafe-Solheimstulen.jpg
END:VEVENT
END:VCALENDAR