BEGIN:VCALENDAR
VERSION:2.0
PRODID:-//Uvdal - ECPv6.15.20//NONSGML v1.0//EN
CALSCALE:GREGORIAN
METHOD:PUBLISH
X-ORIGINAL-URL:https://uvdal.no
X-WR-CALDESC:Arrangement for Uvdal
REFRESH-INTERVAL;VALUE=DURATION:PT1H
X-Robots-Tag:noindex
X-PUBLISHED-TTL:PT1H
BEGIN:VTIMEZONE
TZID:Europe/Oslo
BEGIN:DAYLIGHT
TZOFFSETFROM:+0100
TZOFFSETTO:+0200
TZNAME:CEST
DTSTART:20220327T010000
END:DAYLIGHT
BEGIN:STANDARD
TZOFFSETFROM:+0200
TZOFFSETTO:+0100
TZNAME:CET
DTSTART:20221030T010000
END:STANDARD
BEGIN:DAYLIGHT
TZOFFSETFROM:+0100
TZOFFSETTO:+0200
TZNAME:CEST
DTSTART:20230326T010000
END:DAYLIGHT
BEGIN:STANDARD
TZOFFSETFROM:+0200
TZOFFSETTO:+0100
TZNAME:CET
DTSTART:20231029T010000
END:STANDARD
BEGIN:DAYLIGHT
TZOFFSETFROM:+0100
TZOFFSETTO:+0200
TZNAME:CEST
DTSTART:20240331T010000
END:DAYLIGHT
BEGIN:STANDARD
TZOFFSETFROM:+0200
TZOFFSETTO:+0100
TZNAME:CET
DTSTART:20241027T010000
END:STANDARD
END:VTIMEZONE
BEGIN:VEVENT
DTSTART;TZID=Europe/Oslo:20230105T080000
DTEND;TZID=Europe/Oslo:20230105T170000
DTSTAMP:20260426T000620
CREATED:20230105T113647Z
LAST-MODIFIED:20230105T113705Z
UID:5154-1672905600-1672938000@uvdal.no
SUMMARY:Familieleir uke 32 på Langedrag
DESCRIPTION:Gårdsferie med aktiviteter for hele familien\n\nTravel og opplevelsesrik uke for voksne og barn som er på leir sammen.\nAlt fra foreldre\, besteforeldre\, tanter\, onkler er hjertelig velkomne.\nVi lager et program fullt av læring og aktiviteter.\nMan får oppleve ulv og gaupe på nært hold\, og nærkontakt med fjellrev\, reinsdyr og elg. Naturnære opplevelser for både små og store.\n– Stell i stall og fjøs og i hundegården\n– Kos med kanin- og villsvinunger\n– Har du melket geiter?\n– Seterdag. Det blir ysting\, takkesteking\, sanking av nyttevekster og plantefarging\n– Riding\, balansekunst på hesteryggen\n– Natursti og klatrepark\n– Fjelltur med mulighet for kanopadling\, kullstiftbrenning og pinnebrødsteking.\nOg mye\, mye mer.\nVi legger vekt på et trygt\, sosialt miljø\n\nPriser:\nVoksen: kr. 6500\,-\nBarn 9-15 år kr. 4850\,-\nBarn 2-8 år kr. 4520\,-\n\nVi har også familieleir i uke 30 og i uke 32\n\nFor mer info og billetter se her
URL:https://uvdal.no/arrangement/familieleir-uke-32-pa-langedrag/
LOCATION:Langedrag Naturpark\, Tunhovd\, 3544
ATTACH;FMTTYPE=image/jpeg:https://uvdal.no/wp-content/uploads/2023/01/Familietid-pa-Langedrag.jpg
ORGANIZER;CN="Langedrag Naturpark":MAILTO:post@langedrag.no
END:VEVENT
BEGIN:VEVENT
DTSTART;TZID=Europe/Oslo:20230105T180000
DTEND;TZID=Europe/Oslo:20230105T210000
DTSTAMP:20260426T000620
CREATED:20221215T120706Z
LAST-MODIFIED:20221215T120706Z
UID:4923-1672941600-1672952400@uvdal.no
SUMMARY:Bygdetreff\, kortkveld
DESCRIPTION:Uvdal Bygdekvinnelag inviterer til bygdetreff.
URL:https://uvdal.no/arrangement/bygdetreff-kortkveld/
LOCATION:Uvdal herredshus
END:VEVENT
BEGIN:VEVENT
DTSTART;TZID=Europe/Oslo:20230107T110000
DTEND;TZID=Europe/Oslo:20230107T110000
DTSTAMP:20260426T000620
CREATED:20230105T120958Z
LAST-MODIFIED:20230105T121240Z
UID:5190-1673089200-1673089200@uvdal.no
SUMMARY:Smådølsprinten 2023
DESCRIPTION:Startprogram Smådølsprinten i rally 2023 \nProgram: \nKonkurransen holdes i samsvar med Det Internasjonale Sportsreglement og Det Nasjonale\, samt løpets tilleggsregler.\nLøpet avholdes lørdag 7.januar \, start og mål ved Smådøl motorsenter. \nStart kl. 11.00.\nBeskrivelse:\nLøpets lengde 43\,53 km\nTransport 23\,40 km\nSS – 3 stk 20\,13 km \nDe vil benytte seg av Sportity appen til forløpende resultater og meldinger til deltagere. \nFor mer info se her
URL:https://uvdal.no/arrangement/smadolsprinten-2023/
LOCATION:Smådøl Motorsenter\, Nore og Uvdal\, 3630
ATTACH;FMTTYPE=image/jpeg:https://uvdal.no/wp-content/uploads/2022/08/Bilcross-Smadol-1.jpg
END:VEVENT
BEGIN:VEVENT
DTSTART;VALUE=DATE:20230113
DTEND;VALUE=DATE:20230116
DTSTAMP:20260426T000620
CREATED:20221215T094531Z
LAST-MODIFIED:20221215T094552Z
UID:4910-1673568000-1673827199@uvdal.no
SUMMARY:NGS samling i Uvdal
DESCRIPTION:Rune Lundsør / Epic Boardshop skreddersyr en verdig samling for landets viktigste snowboardere i Uvdal Skisenter 13-15.jan.2023.\n\nUvdal er den perfekte arena å samles. Alle aktiviteter er sentrert i bunn av skisenteret. Vi bor i leiligheter i og rundt servicebygget i bunn av skisenteret. Her er også Epic Boardshop og Runes legendariske snowboardmuseum. Museumet blir tilholdssted kveldstid for middager\, øl\, samtaler og historier. Vi lukker lokalet kun for oss så vi kan styre på som vi vil.\nI bakken har vi nydelig park med airbag og minipipe\, men best av alt\, noe av landets bedre heisbaserte frikjøring. Så med lommekjente guider kan vi nesten love puddersvinger for alle nivå.\nGeriatrikerpakka koster kr 3.800\,- pr pers.\nDette inkluderer:\n– 2 netter overnatting i leiligheter og hytter i skisenteret\n– 2 dagers heiskort\n– Burgermiddag ved ankomst fredag\n– 2retters middag fra lokal catering lørdag\n– Pudderguide i delte grupper begge dager\n– Guidet museumstur med Rune\nAlle bor i 2mans rom. Ønsker du enerom\, betaler du kr 500\,- ekstra\nSengetøy er inkludert i prisen. Frokost ordner dere selv på leilighetene\nVi gleder oss til å ta dere imot\nPåmelding:\nSend følgende informasjon til: oldboys4ever@gmail.com\nNGS Samling Uvdal 13-15.jan 2023.\nNavn:\nAlder:\nTlf:\nØnsker å dele rom med :\nØnsker å dele leilighet med:\nSpesielle ønsker:\nCa nivå på kjøringen min (1-5):
URL:https://uvdal.no/arrangement/ngs-samling-i-uvdal/
LOCATION:Uvdal Skisenter\, Uvdal\, 3632\, Norge
ATTACH;FMTTYPE=image/jpeg:https://uvdal.no/wp-content/uploads/2022/12/NGS-samling-Uvdal-Skisenter.jpg
ORGANIZER;CN="Rune Lunds%C3%B8r og Torgrim Nordeidet":MAILTO:uvdal@epicboardshop.no
END:VEVENT
BEGIN:VEVENT
DTSTART;TZID=Europe/Oslo:20230119T180000
DTEND;TZID=Europe/Oslo:20230119T210000
DTSTAMP:20260426T000620
CREATED:20230116T082200Z
LAST-MODIFIED:20230116T083117Z
UID:5271-1674151200-1674162000@uvdal.no
SUMMARY:Bygdetreff og kortkveld!
DESCRIPTION:  \n \n  \n  \n  \n 
URL:https://uvdal.no/arrangement/kortkveld/
LOCATION:Uvdal herredshus
ATTACH;FMTTYPE=image/jpeg:https://uvdal.no/wp-content/uploads/2023/01/Kortkveld-Uvdal-Herredshus.jpg
END:VEVENT
BEGIN:VEVENT
DTSTART;TZID=Europe/Oslo:20230121T190000
DTEND;TZID=Europe/Oslo:20230121T203000
DTSTAMP:20260426T000620
CREATED:20230110T112623Z
LAST-MODIFIED:20230110T113102Z
UID:5233-1674327600-1674333000@uvdal.no
SUMMARY:Drolsum Stasjon på Rødberg for første gang!
DESCRIPTION:Bandet Drolsum Stasjon med konsert på Rødberg bibliotek.\n\nVi gleder oss til å besøke vår bassist Bjørn Wiggo Engens hjemsted og ser frem til å levere en heidundranes konsert for hans sambygdinger!\n\nDørene åpner kl. 18:30\nKonsertstart kl. 19:00\n\nBilletter kan kjøpes her \n\nSted: Rødberg bibliotek
URL:https://uvdal.no/arrangement/drolsum-stasjon-pa-rodberg-for-forste-gang/
LOCATION:Rødberg bibliotek\, Syljerudvegen 5\, Rødberg\, 3630
ATTACH;FMTTYPE=image/jpeg:https://uvdal.no/wp-content/uploads/2023/01/Droslum-konsert.jpg
END:VEVENT
BEGIN:VEVENT
DTSTART;TZID=Europe/Oslo:20230126T180000
DTEND;TZID=Europe/Oslo:20230126T180000
DTSTAMP:20260426T000620
CREATED:20230118T145303Z
LAST-MODIFIED:20230118T145424Z
UID:5302-1674756000-1674756000@uvdal.no
SUMMARY:Den gnistrende gaveåpningen
DESCRIPTION:På tapaskvelden 04.01.23 fikk alle kvinner i Nore og Uvdal industribygget på Rødberg i gave fra kommunen.\nVi ønsker alle kvinner i Nore og Uvdal velkommen til en felles gnistrende åpning av mulighetenes gave!\nHva skal bygget hete?\nHva ønsker vi å få til her?\n\nVelkommen til en trivelig og uhøytidelig kveld!\n 
URL:https://uvdal.no/arrangement/den-gnistrende-gaveapningen/
LOCATION:Industribygget\, sentrum Rødberg
ATTACH;FMTTYPE=image/jpeg:https://uvdal.no/wp-content/uploads/2023/01/Den-gnistrende-gaveapningen-1.jpg
END:VEVENT
BEGIN:VEVENT
DTSTART;TZID=Europe/Oslo:20230127T080000
DTEND;TZID=Europe/Oslo:20230127T170000
DTSTAMP:20260426T000620
CREATED:20230127T082719Z
LAST-MODIFIED:20230127T082908Z
UID:5388-1674806400-1674838800@uvdal.no
SUMMARY:I sporene på tungtvannssabotørene\, Vemork - Sverige\, 600 km på ski
DESCRIPTION:I samarbeid med HV Numedal inviterer vi til:\n«I sporene på tungtvannssabotørene\, Vemork – Sverige\, 600 km på ski»\nForfatter Tom Lium forteller om sabotørenes ferd til Sverige etter tungtvannsaksjonen.\nSkiløperne Bernt Lund og Håvard Rotegård kommer også\, de har nettopp gått ruta på ski.\nKaffe og kake\nKl.19:00\nInngang kr. 50\n\nVelkommen !
URL:https://uvdal.no/arrangement/i-sporene-pa-tungtvannssabotorene-vemork-sverige-600-km-pa-ski/
LOCATION:Nore og Uvdal Bygdetun\, Fv122\, Nore og Uvdal\, 3632\, Norge
ATTACH;FMTTYPE=image/jpeg:https://uvdal.no/wp-content/uploads/2023/01/Tungtvannsaksjonen-Bernt-Lund.jpg
END:VEVENT
BEGIN:VEVENT
DTSTART;TZID=Europe/Oslo:20230128T150000
DTEND;TZID=Europe/Oslo:20230128T150000
DTSTAMP:20260426T000620
CREATED:20221103T135632Z
LAST-MODIFIED:20230110T091254Z
UID:4259-1674918000-1674918000@uvdal.no
SUMMARY:Afternoon Tea til fjells!
DESCRIPTION:Vasstulan1100 inviterer til engelsk afternoon tea! \nhold av datoen lørdag 28 januar\, da dekker vi til en tradisjonell afternoon tea med sandwicher fylt med kortreiste fristelser\, scones\, søtsaker og vår egen Vasstulan te.\nPris per person er 300\,-\n\n\nBordbestilling: jorun@vasstulan.no
URL:https://uvdal.no/arrangement/bli-med-pa-afternoon-tea/
LOCATION:Vasstulan 1100\, Vasstulan 46\, Uvdal\, 3632\, Norge
ATTACH;FMTTYPE=image/jpeg:https://uvdal.no/wp-content/uploads/2022/11/Afternooen-Tea-Vasstulan1100.jpg
ORGANIZER;CN="Vasstulan 1100":MAILTO:bestilling@vasstulan.no
END:VEVENT
BEGIN:VEVENT
DTSTART;TZID=Europe/Oslo:20230130T160000
DTEND;TZID=Europe/Oslo:20230130T180000
DTSTAMP:20260426T000620
CREATED:20230127T115411Z
LAST-MODIFIED:20230127T122923Z
UID:5419-1675094400-1675101600@uvdal.no
SUMMARY:Vil du påvirke næringsutviklingen fremover?
DESCRIPTION:Høringsfrist vedrørende ny næringsplan i Nore og Uvdal er 10.februar.\n\nI den forbindelse ønsker vi å invitere til et åpent møte for å presentere hovedlinjene i planen.\n\nAgenda:\n– Nore og Uvdal kommune presenterer strategiene\, målene og delmålene i planen\n– Spørsmålsrunde og mulighet til å fremme innspill\n– Nore og Uvdal Næringsselskap og Buskerud Næringshage ser på mulighetene for å samle til felles innspill dersom dette er nødvendig.\n\nTid: Mandag 30.1.23 kl. 16:00-18:00\nSted: Rødberg Hotell\n\nEnkel bevertning med kaffe og kake\n\nVelkommen!
URL:https://uvdal.no/arrangement/vil-du-pavirke-naeringsutviklingen-fremover/
LOCATION:Rødberg hotell\, Rudisvingen 10\, Rødberg\, 3630\, Norge
ATTACH;FMTTYPE=image/jpeg:https://uvdal.no/wp-content/uploads/2023/01/NUS-og-BNH-arrangement.jpg
END:VEVENT
END:VCALENDAR