BEGIN:VCALENDAR
VERSION:2.0
PRODID:-//Uvdal - ECPv6.15.20//NONSGML v1.0//EN
CALSCALE:GREGORIAN
METHOD:PUBLISH
X-WR-CALNAME:Uvdal
X-ORIGINAL-URL:https://uvdal.no
X-WR-CALDESC:Arrangement for Uvdal
REFRESH-INTERVAL;VALUE=DURATION:PT1H
X-Robots-Tag:noindex
X-PUBLISHED-TTL:PT1H
BEGIN:VTIMEZONE
TZID:Europe/Oslo
BEGIN:DAYLIGHT
TZOFFSETFROM:+0100
TZOFFSETTO:+0200
TZNAME:CEST
DTSTART:20240331T010000
END:DAYLIGHT
BEGIN:STANDARD
TZOFFSETFROM:+0200
TZOFFSETTO:+0100
TZNAME:CET
DTSTART:20241027T010000
END:STANDARD
BEGIN:DAYLIGHT
TZOFFSETFROM:+0100
TZOFFSETTO:+0200
TZNAME:CEST
DTSTART:20250330T010000
END:DAYLIGHT
BEGIN:STANDARD
TZOFFSETFROM:+0200
TZOFFSETTO:+0100
TZNAME:CET
DTSTART:20251026T010000
END:STANDARD
BEGIN:DAYLIGHT
TZOFFSETFROM:+0100
TZOFFSETTO:+0200
TZNAME:CEST
DTSTART:20260329T010000
END:DAYLIGHT
BEGIN:STANDARD
TZOFFSETFROM:+0200
TZOFFSETTO:+0100
TZNAME:CET
DTSTART:20261025T010000
END:STANDARD
END:VTIMEZONE
BEGIN:VEVENT
DTSTART;TZID=Europe/Oslo:20250626T150000
DTEND;TZID=Europe/Oslo:20250918T190000
DTSTAMP:20260420T042848
CREATED:20250623T131742Z
LAST-MODIFIED:20250625T105744Z
UID:17876-1750950000-1758222000@uvdal.no
SUMMARY:Rødbergdammen rundt 2025
DESCRIPTION:Bli med på RØDBERGDAMMEN RUNDT \n\nDette er et lavterskel tilbud for ALLE som ønsker å delta!\nSlik foregår det:– Påmelding hos Sport 1 Rødberg mellom 15.00 og 19.00– Hver torsdag fom. 26.juni tom 18.september.– Gå så mange runder du vil.– Det er antall torsdager du har gått som telles for deltakelse.– Deltar du minst 5 torsdager er du sikret Rødbergdammen rundt kruset!\n\nMERK:– Få stempel hos Sport1 hver torsdag du deltar og gå innom Rødberg Hotell å få 10% på det du ønsker å spise eller drikke!– Rødberg Hotell holder «Låven» åpen og det er mulighet for å spille biljard\, dart\, skytesimulator og ha en hyggelig kveld i godt lag! Mat og drikke kan kjøpes oppe i restauranten (husk 10% ved stempel)– Benytt anledningen til å stikke innom våre flotte butikker i sentrum! De har masse fint å by på alle sammen! Har dere sjekket de ut?\n\nPremiering:– Hjembygdafestivalen; Arrangement på Statkraft onsdag 24.september.– Alle som deltar minst 5 torsdager får Rødbergdammen rundt kruset– Trekning blant alle deltakere på en større premie– Den/de som har deltatt alle torsdagene får en ekstra premie\n\nFor mer info følg arrangementet her\n\nTakk til Sport1 ved Nils Strømmen og Rødberg Hotell ved Nils Vøllo for bra initiativ og ønske om å skape en levende bygd og et levende sentrum\, og som sammen med Bygdeutvikler Lars Granhaug og Torun Thorson Kolstad fra Nore og Uvdal Næringsselskap får det til å gå fra tanke til handling!
URL:https://uvdal.no/arrangement/rodbergdammen-rundt-2025/
LOCATION:Rødbergdammen\, Rødberg\, 3630
ATTACH;FMTTYPE=image/jpeg:https://uvdal.no/wp-content/uploads/2025/06/Rodbergdammen-rundt.jpg
END:VEVENT
BEGIN:VEVENT
DTSTART;VALUE=DATE:20250627
DTEND;VALUE=DATE:20250629
DTSTAMP:20260420T042848
CREATED:20250314T123852Z
LAST-MODIFIED:20250505T093652Z
UID:17338-1750982400-1751155199@uvdal.no
SUMMARY:Rødebergdagene 2025
DESCRIPTION:Rødbergdagene er 27.juni og 28.juni.\n\nHold av datoen!\n\nI år blir det kjempe god stemning da vi får besøk av blant annet DJ Walkie fra A Walk In The Park.En stemningsfull dag for barn og voksne.\nDet blir tradisjonstro moteshow\, fiskekonkurranse og mye mer.\n\nMer info kommer\, følg med oss på Facebook\n\nKunne du tenke deg å være utstiller?\nTa kontakt med oss og på e-post:post@uvdal.no\nEller ring: 905 13 021/ Leder av Rødberg Handelsstand
URL:https://uvdal.no/arrangement/rodebergdagene-2025/
LOCATION:Rødberg sentrum
ATTACH;FMTTYPE=image/jpeg:https://uvdal.no/wp-content/uploads/2025/03/Rodbergdagene-2025.jpg
END:VEVENT
BEGIN:VEVENT
DTSTART;TZID=Europe/Oslo:20250628T100000
DTEND;TZID=Europe/Oslo:20250628T153000
DTSTAMP:20260420T042848
CREATED:20250519T081839Z
LAST-MODIFIED:20250519T083125Z
UID:17747-1751104800-1751124600@uvdal.no
SUMMARY:DJ Walkie On Tour Uvdal
DESCRIPTION:Dette blir gøy for barna! \n  \nDJ Walkie kommer til Rødbergdagene og gleder seg masse \nHan tar med seg noen aktiviteter på turnéen\, både Bigfoot\, kjepphest og sekkeløp. \nFor mer informasjon om » A Walk in the park» se her på nettsiden deres \nArrangement av A Walk in the Park Norge\, Uvdal og Rødberg \n  \n 
URL:https://uvdal.no/arrangement/dj-walkie-on-tour-uvdal/
LOCATION:Rødberg sentrum
ATTACH;FMTTYPE=image/jpeg:https://uvdal.no/wp-content/uploads/2025/05/DJ-Walkie-in-tour-Uvdal.jpg
END:VEVENT
END:VCALENDAR