BEGIN:VCALENDAR
VERSION:2.0
PRODID:-//Uvdal - ECPv6.15.20//NONSGML v1.0//EN
CALSCALE:GREGORIAN
METHOD:PUBLISH
X-WR-CALNAME:Uvdal
X-ORIGINAL-URL:https://uvdal.no
X-WR-CALDESC:Arrangement for Uvdal
REFRESH-INTERVAL;VALUE=DURATION:PT1H
X-Robots-Tag:noindex
X-PUBLISHED-TTL:PT1H
BEGIN:VTIMEZONE
TZID:Europe/Oslo
BEGIN:DAYLIGHT
TZOFFSETFROM:+0100
TZOFFSETTO:+0200
TZNAME:CEST
DTSTART:20240331T010000
END:DAYLIGHT
BEGIN:STANDARD
TZOFFSETFROM:+0200
TZOFFSETTO:+0100
TZNAME:CET
DTSTART:20241027T010000
END:STANDARD
BEGIN:DAYLIGHT
TZOFFSETFROM:+0100
TZOFFSETTO:+0200
TZNAME:CEST
DTSTART:20250330T010000
END:DAYLIGHT
BEGIN:STANDARD
TZOFFSETFROM:+0200
TZOFFSETTO:+0100
TZNAME:CET
DTSTART:20251026T010000
END:STANDARD
BEGIN:DAYLIGHT
TZOFFSETFROM:+0100
TZOFFSETTO:+0200
TZNAME:CEST
DTSTART:20260329T010000
END:DAYLIGHT
BEGIN:STANDARD
TZOFFSETFROM:+0200
TZOFFSETTO:+0100
TZNAME:CET
DTSTART:20261025T010000
END:STANDARD
END:VTIMEZONE
BEGIN:VEVENT
DTSTART;TZID=Europe/Oslo:20250531T100000
DTEND;TZID=Europe/Oslo:20250601T170000
DTSTAMP:20260420T025617
CREATED:20250321T134223Z
LAST-MODIFIED:20250321T134223Z
UID:17390-1748685600-1748797200@uvdal.no
SUMMARY:Kurs i dyrking og selvforsyning
DESCRIPTION:Velkommen til kurs i dyrking og selvberging på Sevletunet i Numedal 31 mai – 1.juni.\n\nI løpet av kurset vil dere lære om blant annet dette:– Matauk– Sanking i naturen– Konservering– Gjenbruk– Effektiv bruk av energi og vann i hverdagen– Minimering av bruk av unødvendige kjemikalier og miljøgifter– Ombruk\, flerbruk\, sambruk– Beredskapslager– Samarbeid og langsiktig tenkning– Lag din egen jord og gjødsel– Lag egne giftfrie rengjøringsmidler\, myggolje og skadedyrmiddel– Kjærringråd og gammel kunnskap– Smarte tips og nyttige triks til enklere gjennomføring\n\nEnkel bevertning.\n\nTa med:– Skrivesaker\nKapasitet / overnattingsplasser: 20 personer i tosengsrom / dobbeltrom på gården.\nMed forbehold om små endringer i opplegg og klokkesletter.\n\n– Sett av datoen. Mer informasjon om booking\, tidspunkter\, pris og kursholdere kommer –
URL:https://uvdal.no/arrangement/kurs-i-dyrking-og-selvforsyning/
LOCATION:Sevletunet Gjestegård
ATTACH;FMTTYPE=image/jpeg:https://uvdal.no/wp-content/uploads/2025/03/Kurs-Sevletunet-om-sanking.jpg
END:VEVENT
END:VCALENDAR