BEGIN:VCALENDAR
VERSION:2.0
PRODID:-//Uvdal - ECPv6.15.20//NONSGML v1.0//EN
CALSCALE:GREGORIAN
METHOD:PUBLISH
X-ORIGINAL-URL:https://uvdal.no
X-WR-CALDESC:Arrangement for Uvdal
REFRESH-INTERVAL;VALUE=DURATION:PT1H
X-Robots-Tag:noindex
X-PUBLISHED-TTL:PT1H
BEGIN:VTIMEZONE
TZID:Europe/Oslo
BEGIN:DAYLIGHT
TZOFFSETFROM:+0100
TZOFFSETTO:+0200
TZNAME:CEST
DTSTART:20240331T010000
END:DAYLIGHT
BEGIN:STANDARD
TZOFFSETFROM:+0200
TZOFFSETTO:+0100
TZNAME:CET
DTSTART:20241027T010000
END:STANDARD
BEGIN:DAYLIGHT
TZOFFSETFROM:+0100
TZOFFSETTO:+0200
TZNAME:CEST
DTSTART:20250330T010000
END:DAYLIGHT
BEGIN:STANDARD
TZOFFSETFROM:+0200
TZOFFSETTO:+0100
TZNAME:CET
DTSTART:20251026T010000
END:STANDARD
BEGIN:DAYLIGHT
TZOFFSETFROM:+0100
TZOFFSETTO:+0200
TZNAME:CEST
DTSTART:20260329T010000
END:DAYLIGHT
BEGIN:STANDARD
TZOFFSETFROM:+0200
TZOFFSETTO:+0100
TZNAME:CET
DTSTART:20261025T010000
END:STANDARD
END:VTIMEZONE
BEGIN:VEVENT
DTSTART;TZID=Europe/Oslo:20250424T190000
DTEND;TZID=Europe/Oslo:20250424T190000
DTSTAMP:20260420T064108
CREATED:20250107T095955Z
LAST-MODIFIED:20250116T140554Z
UID:16919-1745521200-1745521200@uvdal.no
SUMMARY:Tvangsevakueringen av Finnmark - flyktninger til Uvdal under andre verdenskrig
DESCRIPTION:Hvert år minnes vi andre verdenskrig på bygdetunet\, nå er det kanskje viktigere enn noen gang å ikke glemme. \nTvangsevakueringen av Finnmark førte til at det kom flyktninger til Uvdal under krigen. \nVi formidler lokale historier om dette. Håper også at det kommer noen som husker familiene og som kan fortelle noe om denne tiden. v/ Gro Kollandsrud. \nNore og Uvdal bygdetun \n 
URL:https://uvdal.no/arrangement/tvangsevakueringen-av-finnmark-flyktninger-til-uvdal-under-andre-verdenskrig/
LOCATION:Nore og  Uvdal bygdetun
ATTACH;FMTTYPE=image/jpeg:https://uvdal.no/wp-content/uploads/2023/01/Nore-og-Uvdal-bygdetun-og-stavkirke.jpg
END:VEVENT
END:VCALENDAR