BEGIN:VCALENDAR
VERSION:2.0
PRODID:-//Uvdal - ECPv6.15.20//NONSGML v1.0//EN
CALSCALE:GREGORIAN
METHOD:PUBLISH
X-WR-CALNAME:Uvdal
X-ORIGINAL-URL:https://uvdal.no
X-WR-CALDESC:Arrangement for Uvdal
REFRESH-INTERVAL;VALUE=DURATION:PT1H
X-Robots-Tag:noindex
X-PUBLISHED-TTL:PT1H
BEGIN:VTIMEZONE
TZID:Europe/Oslo
BEGIN:DAYLIGHT
TZOFFSETFROM:+0100
TZOFFSETTO:+0200
TZNAME:CEST
DTSTART:20240331T010000
END:DAYLIGHT
BEGIN:STANDARD
TZOFFSETFROM:+0200
TZOFFSETTO:+0100
TZNAME:CET
DTSTART:20241027T010000
END:STANDARD
BEGIN:DAYLIGHT
TZOFFSETFROM:+0100
TZOFFSETTO:+0200
TZNAME:CEST
DTSTART:20250330T010000
END:DAYLIGHT
BEGIN:STANDARD
TZOFFSETFROM:+0200
TZOFFSETTO:+0100
TZNAME:CET
DTSTART:20251026T010000
END:STANDARD
BEGIN:DAYLIGHT
TZOFFSETFROM:+0100
TZOFFSETTO:+0200
TZNAME:CEST
DTSTART:20260329T010000
END:DAYLIGHT
BEGIN:STANDARD
TZOFFSETFROM:+0200
TZOFFSETTO:+0100
TZNAME:CET
DTSTART:20261025T010000
END:STANDARD
END:VTIMEZONE
BEGIN:VEVENT
DTSTART;TZID=Europe/Oslo:20250411T000000
DTEND;TZID=Europe/Oslo:20250421T000000
DTSTAMP:20260420T063942
CREATED:20250411T090154Z
LAST-MODIFIED:20250411T090154Z
UID:17521-1744329600-1745193600@uvdal.no
SUMMARY:Påskefeiring med Uvdal Skisenter
DESCRIPTION:Velkommen til fjells i vårt skisenter\, øverst i Uvdal. \n  \nGjennom uka skjer det ulike aktiviteter for store og små. \nÅpningstider: \n\nÅpent hver dag\, varmestua er åpen så lenge heisen er åpen.\n\nHer er hva som skjer i påsken:⬇️ \n \n 
URL:https://uvdal.no/arrangement/paskefeiring-med-uvdal-skisenter/
LOCATION:Uvdal Skisenter\, Uvdal\, 3632\, Norge
ATTACH;FMTTYPE=image/jpeg:https://uvdal.no/wp-content/uploads/2022/01/uvdalskisenter.jpeg
END:VEVENT
BEGIN:VEVENT
DTSTART;VALUE=DATE:20250411
DTEND;VALUE=DATE:20250422
DTSTAMP:20260420T063942
CREATED:20250310T084401Z
LAST-MODIFIED:20250411T090406Z
UID:17290-1744329600-1745279999@uvdal.no
SUMMARY:Påsken på Torsetlia
DESCRIPTION:Velkommen til en deilig påske på Torsetlia!\n\nVi gleder oss til nok en fin påske på Dagalifjell\, og det er fortsatt mulig å booke rom\, hytter og leiligheter.\nFor opphold i leiligheter og hytter gir vi 10% rabatt ved bestillinger for 4 døgn eller mer.\nSe  Torsetlia Fjellstue for  online bookingside og mer info.\n\nDette skjer hos oss i påsken:\n–  Smak våre hjemmelagde kanelboller og nystekte vafler i vår Fjellcafé. Åpningstider 12.04 – 20.4: kl. 12-16.\n–  Påskeeggjakt 12.04 – 20.04. Finn våre bortgjemte påskeegg med bokstaver på. Finn riktig ord\, og vær med i trekningen av et stort påskeegg. En vinner trekkes 20.04 kl. 15 på vår Facebookside. Jakten starter i resepsjonen og er åpent for alle. Tvi tvi!\n–  Påskeskirenn for hele familien Påskeaften 19.04 kl. 14.30. Premie til alle deltagere. Premieutdeling så raskt som mulig etter arrangementslutt i peisestua. Påmelding i resepsjonen\, per e-post eller via telefon. Oppmøtested er i bakken ovenfor Torsetlia.\nSe video fra tidligere skirenn her på Youtube Torsetlia\n\nPåskebuffet Påskeaften 19.04 kl. 19.00. Buffet inneholder flere typer varmmat\, koldtbord med fiske- og kjøttretter\, tilbehør og desserter.\nPåmelding til post@torsetlia.no innen 18.04 kl. 16.00.\nVoksen (fra 13 år): 595\,- Ungdom (10-12 år): 300\,- Barn (5-9 år): 150\,- 0-4 år: Gratis.\nDet er også mulig å bestille middag andre kvelder.\n\nVelkommen til fjells!
URL:https://uvdal.no/arrangement/pasken-pa-torsetlia-3/
LOCATION:Torsetlia Fjellstue
ATTACH;FMTTYPE=image/jpeg:https://uvdal.no/wp-content/uploads/2025/03/pasken-pa-Torsetlia-2025.jpg
ORGANIZER;CN="Torsetlia Fjellstue og Hyttegrend":MAILTO:post@torsetlia.no
END:VEVENT
END:VCALENDAR