BEGIN:VCALENDAR
VERSION:2.0
PRODID:-//Uvdal - ECPv6.15.20//NONSGML v1.0//EN
CALSCALE:GREGORIAN
METHOD:PUBLISH
X-ORIGINAL-URL:https://uvdal.no
X-WR-CALDESC:Arrangement for Uvdal
REFRESH-INTERVAL;VALUE=DURATION:PT1H
X-Robots-Tag:noindex
X-PUBLISHED-TTL:PT1H
BEGIN:VTIMEZONE
TZID:Europe/Oslo
BEGIN:DAYLIGHT
TZOFFSETFROM:+0100
TZOFFSETTO:+0200
TZNAME:CEST
DTSTART:20240331T010000
END:DAYLIGHT
BEGIN:STANDARD
TZOFFSETFROM:+0200
TZOFFSETTO:+0100
TZNAME:CET
DTSTART:20241027T010000
END:STANDARD
BEGIN:DAYLIGHT
TZOFFSETFROM:+0100
TZOFFSETTO:+0200
TZNAME:CEST
DTSTART:20250330T010000
END:DAYLIGHT
BEGIN:STANDARD
TZOFFSETFROM:+0200
TZOFFSETTO:+0100
TZNAME:CET
DTSTART:20251026T010000
END:STANDARD
BEGIN:DAYLIGHT
TZOFFSETFROM:+0100
TZOFFSETTO:+0200
TZNAME:CEST
DTSTART:20260329T010000
END:DAYLIGHT
BEGIN:STANDARD
TZOFFSETFROM:+0200
TZOFFSETTO:+0100
TZNAME:CET
DTSTART:20261025T010000
END:STANDARD
END:VTIMEZONE
BEGIN:VEVENT
DTSTART;TZID=Europe/Oslo:20250317T180000
DTEND;TZID=Europe/Oslo:20250317T180000
DTSTAMP:20260420T082428
CREATED:20250304T123639Z
LAST-MODIFIED:20250304T134006Z
UID:17272-1742234400-1742234400@uvdal.no
SUMMARY:Temakveld om kjemikaliefriehjem!
DESCRIPTION:Uvdal Bygdekvinnelag & D UNIKE! inviterer til temakveld om kjemikaliefrie hjem. \n\nD UNIKE! holder et lite foredrag om de populære produktene fra C Soaps. \nDu for også kjøpe med deg de fine produktene.\n\nUvdal Bygdekvinnelag serverer gratis kaffe & kaker. \n-Sted:\nUvdal Herredshus\n– Tidspunkt: Mandag 17.mars \, kl. 18.00\n\nGratis inngang\n\nVelkommen til en hyggelig kveld!\nVi gleder oss
URL:https://uvdal.no/arrangement/temakveld-om-kjemikaliefriehjem/
LOCATION:Uvdal herredshus
ATTACH;FMTTYPE=image/jpeg:https://uvdal.no/wp-content/uploads/2025/03/Temakveld-D-Unike-og-Uvdal-Herredshus.jpg
END:VEVENT
END:VCALENDAR