BEGIN:VCALENDAR
VERSION:2.0
PRODID:-//Uvdal - ECPv6.15.20//NONSGML v1.0//EN
CALSCALE:GREGORIAN
METHOD:PUBLISH
X-WR-CALNAME:Uvdal
X-ORIGINAL-URL:https://uvdal.no
X-WR-CALDESC:Arrangement for Uvdal
REFRESH-INTERVAL;VALUE=DURATION:PT1H
X-Robots-Tag:noindex
X-PUBLISHED-TTL:PT1H
BEGIN:VTIMEZONE
TZID:Europe/Oslo
BEGIN:DAYLIGHT
TZOFFSETFROM:+0100
TZOFFSETTO:+0200
TZNAME:CEST
DTSTART:20240331T010000
END:DAYLIGHT
BEGIN:STANDARD
TZOFFSETFROM:+0200
TZOFFSETTO:+0100
TZNAME:CET
DTSTART:20241027T010000
END:STANDARD
BEGIN:DAYLIGHT
TZOFFSETFROM:+0100
TZOFFSETTO:+0200
TZNAME:CEST
DTSTART:20250330T010000
END:DAYLIGHT
BEGIN:STANDARD
TZOFFSETFROM:+0200
TZOFFSETTO:+0100
TZNAME:CET
DTSTART:20251026T010000
END:STANDARD
BEGIN:DAYLIGHT
TZOFFSETFROM:+0100
TZOFFSETTO:+0200
TZNAME:CEST
DTSTART:20260329T010000
END:DAYLIGHT
BEGIN:STANDARD
TZOFFSETFROM:+0200
TZOFFSETTO:+0100
TZNAME:CET
DTSTART:20261025T010000
END:STANDARD
END:VTIMEZONE
BEGIN:VEVENT
DTSTART;TZID=Europe/Oslo:20250315T203000
DTEND;TZID=Europe/Oslo:20250315T203000
DTSTAMP:20260420T082134
CREATED:20250304T121942Z
LAST-MODIFIED:20250304T122147Z
UID:17264-1742070600-1742070600@uvdal.no
SUMMARY:Allmenquiz på Solheimstulen
DESCRIPTION:Allmennquiz  på Solheimstulen Høyfjellstue starter kl. 20:30! \nGratis deltakelse\, åpen for alle\, bare ta med deg kunnskap og godt humør !\n\nDrop-in badstu holdes varm fra kl. 17:00 (dusj tilgjengelig) og 3-retters middag serveres kl. 19:00.\nBestilling av overnatting: www.solheimstulen.dnt.no\nBestilling av middag: solheimstulen@dnt.no eller 90274014.\n\nVi gleder oss!
URL:https://uvdal.no/arrangement/allmenquiz-pa-solheimstulen/
LOCATION:Solheimstulen Turisthytte\, Jønndalsvegen 754\, Uvdal\, 3632
ATTACH;FMTTYPE=image/jpeg:https://uvdal.no/wp-content/uploads/2025/03/Solheimstulen-quiz-time.jpg
END:VEVENT
END:VCALENDAR