BEGIN:VCALENDAR
VERSION:2.0
PRODID:-//Uvdal - ECPv6.15.20//NONSGML v1.0//EN
CALSCALE:GREGORIAN
METHOD:PUBLISH
X-ORIGINAL-URL:https://uvdal.no
X-WR-CALDESC:Arrangement for Uvdal
REFRESH-INTERVAL;VALUE=DURATION:PT1H
X-Robots-Tag:noindex
X-PUBLISHED-TTL:PT1H
BEGIN:VTIMEZONE
TZID:Europe/Oslo
BEGIN:DAYLIGHT
TZOFFSETFROM:+0100
TZOFFSETTO:+0200
TZNAME:CEST
DTSTART:20240331T010000
END:DAYLIGHT
BEGIN:STANDARD
TZOFFSETFROM:+0200
TZOFFSETTO:+0100
TZNAME:CET
DTSTART:20241027T010000
END:STANDARD
BEGIN:DAYLIGHT
TZOFFSETFROM:+0100
TZOFFSETTO:+0200
TZNAME:CEST
DTSTART:20250330T010000
END:DAYLIGHT
BEGIN:STANDARD
TZOFFSETFROM:+0200
TZOFFSETTO:+0100
TZNAME:CET
DTSTART:20251026T010000
END:STANDARD
BEGIN:DAYLIGHT
TZOFFSETFROM:+0100
TZOFFSETTO:+0200
TZNAME:CEST
DTSTART:20260329T010000
END:DAYLIGHT
BEGIN:STANDARD
TZOFFSETFROM:+0200
TZOFFSETTO:+0100
TZNAME:CET
DTSTART:20261025T010000
END:STANDARD
END:VTIMEZONE
BEGIN:VEVENT
DTSTART;VALUE=DATE:20250301
DTEND;VALUE=DATE:20250302
DTSTAMP:20260420T082428
CREATED:20250116T142214Z
LAST-MODIFIED:20250224T141623Z
UID:16974-1740787200-1740873599@uvdal.no
SUMMARY:Numedalsrally 2025
DESCRIPTION:Vi gleder oss fartsfylt Numedalsrally lørdag 1. mars 2025!  \n  \nSportskomiteen er i gang med planleggingen! \nFor mer info se NMK Nore og Uvdal hjemmeside \nVi gleder oss\, håper mange blir med på moroa ute langs løypa og i sentrum av Rødberg. \nFoto: Arkiv NMK
URL:https://uvdal.no/arrangement/numedalsrally/
LOCATION:Rødberg
ATTACH;FMTTYPE=image/jpeg:https://uvdal.no/wp-content/uploads/2025/01/Numedalsrally25-til-logo-scaled.jpg
END:VEVENT
BEGIN:VEVENT
DTSTART;TZID=Europe/Oslo:20250301T100000
DTEND;TZID=Europe/Oslo:20250301T160000
DTSTAMP:20260420T082428
CREATED:20250123T110923Z
LAST-MODIFIED:20250123T111053Z
UID:17026-1740823200-1740844800@uvdal.no
SUMMARY:Numedalsrally 1 mars Rødberg sentrum
DESCRIPTION:Rødberg sentrum ønsker velkommen til Numedalsrally 2025\n\nHele sentrum er festklare og gleder oss til årets arrangement!\nDet blir bålpanner\, god stemning og mange gode tilbud i butikkene.\n\nÅpningstid: \n– Fredag 28.februarAlle butikkene i Rødberg holder langåpent Fra kl.10.00-19.00\n\n– Lørdag 1.marsButikkene er åpne fra kl.10.00-16.00\n\nRødberg Hotell arrangerer årets rallyfest lørdagskveld\, for mer informasjon se her på deres Facebookside \n\nVelkommen til Rødberg!
URL:https://uvdal.no/arrangement/numedalsrally-1-mars-rodberg-sentrum/
LOCATION:Rødberg sentrum
ATTACH;FMTTYPE=image/jpeg:https://uvdal.no/wp-content/uploads/2025/01/Rally-Numedal.jpg
END:VEVENT
BEGIN:VEVENT
DTSTART;TZID=Europe/Oslo:20250301T213000
DTEND;TZID=Europe/Oslo:20250301T213000
DTSTAMP:20260420T082428
CREATED:20250219T134044Z
LAST-MODIFIED:20250219T134104Z
UID:17180-1740864600-1740864600@uvdal.no
SUMMARY:Rallyfest på Rødberg hotell
DESCRIPTION:Numedalsrally er lørdag 1. mars.\n\n Bli med på rallyfest med live musikk på Rødberg hotell. Dato: 1. mars 2025 Tid: Fra kl. 21:30 Sted: Rødberg Hotell Aldersgrense: 20 år\n\nVelkommen til en fin kveld hos oss!
URL:https://uvdal.no/arrangement/rallyfest-pa-rodberg-hotell-2/
LOCATION:Rødberg hotell\, Rudisvingen 10\, Rødberg\, 3630\, Norge
ATTACH;FMTTYPE=image/jpeg:https://uvdal.no/wp-content/uploads/2024/09/Logo-sommer-Rodberg-hotell-2024.jpg
END:VEVENT
END:VCALENDAR