BEGIN:VCALENDAR
VERSION:2.0
PRODID:-//Uvdal - ECPv6.15.20//NONSGML v1.0//EN
CALSCALE:GREGORIAN
METHOD:PUBLISH
X-WR-CALNAME:Uvdal
X-ORIGINAL-URL:https://uvdal.no
X-WR-CALDESC:Arrangement for Uvdal
REFRESH-INTERVAL;VALUE=DURATION:PT1H
X-Robots-Tag:noindex
X-PUBLISHED-TTL:PT1H
BEGIN:VTIMEZONE
TZID:Europe/Oslo
BEGIN:DAYLIGHT
TZOFFSETFROM:+0100
TZOFFSETTO:+0200
TZNAME:CEST
DTSTART:20240331T010000
END:DAYLIGHT
BEGIN:STANDARD
TZOFFSETFROM:+0200
TZOFFSETTO:+0100
TZNAME:CET
DTSTART:20241027T010000
END:STANDARD
BEGIN:DAYLIGHT
TZOFFSETFROM:+0100
TZOFFSETTO:+0200
TZNAME:CEST
DTSTART:20250330T010000
END:DAYLIGHT
BEGIN:STANDARD
TZOFFSETFROM:+0200
TZOFFSETTO:+0100
TZNAME:CET
DTSTART:20251026T010000
END:STANDARD
BEGIN:DAYLIGHT
TZOFFSETFROM:+0100
TZOFFSETTO:+0200
TZNAME:CEST
DTSTART:20260329T010000
END:DAYLIGHT
BEGIN:STANDARD
TZOFFSETFROM:+0200
TZOFFSETTO:+0100
TZNAME:CET
DTSTART:20261025T010000
END:STANDARD
END:VTIMEZONE
BEGIN:VEVENT
DTSTART;TZID=Europe/Oslo:20250118T110000
DTEND;TZID=Europe/Oslo:20250118T140000
DTSTAMP:20260420T113648
CREATED:20250113T092257Z
LAST-MODIFIED:20250113T092257Z
UID:16952-1737198000-1737208800@uvdal.no
SUMMARY:Kom deg ut på dagen\, hele Norge båler!
DESCRIPTION:Kom deg ut dagen – hele Norge båler!\n\nBli med på en fantastisk utendørs dag med Barnas Turlag! Vi inviterer alle barn og familier til en morsom og aktiv dag på isen\, rundt bålet og på ski.\nEnten du er nybegynner eller en erfaren på ski og skøyter eller bare elsker å være ute i naturen\, vil dette bli en dag fylt med eventyr og glede!\nKom akkurat når du vil\, aktivitetene er ikke til faste tidspunkt. Gjør det dere har lyst til når dere vil .\nHvor:\n-Vi har base og bål ved Norehallen på Norefjord. Her er det kort vei til både lysløype og skøytebanen.\n\nTa med:\n– Skøyter og hjelm\,ski eller begge deler. Det finnes noe skøyteutstyr til låns ved banen men har du eget ta med dette\n– Klær etter vær og forhold\n– Noe å sitte på\n– Alle barna får pølse med tilbehør til bålet men ta med drikke og annen mat om dere ønsker\n\nVi sees til en minnerik tur – sammen skaper vi magiske øyeblikk!
URL:https://uvdal.no/arrangement/kom-deg-ut-pa-dagen-hele-norge-baler/
LOCATION:Norefjord
ATTACH;FMTTYPE=image/jpeg:https://uvdal.no/wp-content/uploads/2025/01/Barnas-Turlag-2025.jpg
END:VEVENT
END:VCALENDAR