BEGIN:VCALENDAR
VERSION:2.0
PRODID:-//Uvdal - ECPv6.15.20//NONSGML v1.0//EN
CALSCALE:GREGORIAN
METHOD:PUBLISH
X-ORIGINAL-URL:https://uvdal.no
X-WR-CALDESC:Arrangement for Uvdal
REFRESH-INTERVAL;VALUE=DURATION:PT1H
X-Robots-Tag:noindex
X-PUBLISHED-TTL:PT1H
BEGIN:VTIMEZONE
TZID:Europe/Oslo
BEGIN:DAYLIGHT
TZOFFSETFROM:+0100
TZOFFSETTO:+0200
TZNAME:CEST
DTSTART:20230326T010000
END:DAYLIGHT
BEGIN:STANDARD
TZOFFSETFROM:+0200
TZOFFSETTO:+0100
TZNAME:CET
DTSTART:20231029T010000
END:STANDARD
BEGIN:DAYLIGHT
TZOFFSETFROM:+0100
TZOFFSETTO:+0200
TZNAME:CEST
DTSTART:20240331T010000
END:DAYLIGHT
BEGIN:STANDARD
TZOFFSETFROM:+0200
TZOFFSETTO:+0100
TZNAME:CET
DTSTART:20241027T010000
END:STANDARD
BEGIN:DAYLIGHT
TZOFFSETFROM:+0100
TZOFFSETTO:+0200
TZNAME:CEST
DTSTART:20250330T010000
END:DAYLIGHT
BEGIN:STANDARD
TZOFFSETFROM:+0200
TZOFFSETTO:+0100
TZNAME:CET
DTSTART:20251026T010000
END:STANDARD
BEGIN:DAYLIGHT
TZOFFSETFROM:+0100
TZOFFSETTO:+0200
TZNAME:CEST
DTSTART:20260329T010000
END:DAYLIGHT
BEGIN:STANDARD
TZOFFSETFROM:+0200
TZOFFSETTO:+0100
TZNAME:CET
DTSTART:20261025T010000
END:STANDARD
END:VTIMEZONE
BEGIN:VEVENT
DTSTART;VALUE=DATE:20241226
DTEND;VALUE=DATE:20250102
DTSTAMP:20260420T114111
CREATED:20241105T094437Z
LAST-MODIFIED:20241105T100207Z
UID:16764-1735171200-1735775999@uvdal.no
SUMMARY:Romjul og nyttår på Torsetlia
DESCRIPTION:Hvorfor tilbringe romjulen og nyttår på Torsetlia Fjellstue og Hyttegrend?\n\n–  Romjulsrebus for hele familien. Bli med i trekningen av flere gavekort. Vinner trekkes 01.01 kl. 15.00 på vår Facebookside.\n–  Smak våre kjente og hjemmelagde kanelboller og nystekte vafler i fjellcaféen.\nÅpningstider: https://torsetlia.no/apningstider/\n–  Ikke gå glipp av vår nyttårsbuffet på nyttårsaften etterfulgt av raketter kl. 00.00. Det er også mulig å bestille middag andre dager.\nLes mer her: https://torsetlia.no/vi-tilbyr/\n\n–  Unn dere litt ekstra med å leie hytte med utendørs boblebad. Vi har også andre hytter\, leiligheter og rom til utleie. Alt etter deres behov.\n–  Ferske langrennsløyper rett utenfor døren.\n–  Kun en kort kjøretur unna skisentre i Uvdal\, Dagali og Geilo.\n–  Norges lengste preparerte kjelkebakke i Dagali. Andre spennende aktiviteter i nærområdet.\n\nVelkommen innom!
URL:https://uvdal.no/arrangement/romjul-og-nyttar-pa-torsetlia/
LOCATION:Torsetlia Fjellstue
ORGANIZER;CN="Torsetlia Fjellstue og Hyttegrend":MAILTO:post@torsetlia.no
END:VEVENT
END:VCALENDAR