BEGIN:VCALENDAR
VERSION:2.0
PRODID:-//Uvdal - ECPv6.15.20//NONSGML v1.0//EN
CALSCALE:GREGORIAN
METHOD:PUBLISH
X-WR-CALNAME:Uvdal
X-ORIGINAL-URL:https://uvdal.no
X-WR-CALDESC:Arrangement for Uvdal
REFRESH-INTERVAL;VALUE=DURATION:PT1H
X-Robots-Tag:noindex
X-PUBLISHED-TTL:PT1H
BEGIN:VTIMEZONE
TZID:Europe/Oslo
BEGIN:DAYLIGHT
TZOFFSETFROM:+0100
TZOFFSETTO:+0200
TZNAME:CEST
DTSTART:20230326T010000
END:DAYLIGHT
BEGIN:STANDARD
TZOFFSETFROM:+0200
TZOFFSETTO:+0100
TZNAME:CET
DTSTART:20231029T010000
END:STANDARD
BEGIN:DAYLIGHT
TZOFFSETFROM:+0100
TZOFFSETTO:+0200
TZNAME:CEST
DTSTART:20240331T010000
END:DAYLIGHT
BEGIN:STANDARD
TZOFFSETFROM:+0200
TZOFFSETTO:+0100
TZNAME:CET
DTSTART:20241027T010000
END:STANDARD
BEGIN:DAYLIGHT
TZOFFSETFROM:+0100
TZOFFSETTO:+0200
TZNAME:CEST
DTSTART:20250330T010000
END:DAYLIGHT
BEGIN:STANDARD
TZOFFSETFROM:+0200
TZOFFSETTO:+0100
TZNAME:CET
DTSTART:20251026T010000
END:STANDARD
END:VTIMEZONE
BEGIN:VEVENT
DTSTART;VALUE=DATE:20241207
DTEND;VALUE=DATE:20241208
DTSTAMP:20260422T113135
CREATED:20240905T132618Z
LAST-MODIFIED:20241119T124823Z
UID:16524-1733529600-1733615999@uvdal.no
SUMMARY:Førjulshelger på Langedrag
DESCRIPTION:Bli med oss på en magisk juleopplevelse på Langedrag!\n\nVi inviterer deg til å bli med på våre spesielle arrangementer 30.11\, 07.12 og 14.12 hvor vi vil servere en fantastisk julebuffet med noe for enhver smak.\nEr du overnattingsgjest vil julebuffeten være inkludert\, er du på dagsbesøk kan dette kjøpes hos oss.\nHvert år møtes Fjøsnissen og Julenissen på låven\, når Julenissen er innom Langedrag for å se til reinsdyrene sine. Bli med og spis grøt på låven og kanskje får du en godtepose av selveste Julenissen.\n\nJuleshow på ridebanen 7.12:Rødnissene og Blånissene kommer over de syv blåner og møtes til årets store konkurranse på ridebanen.\nDet blir en rekke konkurranser på hest og en stor dyreparade.\nHvem heier du på?\n\nVelkommen til en hyggelig førjulstid.
URL:https://uvdal.no/arrangement/forjulshelger-pa-langedrag-6/
LOCATION:Langedrag Naturpark\, Tunhovd\, 3544
ATTACH;FMTTYPE=image/jpeg:https://uvdal.no/wp-content/uploads/2024/09/Forjulshelger-pa-Langedrag.jpg
END:VEVENT
BEGIN:VEVENT
DTSTART;TZID=Europe/Oslo:20241207T110000
DTEND;TZID=Europe/Oslo:20241207T160000
DTSTAMP:20260422T113135
CREATED:20241203T140851Z
LAST-MODIFIED:20241203T140904Z
UID:16821-1733569200-1733587200@uvdal.no
SUMMARY:Julemarked
DESCRIPTION:Velkommen til hyggelig julemarked på Norehallen 7 desember. \n 
URL:https://uvdal.no/arrangement/julemarked-2/
LOCATION:Norefjord\, Norehallen
END:VEVENT
END:VCALENDAR