BEGIN:VCALENDAR
VERSION:2.0
PRODID:-//Uvdal - ECPv6.15.20//NONSGML v1.0//EN
CALSCALE:GREGORIAN
METHOD:PUBLISH
X-WR-CALNAME:Uvdal
X-ORIGINAL-URL:https://uvdal.no
X-WR-CALDESC:Arrangement for Uvdal
REFRESH-INTERVAL;VALUE=DURATION:PT1H
X-Robots-Tag:noindex
X-PUBLISHED-TTL:PT1H
BEGIN:VTIMEZONE
TZID:Europe/Oslo
BEGIN:DAYLIGHT
TZOFFSETFROM:+0100
TZOFFSETTO:+0200
TZNAME:CEST
DTSTART:20230326T010000
END:DAYLIGHT
BEGIN:STANDARD
TZOFFSETFROM:+0200
TZOFFSETTO:+0100
TZNAME:CET
DTSTART:20231029T010000
END:STANDARD
BEGIN:DAYLIGHT
TZOFFSETFROM:+0100
TZOFFSETTO:+0200
TZNAME:CEST
DTSTART:20240331T010000
END:DAYLIGHT
BEGIN:STANDARD
TZOFFSETFROM:+0200
TZOFFSETTO:+0100
TZNAME:CET
DTSTART:20241027T010000
END:STANDARD
BEGIN:DAYLIGHT
TZOFFSETFROM:+0100
TZOFFSETTO:+0200
TZNAME:CEST
DTSTART:20250330T010000
END:DAYLIGHT
BEGIN:STANDARD
TZOFFSETFROM:+0200
TZOFFSETTO:+0100
TZNAME:CET
DTSTART:20251026T010000
END:STANDARD
END:VTIMEZONE
BEGIN:VEVENT
DTSTART;VALUE=DATE:20241129
DTEND;VALUE=DATE:20241202
DTSTAMP:20260424T104011
CREATED:20240927T121752Z
LAST-MODIFIED:20240927T131716Z
UID:16643-1732838400-1733097599@uvdal.no
SUMMARY:Rakfisklag med historieforetelling
DESCRIPTION:Velkommen til rakefisklag på Sevletunet Gjestegård\, øverst i Numedal\, den siste helgen i november!\n\n– Aperitif og bildeframvisning– Overnatting i 17- og 1800-talls tømmerhus med eget bad til hvert rom– Tre-retters meny der lokal rakefisk med klassisk tilbehør spiller hovedrollen– Historiefortelling om livet til generasjonene før oss på en gammel slektsgård øverst i en langstrakt dal– Til maten serverer vi blant annet lokalt øl og lokal akevitt. Vi har også gode alkoholfrie alternativer.– Vedfyrt badstue– Hjemmelaget frokost med nybakt brød rett fra vedovnen og ferskbrygget kaffe\nVi har åtte rom med eget bad og én hytte med plass til 4-6 personer.\n\nMer informasjon kommer. Send oss en mail til info@sevletunet.no om du har spørsmål.\n\nVi gleder oss til å ønske dere velkommen til gårds og til førjulshygge i det julepyntede hovedhuset fra 1850!\n\nSevletunet har beliggenhet rett ved fv40 og midt mellom Kongsberg og Geilo.\n\nFor mer info se her: Sevletunet Gjestegård
URL:https://uvdal.no/arrangement/rakfisklag-med-historieforetelling/
LOCATION:Sevletunet Gjestegård
ATTACH;FMTTYPE=image/jpeg:https://uvdal.no/wp-content/uploads/2024/09/Sevletunet-Gjestegard-rakfisklag-scaled.jpg
ORGANIZER;CN="Sevletunet Gjesteg%C3%A5rd":MAILTO:info@sevletunet.no
END:VEVENT
BEGIN:VEVENT
DTSTART;VALUE=DATE:20241130
DTEND;VALUE=DATE:20241201
DTSTAMP:20260424T104011
CREATED:20240905T132548Z
LAST-MODIFIED:20240905T132548Z
UID:16520-1732924800-1733011199@uvdal.no
SUMMARY:Førjulshelger på Langedrag
DESCRIPTION:Bli med oss på en magisk juleopplevelse på Langedrag!\n\nVi inviterer deg til å bli med på våre spesielle arrangementer 30.11\, 07.12 og 14.12 hvor vi vil servere en fantastisk julebuffet med noe for enhver smak.\nEr du overnattingsgjest vil julebuffeten være inkludert\, er du på dagsbesøk kan dette kjøpes hos oss.\nHvert år møtes Fjøsnissen og Julenissen på låven\, når Julenissen er innom Langedrag for å se til reinsdyrene sine. Bli med og spis grøt på låven og kanskje får du en godtepose av selveste Julenissen.\n\nJuleshow på ridebanen 7.12:Rødnissene og Blånissene kommer over de syv blåner og møtes til årets store konkurranse på ridebanen. Det blir en rekke konkurranser på hest og en stor dyreparade.\nHvem heier du på?\n\nVelkommen til en hyggelig førjulstid.
URL:https://uvdal.no/arrangement/forjulshelger-pa-langedrag-5/
LOCATION:Langedrag Naturpark\, Tunhovd\, 3544
ATTACH;FMTTYPE=image/jpeg:https://uvdal.no/wp-content/uploads/2024/09/Forjulshelger-pa-Langedrag.jpg
END:VEVENT
BEGIN:VEVENT
DTSTART;TZID=Europe/Oslo:20241130T100000
DTEND;TZID=Europe/Oslo:20241130T170000
DTSTAMP:20260424T104011
CREATED:20251028T090053Z
LAST-MODIFIED:20251028T090348Z
UID:16554-1732960800-1732986000@uvdal.no
SUMMARY:Julemarked på Nordstjerna\, Uvdal
DESCRIPTION:Velkommen til Julemarked på Nordstjerna Grendehus Lørdag 15 November . \nLørdag 15 november kl 12.00-16.00Her vil det være stander hvor man kan kjøpe julegaver\, julepynt\, julebakst\, og andre håndlagde produkter. \nVi vil selge lynlodd til inntekt til Nordstjerna med flotte premier fra utstillereKiosk salg med kaffe/te\, brus\, vaffel og pølse i brød/lompeVi vil også få besøk av nissen ca.kl 13.00 nissen kommer \, og han har med seg en liten pakke til barna \nVelkommen til å ha en fin førjulsdag med oss på Nordstjerna
URL:https://uvdal.no/arrangement/julemarked-pa-nordstjerna-uvdal/
LOCATION:Nordstjerna Grendehus\, Uvdalsvegen 966\, Uvdal\, 3632\, Norge
ATTACH;FMTTYPE=image/jpeg:https://uvdal.no/wp-content/uploads/2024/09/Julemarked-Nordstjerna-2025.jpg
END:VEVENT
END:VCALENDAR