BEGIN:VCALENDAR
VERSION:2.0
PRODID:-//Uvdal - ECPv6.15.20//NONSGML v1.0//EN
CALSCALE:GREGORIAN
METHOD:PUBLISH
X-WR-CALNAME:Uvdal
X-ORIGINAL-URL:https://uvdal.no
X-WR-CALDESC:Arrangement for Uvdal
REFRESH-INTERVAL;VALUE=DURATION:PT1H
X-Robots-Tag:noindex
X-PUBLISHED-TTL:PT1H
BEGIN:VTIMEZONE
TZID:Europe/Oslo
BEGIN:DAYLIGHT
TZOFFSETFROM:+0100
TZOFFSETTO:+0200
TZNAME:CEST
DTSTART:20230326T010000
END:DAYLIGHT
BEGIN:STANDARD
TZOFFSETFROM:+0200
TZOFFSETTO:+0100
TZNAME:CET
DTSTART:20231029T010000
END:STANDARD
BEGIN:DAYLIGHT
TZOFFSETFROM:+0100
TZOFFSETTO:+0200
TZNAME:CEST
DTSTART:20240331T010000
END:DAYLIGHT
BEGIN:STANDARD
TZOFFSETFROM:+0200
TZOFFSETTO:+0100
TZNAME:CET
DTSTART:20241027T010000
END:STANDARD
BEGIN:DAYLIGHT
TZOFFSETFROM:+0100
TZOFFSETTO:+0200
TZNAME:CEST
DTSTART:20250330T010000
END:DAYLIGHT
BEGIN:STANDARD
TZOFFSETFROM:+0200
TZOFFSETTO:+0100
TZNAME:CET
DTSTART:20251026T010000
END:STANDARD
END:VTIMEZONE
BEGIN:VEVENT
DTSTART;TZID=Europe/Oslo:20241108T160000
DTEND;TZID=Europe/Oslo:20241108T190000
DTSTAMP:20260424T120616
CREATED:20241010T084839Z
LAST-MODIFIED:20241010T084839Z
UID:16672-1731081600-1731092400@uvdal.no
SUMMARY:Åpning av julebutikken hos Elon Rødberg
DESCRIPTION:Velkommen til åpning av julebutikken 2024!\n\n\nEndelig- om en kun 1 måned\, gleder vi oss til å vise frem årets nyheter og gamle klassikere i god blanding!\n\nJulepynt\, julelys og dekor for å lyse opp mørketida fredag 8 november.\n\nDet blir forfriskninger\, og ekstra oppmerksomheter til barna!\n\nHåper vi sees!
URL:https://uvdal.no/arrangement/apning-av-julebutikken-hos-elon-rodberg/
LOCATION:Elon Rødberg
ATTACH;FMTTYPE=image/jpeg:https://uvdal.no/wp-content/uploads/2024/10/Apning-av-julebutikken-til-Elon.jpg
END:VEVENT
END:VCALENDAR