BEGIN:VCALENDAR
VERSION:2.0
PRODID:-//Uvdal - ECPv6.15.20//NONSGML v1.0//EN
CALSCALE:GREGORIAN
METHOD:PUBLISH
X-WR-CALNAME:Uvdal
X-ORIGINAL-URL:https://uvdal.no
X-WR-CALDESC:Arrangement for Uvdal
REFRESH-INTERVAL;VALUE=DURATION:PT1H
X-Robots-Tag:noindex
X-PUBLISHED-TTL:PT1H
BEGIN:VTIMEZONE
TZID:Europe/Oslo
BEGIN:DAYLIGHT
TZOFFSETFROM:+0100
TZOFFSETTO:+0200
TZNAME:CEST
DTSTART:20230326T010000
END:DAYLIGHT
BEGIN:STANDARD
TZOFFSETFROM:+0200
TZOFFSETTO:+0100
TZNAME:CET
DTSTART:20231029T010000
END:STANDARD
BEGIN:DAYLIGHT
TZOFFSETFROM:+0100
TZOFFSETTO:+0200
TZNAME:CEST
DTSTART:20240331T010000
END:DAYLIGHT
BEGIN:STANDARD
TZOFFSETFROM:+0200
TZOFFSETTO:+0100
TZNAME:CET
DTSTART:20241027T010000
END:STANDARD
BEGIN:DAYLIGHT
TZOFFSETFROM:+0100
TZOFFSETTO:+0200
TZNAME:CEST
DTSTART:20250330T010000
END:DAYLIGHT
BEGIN:STANDARD
TZOFFSETFROM:+0200
TZOFFSETTO:+0100
TZNAME:CET
DTSTART:20251026T010000
END:STANDARD
END:VTIMEZONE
BEGIN:VEVENT
DTSTART;TZID=Europe/Oslo:20241103T160000
DTEND;TZID=Europe/Oslo:20241103T160000
DTSTAMP:20260424T120707
CREATED:20241029T113408Z
LAST-MODIFIED:20241029T114354Z
UID:16727-1730649600-1730649600@uvdal.no
SUMMARY:Allehelgensmesse i Nore kirke
DESCRIPTION:Alle som har mistet nære det siste året får en særlig invitasjon.  \nNavnene til de som har gått bort blir lest opp og lys tent for hver av dem. Dette kan for mange være en fin og meningsfull samling der vi er i et større fellesskap og deler sorgen\, savnet og håpet. \nMange som ikke får denne særlige invitasjonen kommer også til kirken\, de fleste av oss bærer opplevelser av savn og tap\, og kan oppleve det meningsfullt å samles til en slik minne-gudstjeneste. \n  \nVelkommen! \n 
URL:https://uvdal.no/arrangement/allehelgensmesse-i-nore-kirke/
LOCATION:Nore kirke
ATTACH;FMTTYPE=image/jpeg:https://uvdal.no/wp-content/uploads/2024/10/Nore-kirke-allehelgensmesse.jpg
ORGANIZER;CN="Menighetene Nore%2C Uvdal og Tunhovd":MAILTO:kirkekontoret@nore.kirken.no
END:VEVENT
END:VCALENDAR