BEGIN:VCALENDAR
VERSION:2.0
PRODID:-//Uvdal - ECPv6.15.20//NONSGML v1.0//EN
CALSCALE:GREGORIAN
METHOD:PUBLISH
X-WR-CALNAME:Uvdal
X-ORIGINAL-URL:https://uvdal.no
X-WR-CALDESC:Arrangement for Uvdal
REFRESH-INTERVAL;VALUE=DURATION:PT1H
X-Robots-Tag:noindex
X-PUBLISHED-TTL:PT1H
BEGIN:VTIMEZONE
TZID:Europe/Oslo
BEGIN:DAYLIGHT
TZOFFSETFROM:+0100
TZOFFSETTO:+0200
TZNAME:CEST
DTSTART:20230326T010000
END:DAYLIGHT
BEGIN:STANDARD
TZOFFSETFROM:+0200
TZOFFSETTO:+0100
TZNAME:CET
DTSTART:20231029T010000
END:STANDARD
BEGIN:DAYLIGHT
TZOFFSETFROM:+0100
TZOFFSETTO:+0200
TZNAME:CEST
DTSTART:20240331T010000
END:DAYLIGHT
BEGIN:STANDARD
TZOFFSETFROM:+0200
TZOFFSETTO:+0100
TZNAME:CET
DTSTART:20241027T010000
END:STANDARD
BEGIN:DAYLIGHT
TZOFFSETFROM:+0100
TZOFFSETTO:+0200
TZNAME:CEST
DTSTART:20250330T010000
END:DAYLIGHT
BEGIN:STANDARD
TZOFFSETFROM:+0200
TZOFFSETTO:+0100
TZNAME:CET
DTSTART:20251026T010000
END:STANDARD
END:VTIMEZONE
BEGIN:VEVENT
DTSTART;TZID=Europe/Oslo:20241024T193000
DTEND;TZID=Europe/Oslo:20241024T193000
DTSTAMP:20260424T133601
CREATED:20241022T064053Z
LAST-MODIFIED:20241022T070038Z
UID:16688-1729798200-1729798200@uvdal.no
SUMMARY:Boklansering - Boka om Øygardsgrends historie og UL Fjellblom
DESCRIPTION:Boklansering! \nTorsdag 24.oktober kl. 19.30 vil forfatter Asbjørn Bjørnsen fortelle om sin nye bok\, som handler om UL Fjellblom\, som fyller 100 år! \nFør 1916 var Øygardsgrend mørk og bortgjemt\, med bare noen få gårder. Så kom anlegget og alt ble brått forandret! \nDet blir servert kaffe og kaker. \nVelkommen til alle!
URL:https://uvdal.no/arrangement/boklansering-boka-om-oygardsgrends-historie-og-ul-fjellblom/
LOCATION:Rødberg bibliotek\, Syljerudvegen 5\, Rødberg\, 3630
END:VEVENT
END:VCALENDAR