BEGIN:VCALENDAR
VERSION:2.0
PRODID:-//Uvdal - ECPv6.15.20//NONSGML v1.0//EN
CALSCALE:GREGORIAN
METHOD:PUBLISH
X-ORIGINAL-URL:https://uvdal.no
X-WR-CALDESC:Arrangement for Uvdal
REFRESH-INTERVAL;VALUE=DURATION:PT1H
X-Robots-Tag:noindex
X-PUBLISHED-TTL:PT1H
BEGIN:VTIMEZONE
TZID:Europe/Oslo
BEGIN:DAYLIGHT
TZOFFSETFROM:+0100
TZOFFSETTO:+0200
TZNAME:CEST
DTSTART:20230326T010000
END:DAYLIGHT
BEGIN:STANDARD
TZOFFSETFROM:+0200
TZOFFSETTO:+0100
TZNAME:CET
DTSTART:20231029T010000
END:STANDARD
BEGIN:DAYLIGHT
TZOFFSETFROM:+0100
TZOFFSETTO:+0200
TZNAME:CEST
DTSTART:20240331T010000
END:DAYLIGHT
BEGIN:STANDARD
TZOFFSETFROM:+0200
TZOFFSETTO:+0100
TZNAME:CET
DTSTART:20241027T010000
END:STANDARD
BEGIN:DAYLIGHT
TZOFFSETFROM:+0100
TZOFFSETTO:+0200
TZNAME:CEST
DTSTART:20250330T010000
END:DAYLIGHT
BEGIN:STANDARD
TZOFFSETFROM:+0200
TZOFFSETTO:+0100
TZNAME:CET
DTSTART:20251026T010000
END:STANDARD
END:VTIMEZONE
BEGIN:VEVENT
DTSTART;TZID=Europe/Oslo:20241018T180000
DTEND;TZID=Europe/Oslo:20241020T000000
DTSTAMP:20260424T133856
CREATED:20240822T083721Z
LAST-MODIFIED:20240910T090841Z
UID:16456-1729274400-1729382400@uvdal.no
SUMMARY:Villreinfestivalen 2024
DESCRIPTION:Velkommen til Villreinfestivalen i Uvdal Skisenter 18 – 20 oktober. \nFredag: Mat\, drikke og foredrag i lavvoen fredagskvelden.\n\nLørdag: Villreinbuffet\, dans og fest i skisenteret.Ulabrand spiller opp til dans.\n\nDet vil være filmforedrag med Halvor Sveen  kl. 20.00.  fredag kveld.\n\nAlle påmeldinger til Villreinfestivalen er via VIPPS nr. 579937\n\nMer informasjon kommer\, følg med her på Facebook
URL:https://uvdal.no/arrangement/villreinfestivalen-2024/
LOCATION:Uvdal Skisenter\, Uvdal\, 3632\, Norge
ATTACH;FMTTYPE=image/png:https://uvdal.no/wp-content/uploads/2023/09/Villreinfestivalen-2022.png
END:VEVENT
END:VCALENDAR