BEGIN:VCALENDAR
VERSION:2.0
PRODID:-//Uvdal - ECPv6.15.20//NONSGML v1.0//EN
CALSCALE:GREGORIAN
METHOD:PUBLISH
X-WR-CALNAME:Uvdal
X-ORIGINAL-URL:https://uvdal.no
X-WR-CALDESC:Arrangement for Uvdal
REFRESH-INTERVAL;VALUE=DURATION:PT1H
X-Robots-Tag:noindex
X-PUBLISHED-TTL:PT1H
BEGIN:VTIMEZONE
TZID:Europe/Oslo
BEGIN:DAYLIGHT
TZOFFSETFROM:+0100
TZOFFSETTO:+0200
TZNAME:CEST
DTSTART:20230326T010000
END:DAYLIGHT
BEGIN:STANDARD
TZOFFSETFROM:+0200
TZOFFSETTO:+0100
TZNAME:CET
DTSTART:20231029T010000
END:STANDARD
BEGIN:DAYLIGHT
TZOFFSETFROM:+0100
TZOFFSETTO:+0200
TZNAME:CEST
DTSTART:20240331T010000
END:DAYLIGHT
BEGIN:STANDARD
TZOFFSETFROM:+0200
TZOFFSETTO:+0100
TZNAME:CET
DTSTART:20241027T010000
END:STANDARD
BEGIN:DAYLIGHT
TZOFFSETFROM:+0100
TZOFFSETTO:+0200
TZNAME:CEST
DTSTART:20250330T010000
END:DAYLIGHT
BEGIN:STANDARD
TZOFFSETFROM:+0200
TZOFFSETTO:+0100
TZNAME:CET
DTSTART:20251026T010000
END:STANDARD
END:VTIMEZONE
BEGIN:VEVENT
DTSTART;TZID=Europe/Oslo:20241011T190000
DTEND;TZID=Europe/Oslo:20241011T190000
DTSTAMP:20260424T133610
CREATED:20240727T082809Z
LAST-MODIFIED:20240727T123548Z
UID:16389-1728673200-1728673200@uvdal.no
SUMMARY:Bokinspirasjon & Afternoon Tea
DESCRIPTION:Velkommen til Vasstulan1100. \nLiv Gade kommer og du kan drømme deg bort i gode historier i kombinasjon med te og søte fristelser.Bøker blir loddet ut underveis.\n\nPriser:Pris kr. 250\,- for foredrag.Pris kr. 390\,- for foredrag + Afternoon Tea\n\nPåmelding innen 1.10 til jorun@vasstulan.no
URL:https://uvdal.no/arrangement/bokinspirasjon-afternoon-tea-2/
LOCATION:Vasstulan1100
ATTACH;FMTTYPE=image/jpeg:https://uvdal.no/wp-content/uploads/2024/07/Bokinspirsjon.jpg
END:VEVENT
END:VCALENDAR