BEGIN:VCALENDAR
VERSION:2.0
PRODID:-//Uvdal - ECPv6.15.20//NONSGML v1.0//EN
CALSCALE:GREGORIAN
METHOD:PUBLISH
X-WR-CALNAME:Uvdal
X-ORIGINAL-URL:https://uvdal.no
X-WR-CALDESC:Arrangement for Uvdal
REFRESH-INTERVAL;VALUE=DURATION:PT1H
X-Robots-Tag:noindex
X-PUBLISHED-TTL:PT1H
BEGIN:VTIMEZONE
TZID:Europe/Oslo
BEGIN:DAYLIGHT
TZOFFSETFROM:+0100
TZOFFSETTO:+0200
TZNAME:CEST
DTSTART:20230326T010000
END:DAYLIGHT
BEGIN:STANDARD
TZOFFSETFROM:+0200
TZOFFSETTO:+0100
TZNAME:CET
DTSTART:20231029T010000
END:STANDARD
BEGIN:DAYLIGHT
TZOFFSETFROM:+0100
TZOFFSETTO:+0200
TZNAME:CEST
DTSTART:20240331T010000
END:DAYLIGHT
BEGIN:STANDARD
TZOFFSETFROM:+0200
TZOFFSETTO:+0100
TZNAME:CET
DTSTART:20241027T010000
END:STANDARD
BEGIN:DAYLIGHT
TZOFFSETFROM:+0100
TZOFFSETTO:+0200
TZNAME:CEST
DTSTART:20250330T010000
END:DAYLIGHT
BEGIN:STANDARD
TZOFFSETFROM:+0200
TZOFFSETTO:+0100
TZNAME:CET
DTSTART:20251026T010000
END:STANDARD
END:VTIMEZONE
BEGIN:VEVENT
DTSTART;VALUE=DATE:20240921
DTEND;VALUE=DATE:20240929
DTSTAMP:20260424T151801
CREATED:20240618T083317Z
LAST-MODIFIED:20240618T083817Z
UID:16117-1726876800-1727567999@uvdal.no
SUMMARY:Hjembygdafestivalen 2024
DESCRIPTION:Klar for festivalmoro? \nDet håper vi\, for det blir nemlig Hjembygdafestival i år også! \nProgrammet slippes snart\, og vil gleder oss til å vise det fram. Sjekk ut og følg med her
URL:https://uvdal.no/arrangement/hjembygdafestivalen-2024/
LOCATION:Nore og Uvdal
END:VEVENT
BEGIN:VEVENT
DTSTART;VALUE=DATE:20240928
DTEND;VALUE=DATE:20240929
DTSTAMP:20260424T151801
CREATED:20240528T133609Z
LAST-MODIFIED:20240528T134637Z
UID:16070-1727481600-1727567999@uvdal.no
SUMMARY:Bygdedøgøn 2024
DESCRIPTION:Vi gleder oss allerede til å skape liv og stemning på Camp Uvdal 28. september 2024!!\n\nHold av datoen\, enten du skal være publikum eller utstiller.\n\n\n\n\n\nPåmelding for utstillere Bygdedøgøn 2024\n\n\n28. september arrangeres Bygdedøgøn 2024 på Camp Uvdal. \nBlant utstillere på Bygdedøgøn ønsker vi oss et bredt spekter\, og i all hovedsak utstillere med en eller annen tilknytning til Nore og Uvdal kommune. \nPris for standplass på 3x3m uten strøm: 500kr ( OBS: Du må medbringe eget telt og bord/benk/stoler)\nPris for standplass på 3x3m med strøm: 750kr ( OBS: Du må medbringe eget telt og bord/benk/stoler) \n\nPris for liten campinghytte: 600kr \n\nTrenger du større plass enn 3x3m kan du reservere en ekstra standplass på 3x3m for halv pris.\n(Ikke mulig ved bruk av campinghytte)\nLag og foreninger får halv pris på standplass\, og de som i tillegg ønsker å bidra med litt dugnadsjobb får gratis standplass.\n\nNår du har fylt ut påmeldingen vil du få en bekreftelse på mail. I bekreftelsen finner du også betalingsinformasjon med to ukers frist.\n\n\n \nPåmeldingsfrist 15. august!!\n\n\n\nSe linken for påmelding her
URL:https://uvdal.no/arrangement/bygdedogon-2024/
LOCATION:Camp Uvdal\, Uvdalsvegen 966\, Uvdal\, 3632\, Norge
END:VEVENT
BEGIN:VEVENT
DTSTART;TZID=Europe/Oslo:20240928T173000
DTEND;TZID=Europe/Oslo:20240928T173000
DTSTAMP:20260424T151801
CREATED:20240905T125926Z
LAST-MODIFIED:20240905T125956Z
UID:16511-1727544600-1727544600@uvdal.no
SUMMARY:Langedrag feirer "Fårikålens dag"
DESCRIPTION:Fårikålens dag må jo feires\, og det skal vi gjøre på en tradisjonsrik måte her på Langedrag 28. september.\nNorges nasjonalrett feires egentlig siste torsdagen i september\, men vi tar det i helgen og lager skikkelig hyggelig stemning her på gården.\nAlle er hjertelig velkommen til en koselig aften!\n\nHva serverer vi:Her får man et fyldig ostefat\, vi har hjemmelaget flatbrød\, deilig lokal honning\, geleer og nøtter. Smak vårt hjemmelagde vargabrød\, og vi må ikke glemme hovedretten selv; nemlig fårikålen med poteter.Det hele rundes av med en fantastisk multekrem!\n\nVelkommen!
URL:https://uvdal.no/arrangement/langedrag-feirer-farikalens-dag/
LOCATION:Langedrag Naturpark\, Tunhovd\, 3544
ORGANIZER;CN="Langedrag Naturpark":MAILTO:post@langedrag.no
END:VEVENT
END:VCALENDAR