BEGIN:VCALENDAR
VERSION:2.0
PRODID:-//Uvdal - ECPv6.15.20//NONSGML v1.0//EN
CALSCALE:GREGORIAN
METHOD:PUBLISH
X-ORIGINAL-URL:https://uvdal.no
X-WR-CALDESC:Arrangement for Uvdal
REFRESH-INTERVAL;VALUE=DURATION:PT1H
X-Robots-Tag:noindex
X-PUBLISHED-TTL:PT1H
BEGIN:VTIMEZONE
TZID:Europe/Oslo
BEGIN:DAYLIGHT
TZOFFSETFROM:+0100
TZOFFSETTO:+0200
TZNAME:CEST
DTSTART:20230326T010000
END:DAYLIGHT
BEGIN:STANDARD
TZOFFSETFROM:+0200
TZOFFSETTO:+0100
TZNAME:CET
DTSTART:20231029T010000
END:STANDARD
BEGIN:DAYLIGHT
TZOFFSETFROM:+0100
TZOFFSETTO:+0200
TZNAME:CEST
DTSTART:20240331T010000
END:DAYLIGHT
BEGIN:STANDARD
TZOFFSETFROM:+0200
TZOFFSETTO:+0100
TZNAME:CET
DTSTART:20241027T010000
END:STANDARD
BEGIN:DAYLIGHT
TZOFFSETFROM:+0100
TZOFFSETTO:+0200
TZNAME:CEST
DTSTART:20250330T010000
END:DAYLIGHT
BEGIN:STANDARD
TZOFFSETFROM:+0200
TZOFFSETTO:+0100
TZNAME:CET
DTSTART:20251026T010000
END:STANDARD
END:VTIMEZONE
BEGIN:VEVENT
DTSTART;VALUE=DATE:20240921
DTEND;VALUE=DATE:20240929
DTSTAMP:20260424T152256
CREATED:20240618T083317Z
LAST-MODIFIED:20240618T083817Z
UID:16117-1726876800-1727567999@uvdal.no
SUMMARY:Hjembygdafestivalen 2024
DESCRIPTION:Klar for festivalmoro? \nDet håper vi\, for det blir nemlig Hjembygdafestival i år også! \nProgrammet slippes snart\, og vil gleder oss til å vise det fram. Sjekk ut og følg med her
URL:https://uvdal.no/arrangement/hjembygdafestivalen-2024/
LOCATION:Nore og Uvdal
END:VEVENT
BEGIN:VEVENT
DTSTART;TZID=Europe/Oslo:20240921T100000
DTEND;TZID=Europe/Oslo:20240921T150000
DTSTAMP:20260424T152256
CREATED:20240913T120532Z
LAST-MODIFIED:20240913T120755Z
UID:16574-1726912800-1726930800@uvdal.no
SUMMARY:Høstmarked i Rødberg sentrum
DESCRIPTION:Velkommen til høstmarked i Rødberg sentrum lørdag 21 september!\n\nDa fylles sentrum med aktiviteter\, handel og noe godt å bite i. Kom og se høstnyheter og mange supre tilbud i butikkene!Dette blir en dag for både barn og voksne\, med leker \,kakao og salgsboder i Rødberg sentrum.Vi er så heldig og fått med oss foodtrucken til Langedrag\, her blir det salg av bakst og digg mat. Det vil bli mange flotte boder under høstmarkedet rett utenfor Elon og Turistkontoret i sentrum.\n\nProgram:\n\n\nDet blir også løp for barnekreftforeningen den dagen i forbindelse med «Hjembygdafestivalen 21 – 28 september» og bokbad i Vennepunktet.\nFor mer info se her på Hjembygdafestivalen – Program – Hjembygda\n\n\n\nVi ønsker å sette pris på høsten\, på det lokale håndverket og hvor fint det har blitt i sentrum med årets Høstmarked.\nTuristkontoret holder åpent\, kom innom for å slå av en prat eller få deg en kaffe .\n\nVelkommen til lokal handel på Rødberg!
URL:https://uvdal.no/arrangement/hostmarked-i-rodberg-sentrum-2/
LOCATION:Rødberg sentrum
ATTACH;FMTTYPE=image/png:https://uvdal.no/wp-content/uploads/2024/09/Hostmarked-2024.png
END:VEVENT
BEGIN:VEVENT
DTSTART;TZID=Europe/Oslo:20240921T130000
DTEND;TZID=Europe/Oslo:20240921T130000
DTSTAMP:20260424T152256
CREATED:20240910T133028Z
LAST-MODIFIED:20240910T133046Z
UID:16559-1726923600-1726923600@uvdal.no
SUMMARY:Bokbad på Vennepunktet i Rødberg sentrum
DESCRIPTION:I forbindelse med Rødberg Handelsstands høstmarked og Hjembygdafestivalen blir det arrangert bokbad med forfatteren Kyrre Andreassen\, som nå er ute med sin nye bok «Ikke mennesker jeg kan regne med»!\n\nArrangementet er en del av Rødberg Handelsstands Høstmarked\, og foregår derfor på Vennepunktet i sentrum.\n\n\nDato: Lørdag 21. september. Sted: Vennepunktet. Tid: Kl. 13:00.\n\n\n\n(Dette er et samarbeid mellom Rødberg bibliotek\, Hjembygdafestivalen og Rødberg Handelsstand.)
URL:https://uvdal.no/arrangement/bokbad-pa-vennepunktet-i-rodberg-sentrum/
LOCATION:Vennepunktet Rødberg
END:VEVENT
END:VCALENDAR