BEGIN:VCALENDAR
VERSION:2.0
PRODID:-//Uvdal - ECPv6.15.20//NONSGML v1.0//EN
CALSCALE:GREGORIAN
METHOD:PUBLISH
X-WR-CALNAME:Uvdal
X-ORIGINAL-URL:https://uvdal.no
X-WR-CALDESC:Arrangement for Uvdal
REFRESH-INTERVAL;VALUE=DURATION:PT1H
X-Robots-Tag:noindex
X-PUBLISHED-TTL:PT1H
BEGIN:VTIMEZONE
TZID:Europe/Oslo
BEGIN:DAYLIGHT
TZOFFSETFROM:+0100
TZOFFSETTO:+0200
TZNAME:CEST
DTSTART:20230326T010000
END:DAYLIGHT
BEGIN:STANDARD
TZOFFSETFROM:+0200
TZOFFSETTO:+0100
TZNAME:CET
DTSTART:20231029T010000
END:STANDARD
BEGIN:DAYLIGHT
TZOFFSETFROM:+0100
TZOFFSETTO:+0200
TZNAME:CEST
DTSTART:20240331T010000
END:DAYLIGHT
BEGIN:STANDARD
TZOFFSETFROM:+0200
TZOFFSETTO:+0100
TZNAME:CET
DTSTART:20241027T010000
END:STANDARD
BEGIN:DAYLIGHT
TZOFFSETFROM:+0100
TZOFFSETTO:+0200
TZNAME:CEST
DTSTART:20250330T010000
END:DAYLIGHT
BEGIN:STANDARD
TZOFFSETFROM:+0200
TZOFFSETTO:+0100
TZNAME:CET
DTSTART:20251026T010000
END:STANDARD
END:VTIMEZONE
BEGIN:VEVENT
DTSTART;VALUE=DATE:20240722
DTEND;VALUE=DATE:20240727
DTSTAMP:20260424T182932
CREATED:20240502T090951Z
LAST-MODIFIED:20240502T091024Z
UID:15896-1721606400-1722038399@uvdal.no
SUMMARY:Familieleir på Langedrag
DESCRIPTION:Velkommen til Langedrag Naturpark! \nGårdsferie med aktiviteter for hele familien Travel og opplevelsesrik uke for voksne og barn som er på leir sammen. \nAlt fra foreldre\, besteforeldre\, tanter\, onkler er hjertelig velkomne. \nMan får oppleve ulv og gaupe på nært hold\, og nærkontakt med fjellrev\, reinsdyr og elg. Naturnære opplevelser for både små og store. \n– Stell i stall og fjøs og i hundegården\n– Kos med kanin- og villsvinunger\n– Har du melket geiter?\n– Seterdag. Det blir ysting\, takkesteking\, sanking av nyttevekster og plantefarging\n– Riding\, balansekunst på hesteryggen\n– Natursti og klatrepark\n– Fjelltur med mulighet for kanopadling\, kullstiftbrenning og pinnebrødsteking. \nOg mye\, mye mer. \nMandag – Fredag \nPris\nVoksen: kr. 6800\,-\nBarn 9-15 år kr. 5110\,-\nBarn 2-8 år kr. 4760\,- \nVi har familieleir i uke 27\, 28\, 30 og 32
URL:https://uvdal.no/arrangement/familieleir-pa-langedrag-2/
LOCATION:Langedrag Naturpark\, Tunhovd\, 3544
ATTACH;FMTTYPE=image/jpeg:https://uvdal.no/wp-content/uploads/2024/05/418152071_778827344285451_2698120052883588296_n.jpg
ORGANIZER;CN="Langedrag Naturpark":MAILTO:post@langedrag.no
END:VEVENT
BEGIN:VEVENT
DTSTART;VALUE=DATE:20240722
DTEND;VALUE=DATE:20240730
DTSTAMP:20260424T182932
CREATED:20240403T130427Z
LAST-MODIFIED:20240712T132905Z
UID:15787-1721606400-1722297599@uvdal.no
SUMMARY:Middelalderuka 2024
DESCRIPTION:Velkommen til Middelalderuka 22 -29 juli.\nArrangementer i Numedal uke 29/30\nMiddelalderuka ble tidligere arrangert av de tre Numedals kommunene. Nå arrangeres uka av frivillige lag og organisasjoner\, med økonomisk støtte og koordinering fra kommunene. Det legges ned stor innsats for å gi fastboende\, hyttebeboere og turister fine opplevelser\, blant annet; foredrag\, forestillinger\, utstillinger\, konserter\, kurs og aktiviteter. Arenaene er som tidligere stavkirkene\, bygdetunene\, middelaldergårder og Middelaldersenteret i Rollag. \nNoe av det du kan få se\, oppleve\, gjøre\, smake og lukte i løpet av uka:\n20. juli:–  Middelalderdag på Langedrag\n22.-26. juli:–  Middelalderverkstedet med kurs i historiske håndverksteknikker\, i Numedal Middelaldersenter i Rollag\n23. juli:–  Foredrag «Endring i tro – endring i drakt» v/Astrid Bryde i Rollag stavkirke– Foredrag «Sølvtyverier på Kongsberg 1623-1861» v/Bjørn Ivar Berg på Rollag bygdetun\n24. juli:– «Skogsdrift i sølvverkstida» foredrag og vandring v/Narve Lid og Even Tråen på Rollag bygdetun–  Sommerkveld på museet på Lågdalsmuseet i Kongsberg–  Konsert med Valkyrien Allstars i amfiet i Numedal Middelaldersenter.\n25. juli:– Foredrag «Kvinnerollen i en brytningstid» v/Kim Hjardar i Rollag stavkirke–  Foredrag «Forpakterspelemennene» v/Anne Svånaug Blengsdalen på Høgheim i Lyngdal–  Foredrag «Tarald og Tølløv: Lokale helgener i Numedal og Tinn» v/kirkehistoriker Bjørn Ole Hovda i Uvdal stavkirke\nFredag 26. juli:–  Barnas dag på Rollag bygdetun–  Familietur til Grovengruvene i Nore–  Bokbad med Jørn Øyrehagen Sunde og Øystein Morten i Numedal Middelaldersenter\nLørdag 27. juli:– Middelaldermarked i Numedal Middelaldersenter i Rollag–  Foredrag «Byggeskikk – stilimpulser» v/Nils Friis på Nore og Uvdal bygdetun\nSøndag 28. juli:– Åpning av Historisk vandrerute – Nordmannsslepa ved Veggli kirke–  Åpent middelalderloft på Søre Skjønne i Nore–  Foredrag «Bruken av slepa før og nå» v/Frøydis Aasen i Veggli fjellkirke–  To foredrag i Uvdal stavkirke: Portalene i stavkirkene i Numedal – linjeføring\, alder ogtolkning» v/Inger Karlberg. «Runeinnskriftene fra Uvdal og Nore stavkirker» v/Kristel Zilmer.–  Urframføring av «Olavsvesper – Avreise» av organist Lise Knudsen i Rollag stavkirke\nMandag 29. juli – olsok:–  Hellig døgn i Rollag stavkirke–  Pilegrimsvandring fra Kravik til Nore stavkirke–  Åpent tun på Kravikgårdene i Nore–  Olsokgudstjeneste på Labro\, Kongsberg– Olsokkonsert med Numedal spel og dansarlag i Nore stavkirke\n\nPå de fleste arrangementer betaler en ved inngangen med enten kontanter eller Vipps. Det er mulig å forhåndskjøpe billetter til arrangementer i Numedal Middelaldersenter på ticketco.no (se lenke under billetter).\nMarkering av Kongsberg by 400 år\nKongsberg by feirer 400 år i år. Numedal markerer også byjubileet med forskjellige arrangementer.\nKongsberg har vært viktig for Numedal\, men Numedal har også vært viktig for Kongsberg – By og land\, hand i hand. Disse arrangementene er spesielt merket i programoversikten. \nMiddelalderverkstedet 22.-26. juli\nArrangeres av Eldhanda\, i Numedal Middelaldersenter i Rollag. Du kan lese alt om de ulike kursene på middelalderverkstedet.no  \n  \nFor alle arrangement under Middelalderuken se her
URL:https://uvdal.no/arrangement/middelalderuka-2024/
LOCATION:Numedal
ORGANIZER;CN="Middelalderskogen/ Middelalderverkstedet":MAILTO:kjell@mogen.no
END:VEVENT
BEGIN:VEVENT
DTSTART;TZID=Europe/Oslo:20240725T100000
DTEND;TZID=Europe/Oslo:20240725T100000
DTSTAMP:20260424T182932
CREATED:20240625T104655Z
LAST-MODIFIED:20240711T092620Z
UID:16151-1721901600-1721901600@uvdal.no
SUMMARY:Slåttedag på bygdetunet
DESCRIPTION:Nore og Uvdal bygdetun \nVi tar slåtten på gammelt vis. \nAlle får lov til å være med å jobbe! \nTa gjerne kontakt hvis du vil bli med\, 96894581. \nRømmegrøt kl. 12 ( si ifra senest 20/7 hvis du vil ha grø
URL:https://uvdal.no/arrangement/slattedag-pa-bygdetunet-2/
LOCATION:Nore og  Uvdal bygdetun
ATTACH;FMTTYPE=image/jpeg:https://uvdal.no/wp-content/uploads/2024/06/Slattedag.jpg
END:VEVENT
BEGIN:VEVENT
DTSTART;TZID=Europe/Oslo:20240725T170000
DTEND;TZID=Europe/Oslo:20240725T170000
DTSTAMP:20260424T182932
CREATED:20240706T093718Z
LAST-MODIFIED:20240706T093833Z
UID:16224-1721926800-1721926800@uvdal.no
SUMMARY:Kvinnerollen i en brytningstid\, Rollag stavkirke
DESCRIPTION:Foredrag «Kvinnerollen i en brytningstid» v/Kim Hjardar i Rollag stavkirke 25 juli. \n\nDet var en klar sammenheng mellom kvinner og makt i vikingtiden og i middelalderen. Men hvordan makten kom til utrrykk endret seg med religionsskiftet. \nI vikingtiden holdt mange kvinner viktige samfunnsmessige posisjoner og var både lokale ledere og styrere av samfunn. De var diktere\, legekoner\, dyktige håndverkere og entreprenører med egne skip. Kvinner ledet ekspedisjoner og drev handel\, og de spilte en viktig rolle som kunnskapsformidlere\, oppdragere og voktere av samfunnets verdier. De var et viktig bindeledd i kommunikasjonen mellom denne verdenen og den åndelige verdenen\, og innehadde viktige posisjoner innen den norrøne kulten. Mye av dette forsvant med kristendommen\, eller kom til utrykk på andre arenaer. I foredraget ser vi nærmere på kvinnens rolle i overgangen mellom hedendom og kristendom i Norge. \nKim Hjardar historiker og forfatter med studier i Vikingtid og tidlig middelalderkultur fra Universitetet i Oslo som spesialfelt. Han har utgitt en rekke bøker om vikingtid og hans siste bok Audr- Kvinneliv i vikingtid kom i 2022. I 2012 mottok han sagaprisen for boken Vikinger i krig. Kim Hjardar har stor internasjonal annerkjennelse som vikingtidsekspeert og brukes ofte som konsulent på store internasjonale produksjoner. \nInngang kr. 300 inkl. enkel servering. Vipps/kontant.\nArrangør: Rollag kirkelige fellesråd.
URL:https://uvdal.no/arrangement/kvinnerollen-i-en-brytningstid-rollag-stavkirke/
LOCATION:Rollag stavkirke
ATTACH;FMTTYPE=image/jpeg:https://uvdal.no/wp-content/uploads/2024/07/Rollag-stavkirke-2024.jpg
END:VEVENT
BEGIN:VEVENT
DTSTART;TZID=Europe/Oslo:20240725T180000
DTEND;TZID=Europe/Oslo:20240725T180000
DTSTAMP:20260424T182932
CREATED:20240706T095534Z
LAST-MODIFIED:20240706T095606Z
UID:16231-1721930400-1721930400@uvdal.no
SUMMARY:Foredrag "Forpakterspelemennene" v/Anne Svånaug Blengsdalen på Høgheim i Lyngdal
DESCRIPTION:Foredrag om «Forpakterspelemennene» i Numedal på 16- og 1700-tallet v/professor em. Anne Svånaug Blengsdalen. \nMusikus instrumentalis (stadsmusikus) hadde enerett/kongelig privilegium til å utøve musikk i et bestemt geografisk område. En spelemann kunne bli stilt for retten for å spille ulovlig\, og dermed ha gått stadsmusikanten i næringa. Forpakterspelemenn kaltes de som fikk tillatelse av Musikus instrumentalis på Kongsberg til å spille i bryllup eller andre folkesamlinger utover i bygdene. Forpakterspelemennene i Numedal har slektsgreiner til spelemenn i Sigdal\, Sandsvær og Tinn. Anne Svånaug Blengsdalen (Haugan) har skrevet boka «Takt og tonar» om spelemenn og spelemannstradisjoner i Numedal\, og via en del av boka til denne ordningen. \nEtter foredraget blir det konsert med: Knut Rogstad\, Steinar Strøm\, Bård Vegard Bjørhusdal og\nAnne Svånaug Blengsdalen. \nArrangør: Flesberg historielag. Arrangementet er en del av «By og land – hand i hand» – Numedals markering av Kongsberg 400 år.
URL:https://uvdal.no/arrangement/foredrag-forpakterspelemennene-v-anne-svanaug-blengsdalen-pa-hogheim-i-lyngdal/
LOCATION:Høgheim i Lyngdal
END:VEVENT
BEGIN:VEVENT
DTSTART;TZID=Europe/Oslo:20240725T190000
DTEND;TZID=Europe/Oslo:20240725T190000
DTSTAMP:20260424T182932
CREATED:20240706T094606Z
LAST-MODIFIED:20240706T095129Z
UID:16227-1721934000-1721934000@uvdal.no
SUMMARY:Foredrag\, lokale helgener
DESCRIPTION:Foredrag «Tarald og Tølløv: Lokale helgener i Numedal og Tinn» v/kirkehistoriker Bjørn Ole Hovda. \nBygdehelgener og lokale helgener har vært vanlig flere steder i landet. En helgen er en person som er gjenstand for religiøs dyrkelse og anses for å ha nær kontakt med gud. \nSted: Uvdal stavkirke 25 juli kl. 19.00 \n  \n 
URL:https://uvdal.no/arrangement/lokale-helgener/
LOCATION:Uvdal stavkirke
ATTACH;FMTTYPE=image/jpeg:https://uvdal.no/wp-content/uploads/2022/06/Uvdal-stavkirke.jpg
END:VEVENT
END:VCALENDAR