BEGIN:VCALENDAR
VERSION:2.0
PRODID:-//Uvdal - ECPv6.15.20//NONSGML v1.0//EN
CALSCALE:GREGORIAN
METHOD:PUBLISH
X-ORIGINAL-URL:https://uvdal.no
X-WR-CALDESC:Arrangement for Uvdal
REFRESH-INTERVAL;VALUE=DURATION:PT1H
X-Robots-Tag:noindex
X-PUBLISHED-TTL:PT1H
BEGIN:VTIMEZONE
TZID:Europe/Oslo
BEGIN:DAYLIGHT
TZOFFSETFROM:+0100
TZOFFSETTO:+0200
TZNAME:CEST
DTSTART:20230326T010000
END:DAYLIGHT
BEGIN:STANDARD
TZOFFSETFROM:+0200
TZOFFSETTO:+0100
TZNAME:CET
DTSTART:20231029T010000
END:STANDARD
BEGIN:DAYLIGHT
TZOFFSETFROM:+0100
TZOFFSETTO:+0200
TZNAME:CEST
DTSTART:20240331T010000
END:DAYLIGHT
BEGIN:STANDARD
TZOFFSETFROM:+0200
TZOFFSETTO:+0100
TZNAME:CET
DTSTART:20241027T010000
END:STANDARD
BEGIN:DAYLIGHT
TZOFFSETFROM:+0100
TZOFFSETTO:+0200
TZNAME:CEST
DTSTART:20250330T010000
END:DAYLIGHT
BEGIN:STANDARD
TZOFFSETFROM:+0200
TZOFFSETTO:+0100
TZNAME:CET
DTSTART:20251026T010000
END:STANDARD
END:VTIMEZONE
BEGIN:VEVENT
DTSTART;VALUE=DATE:20240707
DTEND;VALUE=DATE:20240713
DTSTAMP:20260424T183222
CREATED:20240502T085307Z
LAST-MODIFIED:20240502T085307Z
UID:15883-1720310400-1720828799@uvdal.no
SUMMARY:Rideleir Langedrag
DESCRIPTION:Vi legger vekt på å gi elevene kunnskap og ferdighetstrening i ridning og håndtering av hest basert på forståelsen av hestens natur.\n\nBaneridning\, elementær ridelære\, sprang og dressur\, tur og terrengridning i området rundt gården\, voltige/turn på hesteryggen og gymkhana. Vi deler inn i ridegrupper etter deltakernes individuelle nivå.\n\nPå Langedrag tilbyr vi gode ridemuligheter i skog og fjellterreng i tillegg til stedets ridebane. Erfarne instruktører legger vekt på faglig kompetanse et trygt sosialt miljø. Ridelærer denne uka er Marie Thorson Østby Natten som har trinn 3 fra Starum\, som er den høyeste ridelærerutdannelsen i Norge.\n\n\nSøndag – Fredag\nPris\nBarn 9-15 år kr. 6550\,-\n\n\nVelkommen til en lærerik og morsom uke i fjellet!\n\nPåmelding/ billetter her
URL:https://uvdal.no/arrangement/rideleir-langedrag/
LOCATION:Langedrag Naturpark\, Tunhovd\, 3544
ATTACH;FMTTYPE=image/jpeg:https://uvdal.no/wp-content/uploads/2024/05/Rideleir-sommer.jpg
ORGANIZER;CN="Langedrag Naturpark":MAILTO:post@langedrag.no
END:VEVENT
BEGIN:VEVENT
DTSTART;VALUE=DATE:20240711
DTEND;VALUE=DATE:20240715
DTSTAMP:20260424T183222
CREATED:20240507T121606Z
LAST-MODIFIED:20240710T151012Z
UID:15915-1720656000-1721001599@uvdal.no
SUMMARY:Smådølfestivalen 30 år
DESCRIPTION:Til helga feirer Smådølfestivalen 30 år med 220 påmeldte og enda drøyt 50 på venteliste \nVelkommen til Smådøl Motorsenter for ei fartsfylt helg med mye sosialt og moro 11 – 14 juli 2024! \n\nTidskjema for Smådølfestivalen 2024:\n\n\n\nFredag 12 juli:\n14.00: start 1. omg.\n\n\n\nLørdag13 juli:\n08.00: start innledende omganger\n\n\n\nSøndag 14 juli:\n08.00: start innledende omganger\n\n\n\nVi oppfordrer dere som skal både parkere henger på skytebanen i Smådøl\, det vil være skilting til dette. Det er kun Telenor dekning på motorbanen\, så oppfordrer også dere uten dette å ta med kontanter til bud.\n\n  \n  \nFoto: Bilcross.no
URL:https://uvdal.no/arrangement/smadolfestivalen-30-ar/
LOCATION:Smådøl Motorsenter\, Nore og Uvdal\, 3630
ATTACH;FMTTYPE=image/jpeg:https://uvdal.no/wp-content/uploads/2024/05/Smadolfestivalen-2024-30-ar.jpg
END:VEVENT
END:VCALENDAR