BEGIN:VCALENDAR
VERSION:2.0
PRODID:-//Uvdal - ECPv6.15.20//NONSGML v1.0//EN
CALSCALE:GREGORIAN
METHOD:PUBLISH
X-ORIGINAL-URL:https://uvdal.no
X-WR-CALDESC:Arrangement for Uvdal
REFRESH-INTERVAL;VALUE=DURATION:PT1H
X-Robots-Tag:noindex
X-PUBLISHED-TTL:PT1H
BEGIN:VTIMEZONE
TZID:Europe/Oslo
BEGIN:DAYLIGHT
TZOFFSETFROM:+0100
TZOFFSETTO:+0200
TZNAME:CEST
DTSTART:20230326T010000
END:DAYLIGHT
BEGIN:STANDARD
TZOFFSETFROM:+0200
TZOFFSETTO:+0100
TZNAME:CET
DTSTART:20231029T010000
END:STANDARD
BEGIN:DAYLIGHT
TZOFFSETFROM:+0100
TZOFFSETTO:+0200
TZNAME:CEST
DTSTART:20240331T010000
END:DAYLIGHT
BEGIN:STANDARD
TZOFFSETFROM:+0200
TZOFFSETTO:+0100
TZNAME:CET
DTSTART:20241027T010000
END:STANDARD
BEGIN:DAYLIGHT
TZOFFSETFROM:+0100
TZOFFSETTO:+0200
TZNAME:CEST
DTSTART:20250330T010000
END:DAYLIGHT
BEGIN:STANDARD
TZOFFSETFROM:+0200
TZOFFSETTO:+0100
TZNAME:CET
DTSTART:20251026T010000
END:STANDARD
END:VTIMEZONE
BEGIN:VEVENT
DTSTART;VALUE=DATE:20240623
DTEND;VALUE=DATE:20240629
DTSTAMP:20260424T200809
CREATED:20240502T085746Z
LAST-MODIFIED:20240502T090158Z
UID:15887-1719100800-1719619199@uvdal.no
SUMMARY:Hund og friluftsleir Langedrag
DESCRIPTION:På en hund- og friluftslivleir på Langedrag Naturpark får du lære hvordan en hundekjører trener og tar vare på hundene sine. \nMan får hver sin «pass»-hund man skal følge opp hele uka\, man skal på overnatting\, fjelltur\, hundekjøringstur og mye mer. \nMan får: \n– Stell av hunder i hundegården.\n– Hundekjøring barmark\n– Fjelltur og orientering med hund\n– Masse kos med hunder i kennel og løpegård\n– Lære hvordan lese hundens kroppsspråk\n– Kos med kaniner.\n– Melking av geiter.\n– Natursti og klatrepark.\n– Fjelltur med kanopadling\, bading\, kullstift laging og pinnebrødsteking.\n– Overnatting ute med hund \nSøndag – Fredag \nPris: kr. 6550\,- \nVi har dyr og friluftslivleir i uke 26 og 33. \n  \nPåmelding kan du gjøre her
URL:https://uvdal.no/arrangement/hund-og-friluftsleir-langedrag/
LOCATION:Langedrag Naturpark\, Tunhovd\, 3544
ATTACH;FMTTYPE=image/jpeg:https://uvdal.no/wp-content/uploads/2024/05/Hund-og-fritidsleir-sommer.jpg
ORGANIZER;CN="Langedrag Naturpark":MAILTO:post@langedrag.no
END:VEVENT
END:VCALENDAR