BEGIN:VCALENDAR
VERSION:2.0
PRODID:-//Uvdal - ECPv6.15.20//NONSGML v1.0//EN
CALSCALE:GREGORIAN
METHOD:PUBLISH
X-WR-CALNAME:Uvdal
X-ORIGINAL-URL:https://uvdal.no
X-WR-CALDESC:Arrangement for Uvdal
REFRESH-INTERVAL;VALUE=DURATION:PT1H
X-Robots-Tag:noindex
X-PUBLISHED-TTL:PT1H
BEGIN:VTIMEZONE
TZID:Europe/Oslo
BEGIN:DAYLIGHT
TZOFFSETFROM:+0100
TZOFFSETTO:+0200
TZNAME:CEST
DTSTART:20230326T010000
END:DAYLIGHT
BEGIN:STANDARD
TZOFFSETFROM:+0200
TZOFFSETTO:+0100
TZNAME:CET
DTSTART:20231029T010000
END:STANDARD
BEGIN:DAYLIGHT
TZOFFSETFROM:+0100
TZOFFSETTO:+0200
TZNAME:CEST
DTSTART:20240331T010000
END:DAYLIGHT
BEGIN:STANDARD
TZOFFSETFROM:+0200
TZOFFSETTO:+0100
TZNAME:CET
DTSTART:20241027T010000
END:STANDARD
BEGIN:DAYLIGHT
TZOFFSETFROM:+0100
TZOFFSETTO:+0200
TZNAME:CEST
DTSTART:20250330T010000
END:DAYLIGHT
BEGIN:STANDARD
TZOFFSETFROM:+0200
TZOFFSETTO:+0100
TZNAME:CET
DTSTART:20251026T010000
END:STANDARD
END:VTIMEZONE
BEGIN:VEVENT
DTSTART;TZID=Europe/Oslo:20240529T093000
DTEND;TZID=Europe/Oslo:20240529T093000
DTSTAMP:20260424T214023
CREATED:20240523T092634Z
LAST-MODIFIED:20240523T092701Z
UID:15995-1716975000-1716975000@uvdal.no
SUMMARY:Barseltreff yoga & shopping!
DESCRIPTION:D Unike inviterer deg og babyen på barseltreff!\n Mamma yoga med Sabine30 min yoga\, enkle og rolige øvelser – passer for alle!\nGode tilbud & goodiebagsEnkel servering\n\nONSDAG 29.MAI kl. 09.30\ni avd. D UNIKE! Barn & ungdom\n\nPåmelding innen tirsdag 28.mai til Eilen\, tlf. 913 93 296 eller DM.obs! begrenset antall plasser på yoga-økta.Gravide er også velkommen\nEllers alle velkommen fra kl.10.30\, gode tilbud hele dagen!
URL:https://uvdal.no/arrangement/barseltreff-yoga-shopping/
LOCATION:D Unike Rødberg\, Uvdalsvegen\, Rødberg\, 3630
ATTACH;FMTTYPE=image/jpeg:https://uvdal.no/wp-content/uploads/2024/05/D-Unike-barseltreff.jpg
END:VEVENT
END:VCALENDAR