BEGIN:VCALENDAR
VERSION:2.0
PRODID:-//Uvdal - ECPv6.15.20//NONSGML v1.0//EN
CALSCALE:GREGORIAN
METHOD:PUBLISH
X-WR-CALNAME:Uvdal
X-ORIGINAL-URL:https://uvdal.no
X-WR-CALDESC:Arrangement for Uvdal
REFRESH-INTERVAL;VALUE=DURATION:PT1H
X-Robots-Tag:noindex
X-PUBLISHED-TTL:PT1H
BEGIN:VTIMEZONE
TZID:Europe/Oslo
BEGIN:DAYLIGHT
TZOFFSETFROM:+0100
TZOFFSETTO:+0200
TZNAME:CEST
DTSTART:20230326T010000
END:DAYLIGHT
BEGIN:STANDARD
TZOFFSETFROM:+0200
TZOFFSETTO:+0100
TZNAME:CET
DTSTART:20231029T010000
END:STANDARD
BEGIN:DAYLIGHT
TZOFFSETFROM:+0100
TZOFFSETTO:+0200
TZNAME:CEST
DTSTART:20240331T010000
END:DAYLIGHT
BEGIN:STANDARD
TZOFFSETFROM:+0200
TZOFFSETTO:+0100
TZNAME:CET
DTSTART:20241027T010000
END:STANDARD
BEGIN:DAYLIGHT
TZOFFSETFROM:+0100
TZOFFSETTO:+0200
TZNAME:CEST
DTSTART:20250330T010000
END:DAYLIGHT
BEGIN:STANDARD
TZOFFSETFROM:+0200
TZOFFSETTO:+0100
TZNAME:CET
DTSTART:20251026T010000
END:STANDARD
END:VTIMEZONE
BEGIN:VEVENT
DTSTART;VALUE=DATE:20240517
DTEND;VALUE=DATE:20240518
DTSTAMP:20260424T213953
CREATED:20240507T131509Z
LAST-MODIFIED:20240507T131621Z
UID:15924-1715904000-1715990399@uvdal.no
SUMMARY:17 mai på Tunhovd
DESCRIPTION:Møt opp alle som kan til 17. mai-tog i bygda. \nNRK kommer og vil filme herfra\, så la oss da sammen lage et langt og livlig tog. \nMøt opp i god tid før kl.13.30. PS. Husk flagg og fløyte. \nTa med hele familien\, venner og bekjente! \nVelkommen til Tunhovd! \n 
URL:https://uvdal.no/arrangement/17-mai-pa-tunhovd/
LOCATION:Tunhovd
END:VEVENT
BEGIN:VEVENT
DTSTART;VALUE=DATE:20240517
DTEND;VALUE=DATE:20240518
DTSTAMP:20260424T213953
CREATED:20240513T104539Z
LAST-MODIFIED:20240513T104814Z
UID:15952-1715904000-1715990399@uvdal.no
SUMMARY:17. mai program for hele kommunen
DESCRIPTION:Velkommen til hyggelig feiring i Nore og Uvdal 17 mai! \n  \nDet er tradisjon for flere feiringer på 17. mai i Nore og Uvdal kommune. \n\nHer er planene for årets 17. mai! \nUvdal skole\, Rødberg og Numedalshallen:\n\n\n\n\nKlokka\n\n\n\n10:00\nGratis buss til Rødberg fra Uvdal Herredshus og Nore skole\n\n\n10:30\nOppmøte og oppstilling av barnekoret\n\n\n10:45\nÅpning på Bergtun v/ordfører Oddvar Svendsen\nPraktisk info for dagen\, barnekor\, tale og korpsmusikk. Ja vi elsker\, 2 vers\n\n\n11:15\nToget går fra Bergtun til Fritidsparken\nVeteranbil kortesje etter toget\, kjører til Statskraft\nFlaggborg\, informasjon\, korpsene spiller\, salutt\, Gud signe vårt dyre fedreland\, 2 vers\n\n\nCa. kl. 12:00\nAvreise\, bussene går til Norefjord og til Uvdal Herredshus\n\n\n\n\nArr: Nore og Uvdal kommune\, elever og foreldre v/7 klasse Rødberg skole og FAU Uvdal skole\n  \nNumedalshallen\n\n\n\n\nKlokka\nDørene åpnes kl. 12:00\n\n\n12:30\nInnmarsj\, flaggborg og underholdning\n\n\n13.00\nLekene starter: Salg av suppe\, kiosk og loddsalg\n\n\n14:00\nTale for dagen v/ Emilie Bølviken\n\n\n15:30\nLoddtrekning og premieutdeling\n\n\n16:00\nAvslutning\, vel hjem\n\n\n16:05\nBussene går\n\n\n\n\nArr: Elever og foreldre i 7. klasse Rødberg skole\n  \nUvdal skole\n\n\n\n\nKlokka\n\n\n\n12:00\nKiosk og suppesalg starter\n\n\n12:30\nOppstilling Uvdal skole. Vi synger første vers av » Ja vi elsker»\n\n\n13:00\nTale for dagen v/ ordfører Oddvar Svendsen\n\n\n13:10\nUnderholdning\n\n\n15:00\nPremieutdeling\, trekning og avslutning\n\n\n\n\nArr: FAU Uvdal skole \n  \nVi ønsker alle hjertelig velkommen til en hyggelig 17. maifeiring! \nØvrig informasjon\n\nInngang Numedalshallen kr. 100\,- for voksne. Barn 0 – 16 år gratis\nKaffe og kaker\nGratis is til barna ved ankomst\nKiosk- og suppesalg\nLoddsalg og tippekonkurranse\nLekaktiviteter\nSkyting og hesteskokasting\nVi tar vipps og kontanter\n\nBusser\nKl. 10:00 Til Rødberg fra Nore skole og Uvdal Herredshus\nKl. 12:00 Fra Rødberg til Numedalshallen og Uvdal skole\nKl. 16:05 Fra Numedalshallen til Rødberg \nAlle som ønsker kan sitte på med bussene! \n  \nMesse i Tunhovd kirke kl. 14:00 \nTittel: Gudstjeneste\nPrest: Kristine Bekken Aschim\nOrganist: Joar Myrvang\nKirkevert: Gullik Lian\nPrekentekst: Matt 22\,17-22\nDag i kirkeåret: 17. mai\nOffer til: Leger uten grenser\nFørste lesetekst: 1 Krøn 29\,10-14\nAndre lesetekst: 1 Tim 2\,1-4 \n \n  \nFoto flagg forsiden: Nore kirke
URL:https://uvdal.no/arrangement/17-mai-program-for-hele-kommunen/
LOCATION:Nore og Uvdal
ATTACH;FMTTYPE=image/jpeg:https://uvdal.no/wp-content/uploads/2023/05/17-mai-Nore-kirke.jpg
END:VEVENT
BEGIN:VEVENT
DTSTART;TZID=Europe/Oslo:20240517T120000
DTEND;TZID=Europe/Oslo:20240517T120000
DTSTAMP:20260424T213953
CREATED:20240410T135955Z
LAST-MODIFIED:20240410T140054Z
UID:15828-1715947200-1715947200@uvdal.no
SUMMARY:17. mai buffet i Storstua
DESCRIPTION:Velkommen til Camp Uvdal 17 mai. \n  \nVelkommen til familiebuffet i Storstua. \nDet vil bli servert helgrillet ytrefilet av storfe med tilbehør\, salater\, kyllingspyd med mer.\nVoksne : Kr 395 inkl dessert\nBarn kr 200 inkl dessert \nTo bord settinger:\nKl 12 – 15\nKl 15 – 18 \nGratis bruk av Aktivitetsparken hele dagen inkludert\nPåmelding innen 10. mai\nForbehold om nok påmeldte. Bekreftelse sendes 11. mai! \n 
URL:https://uvdal.no/arrangement/17-mai-buffet-i-storstua/
LOCATION:Camp Uvdal\, Uvdalsvegen 966\, Uvdal\, 3632\, Norge
END:VEVENT
END:VCALENDAR