BEGIN:VCALENDAR
VERSION:2.0
PRODID:-//Uvdal - ECPv6.15.20//NONSGML v1.0//EN
CALSCALE:GREGORIAN
METHOD:PUBLISH
X-ORIGINAL-URL:https://uvdal.no
X-WR-CALDESC:Arrangement for Uvdal
REFRESH-INTERVAL;VALUE=DURATION:PT1H
X-Robots-Tag:noindex
X-PUBLISHED-TTL:PT1H
BEGIN:VTIMEZONE
TZID:Europe/Oslo
BEGIN:DAYLIGHT
TZOFFSETFROM:+0100
TZOFFSETTO:+0200
TZNAME:CEST
DTSTART:20230326T010000
END:DAYLIGHT
BEGIN:STANDARD
TZOFFSETFROM:+0200
TZOFFSETTO:+0100
TZNAME:CET
DTSTART:20231029T010000
END:STANDARD
BEGIN:DAYLIGHT
TZOFFSETFROM:+0100
TZOFFSETTO:+0200
TZNAME:CEST
DTSTART:20240331T010000
END:DAYLIGHT
BEGIN:STANDARD
TZOFFSETFROM:+0200
TZOFFSETTO:+0100
TZNAME:CET
DTSTART:20241027T010000
END:STANDARD
BEGIN:DAYLIGHT
TZOFFSETFROM:+0100
TZOFFSETTO:+0200
TZNAME:CEST
DTSTART:20250330T010000
END:DAYLIGHT
BEGIN:STANDARD
TZOFFSETFROM:+0200
TZOFFSETTO:+0100
TZNAME:CET
DTSTART:20251026T010000
END:STANDARD
END:VTIMEZONE
BEGIN:VEVENT
DTSTART;VALUE=DATE:20240419
DTEND;VALUE=DATE:20240422
DTSTAMP:20260424T231323
CREATED:20240119T083209Z
LAST-MODIFIED:20240227T084941Z
UID:15168-1713484800-1713743999@uvdal.no
SUMMARY:Mountain Yoga på Langedrag
DESCRIPTION:Velkommen til en nydelig Mountain Yoga retreat med Gitte-Lill i vakre omgivelser blant dyr og natur på Langedrag! \n\nProgram: \nFredag 19 april:\nAnkomst mellom 17-20\n17.30 – 19.30 Tre retters middag\n21.00 : Yoga Nidra (Yoga Nidra er en guidet meditasjon hvor du kan legge deg ned komfortabelt. Yoga Nidra tar oss uanstrengt inn i en avslappende og harmonisk tilstand. Herfra er det mulig å oppleve helbredelse og dyp restaurering. Det er også mulig å dykke dypere under overflaten\, bli mer bevisst og knyttet til vår sanne natur. Veldig god meditasjon for å berolige nervesystemet og god søvn.) \nLørdag 20 april:\n07.30 : Vinyasa Yoga (Vinyasa betyr å koble bevegelse med pust. Under yogapraksisen din kan du fokusere på å bevisstgjøre pusten\, og bruke pusten som en måte å veilede deg gjennom bevegelsene. Vinyasa yoga er en dynamisk praksis hvor du beveger deg gjennom en flyt av forskjellige yogastillinger. Dette hjelper at kroppen bygger fleksibilitet\, styrke og balanse.)\n08.30 Frokost\n09.30 Kos med geitekillinger i fjøset\n11.30 Skitur til gapahuken for mindfulness. ( Mindfulness betyr å opprettholde en øyeblikk-for-øyeblikk bevissthet om våre tanker\, følelser\, kroppslige sanser og omgivelsene gjennom en skånsom\, nærende guidet meditasjon. Stillingen kan være sittende eller liggende.)\n14.00 Foring av ulv og gaupe\n17.30 : Tre retters middag\n19.00: Yin yoga (Yin Yoga er en rolig form for yoga der vi fremmer sirkulasjon på bindevevsnivå\, noe som er godt for restitusjon. Vi holder stillingene i 2 til 5 minutter. Her lar vi kroppen roe seg ned og tøyer godt ut. \nSøndag 21 april:\n07.30: Vinyasa Yoga (Vinyasa betyr å koble bevegelse med pust. Under yogapraksisen din kan du fokusere på å bevisstgjøre pusten\, og bruke pusten som en måte å veilede deg gjennom bevegelsene. Vinyasa yoga er en dynamisk praksis hvor du beveger deg gjennom en flyt av forskjellige yogastillinger. Dette hjelper at kroppen bygger fleksibilitet\, styrke og balanse.)\n08.30: Frokost\n10.00: Ridetur med norsk fjordhest\n12.00: Foring av reinsdyr\, elg og villsvin Arrangementet er for alle uansett om du er ny til yoga eller erfaren. \nPris 7350 kr per person inkludert alt i programmet som blant annet inneholder fire yogaøkter\, ridetur med fjordhest\, inngang\, fri tilgang til hele parken\, guidet foring av rovdyr\, overnatting i eget rom med bad og alle måltider. \n  \nVi kombinerer mektig natur\, samspillet med dyr og yoga som har fokus på økt kroppsbevissthet\, evnen til å slappe av og nyte øyeblikket. I samarbeid med Mountainyoga følger vi mottoet til Langedrag «Lytt til naturens stemme»  hvor man får komme tett på ulv\, gaupe\, fjellrev\,reinsdyr og elg m.fl. Yogaøktene foregår i vår koselige peisestue mellom alle dyrene\, og i vår innendørs gapahuk rundt bålet ved vår flotte seter på fjellet. Det er mulig å låne yogamatte inkludert i prisen. \nDette blir opplevelser som skaper forståelse\, ydmykhet\, og kunnskap som bygger opp under en dypere respekt for det økologiske samspill\, naturens lovmessighet og alt levende liv. \nDette blir en fullspekket helg av unike opplevelser med norsk fauna\, ridetur og helt spesielle naturopplevelser\, samt undervisning med god variasjon av yoga og mindfulness. \nPåmelding skjer direkte her Langedrag Naturpark booking \nFor ytterligere informasjon ta kontakt med Langedrag på tlf.+47 32742550 eller send dem en e-post: post@langedrag.no \n 
URL:https://uvdal.no/arrangement/mountain-yoga-med-gitte-lill-pa-langedrag/
LOCATION:Langedrag Naturpark\, Tunhovd\, 3544
ATTACH;FMTTYPE=image/jpeg:https://uvdal.no/wp-content/uploads/2024/01/Mountain-Yoga-2024.jpg
END:VEVENT
BEGIN:VEVENT
DTSTART;TZID=Europe/Oslo:20240421T180000
DTEND;TZID=Europe/Oslo:20240421T180000
DTSTAMP:20260424T231323
CREATED:20240403T124225Z
LAST-MODIFIED:20240403T125629Z
UID:15783-1713722400-1713722400@uvdal.no
SUMMARY:Konsert med Kongsberg Storband i Skjønne kirke
DESCRIPTION:Velkommen til  konsert med Kongsberg Storband i Skjønne kirke søndag 21.april kl. 18.00 \nDuke Ellingtons «Sacred Concert»\nframføres av\nKongsberg Storband\, Anne-Carolyn Schlüter samt prosjektkor\nDirigent: Bjørn Bogetvedt \nKongsberg Storband er en musikalsk hjørnesteinsinstitusjon i jazzbyen Kongsberg. Bandet har\nigjennom mer enn 30 år kombinert spilleglede\, talentutvikling og aktiv tilstedeværelse i musikklivet i\nbyen. \nStorbandet har jevnlig samarbeid med profesjonelle solister. En av disse er mezzosopranen AnneCarolyn Schlüter. Hun har opptrådt på scener over hele verden\, og bl.a. jobbet med Sir Colin Davies i\nMadrid og turnert med Claudio Abbado gjennom flere italienske operahus\, The Edinburgh Festival og\npå Festspielhaus Baden-Baden. Hennes repertoar er bredt og hun utforsker stemmen og stemmebruk\ni ulike sjangre. \nKongsberg storband har nå inngått et nytt og spennende samarbeid med Anne-Carolyn Schlüter. Hun\nhar satt sammen et prosjektkor med dyktige og erfarne amatører fra det lokale musikkmiljøet.\nSammen fremfører storbandet\, Schlüter og prosjektkoret Duke Ellingtons Sacred Concert i flere kirker\ni 2024. \nMange kjenner Duke Ellington som en av jazzens store legender. Det ikke alle vet\, er at han mot\nslutten av sin lange karriere skrev et helt unikt tredelt kirkemusikk-verk for storband og kor: Sacred\nConcert. Dette er et verk hvor jazz og klassisk blir blandet på en helt spesiell måte. Sacred Concert blir\nomtalt som et mesterverk\, og det inneholder både rytmisk\, drømmende\, vakker og fengende musikk.\nEllington var dypt kristen\, og tekstene og musikken er preget av den amerikanske gospeltradisjonen.\nKonserten er en unik mulighet til å høre utdrag av dette verket fremført av en fremragende solist\, et\nsamspilt storband og et håndplukket kor satt sammen for anledningen.\nDirigent for prosjektet er Bjørn Bogetvedt. Han har sin utdannelse fra Norges Musikkhøyskole og har\nvært ansatt som eufoniumist i Marinemusikken fra 1984 – 2017\, bare avbrutt av to år som rektor ved Kongsberg Kulturskole. Han har også dirigert mange forskjellige ensembler\, både amatører\nprofesjonelle. I perioden 2017 – 22 var han dirigent for Gardemusikken.
URL:https://uvdal.no/arrangement/konsert-med-kongsberg-storband-i-skjonne-kirke/
LOCATION:Skjønne kirke
ATTACH;FMTTYPE=image/jpeg:https://uvdal.no/wp-content/uploads/2024/04/kongsberg-storband-WEB_foto_stein-hofve-660x500-1.jpg
ORGANIZER;CN="Menighetene Nore%2C Uvdal og Tunhovd":MAILTO:kirkekontoret@nore.kirken.no
END:VEVENT
END:VCALENDAR