BEGIN:VCALENDAR
VERSION:2.0
PRODID:-//Uvdal - ECPv6.15.20//NONSGML v1.0//EN
CALSCALE:GREGORIAN
METHOD:PUBLISH
X-ORIGINAL-URL:https://uvdal.no
X-WR-CALDESC:Arrangement for Uvdal
REFRESH-INTERVAL;VALUE=DURATION:PT1H
X-Robots-Tag:noindex
X-PUBLISHED-TTL:PT1H
BEGIN:VTIMEZONE
TZID:Europe/Oslo
BEGIN:DAYLIGHT
TZOFFSETFROM:+0100
TZOFFSETTO:+0200
TZNAME:CEST
DTSTART:20230326T010000
END:DAYLIGHT
BEGIN:STANDARD
TZOFFSETFROM:+0200
TZOFFSETTO:+0100
TZNAME:CET
DTSTART:20231029T010000
END:STANDARD
BEGIN:DAYLIGHT
TZOFFSETFROM:+0100
TZOFFSETTO:+0200
TZNAME:CEST
DTSTART:20240331T010000
END:DAYLIGHT
BEGIN:STANDARD
TZOFFSETFROM:+0200
TZOFFSETTO:+0100
TZNAME:CET
DTSTART:20241027T010000
END:STANDARD
BEGIN:DAYLIGHT
TZOFFSETFROM:+0100
TZOFFSETTO:+0200
TZNAME:CEST
DTSTART:20250330T010000
END:DAYLIGHT
BEGIN:STANDARD
TZOFFSETFROM:+0200
TZOFFSETTO:+0100
TZNAME:CET
DTSTART:20251026T010000
END:STANDARD
END:VTIMEZONE
BEGIN:VEVENT
DTSTART;VALUE=DATE:20240322
DTEND;VALUE=DATE:20240402
DTSTAMP:20260424T230345
CREATED:20240322T135246Z
LAST-MODIFIED:20240324T064339Z
UID:15689-1711065600-1712015999@uvdal.no
SUMMARY:Rødberg sentrum i påsken/ åpningstider
DESCRIPTION:  \n Har du store handleplaner i påsken er det flere dager du bør være oppmerksom på åpningstidene.  \n  \nDet er mange gode påsketilbud i butikkene\, her kan du gjøre supre kuup! \n  \n  \n  \n \n  \n  \n Dette er åpningstidene som gjelder for Rødberg sentrum: \n  \nKiwi Rødberg:  \nFredag 07:00 – 23:00 \nLørdag 07:00 – 21:00 \nSøndag (Palmesøndag) 10:00 – 21:00 \nMandag (Man i Påskeuka) 07:00 – 23:00 \nTirsdag (Tir i Påskeuka) 07:00 – 23:00 \nOnsdag (Ons i Påskeuka) 07:00 – 23:00 \nTorsdag (Skjærtorsdag) 07:00 – 23:00 \nSpesielle åpningstider \nLangfredag 29.03.24 07:00 – 23:00 \nPåskeaften 30.03.24 07:00 – 21:00\, 1. og 2. påskedag 10 -21.00 \nPå Kiwi for du alt til påske\, også et godt utvalg av påskelam og påskeblomster! \n  \nDitt Apotek Rødberg: \nMandag – onsdag 25 – 27 mars 0900 – 17.00 \nSkjærtorsdag og Langfredag er det stengt \nPåskeaften 10.00 – 13.00 / 1. og 2. påskedag er det stengt \nHer kan du få de beste solkremproduktene! \n  \nNye Risans/ baker : \nMandag – onsdag 25 – 27 mars 10.00 – 15.30 \nSkjærtorsdag og Langfredag er det stengt \nPåskeaften 10.00 – 15.30 / 1. og 2. påskedag er det stengt \nBeste baker med knallgode kaker! \n  \nRødberg hotell/ kafè: \nMandag – onsdag 25 – 27 mars fra kl. 11.00 – 20.00 \nResten av påsken er det stengt \nKoselig lokalt spisested med mye god mat og uteservering! \n  \nElon Rødberg: \nMandag – onsdag 25 – 27 mars 0900 -17.00 \nSkjærtorsdag og Langfredag er det stengt \nPåskeaften 30 mars fra kl. 10 – 14.00 / 1. og 2\, påskedag er det stengt \nHer for du alt innen elektronikk og lekre lamper! \n  \nLykkebua klær og smykker: \nMandag – onsdag 25 – 27 mars 10 – 17.00 \nSkjærtorsdag og Langfredag er det stengt \nPåskeaften 10 – 15.00 / 1. og 2. påskedag er det stengt \nHer for du personlig service med et godt utvalg av dame og herreklær! \n  \nD Unike voksen og barneavdeling: \nMandag-onsdag  25 -27 mars 10-1700 \nSkjørtorsdag og Langfredag er det stengt \nPåskeaften  10-14.00/ 1. og 2. påskedag er det stengt \nHer finner du to butikker\, med lekre klær til voksne\, ungdom og barn! \n  \nSport 1 og Happy Homes/ Malia: \nLørdag 23/3: 09 – 16.00 \nPalmesøndag: 12 – 17.00 \nMandag – onsdag 25 – 27 mars : 09 – 19.00 \nSkjærtorsdag: 09 – 18.00 \nLangfredag: 09 – 18.00 \nPåskeaften: 09 – 16.00 \n1 og 2 påskedag er det stengt \nSport 1 har alt til en fin påskeferie\, de prepper også skiene dine! \n  \nFørste Etasje/ YES vi leker: \nMandag – onsdag 25 -27 mars 09.00 19.00 \nSkjærtorsdag 10.00 -18.00 \nLangfredag 10.00 – 18.00 \nPåskeaften 09.00 – 16.00 / 1. og 2. påskedag er det stengt \nVår elegante interiør og damebutikk med egen lekeavdeling for de minste! \n  \nNore Auto 24/7 tjeneste: \nDe er på vakt 24/7 når uhellet er ute med bilen i påsken\, ta kontakt på 901  31 100. \nDisse folka kan du stole på når uhellet er ute! \n  \nUvdalsbua:  \nMandag – onsdag 25 -27 mars 10.00 – 16.00 \nSkjærtorsdag 10.00 – 18.00 \nLangfredag 10 – 18.00 \nPåskeaften 10.00 – 15.00 / 1. og 2. påskedag er det stengt \nBeste takeaway kaffe og mye lekkerheter innen lokalmat! \n  \nRødberg veiservice / Jafs & Shell Rødberg: \nÅpent alle dager i påsken fra kl. 09.00 – 22.00 \nHer for du mat fra Jafs\, godt utvalg og selvfølgelig bensin og diesel! \n  \nVinmonopolet: \nMandag 25 og tirsdag 26 mars 10 – 18.00 \nOnsdag 27 mars 10 – 16.00 \nSkjærtorsdag og Langfredag er det stengt \nPåskeaften 10.00 -15.00 \nVårt fine lille pol\, åpent i påsken! \n  \nVi  ønsker alle en god påske\, håper vi sees på Rødberg! \n  \n  \n \n  \n  \n  \n  \n  \n  \n  \n  \n  \n  \n  \n  \n 
URL:https://uvdal.no/arrangement/rodberg-sentrum-i-pasken/
LOCATION:Rødberg sentrum
ATTACH;FMTTYPE=image/jpeg:https://uvdal.no/wp-content/uploads/2024/03/338908933_238805855262587_6645413586215044197_n-1.jpg
END:VEVENT
BEGIN:VEVENT
DTSTART;VALUE=DATE:20240324
DTEND;VALUE=DATE:20240402
DTSTAMP:20260424T230345
CREATED:20240125T073915Z
LAST-MODIFIED:20240125T081656Z
UID:15196-1711238400-1712015999@uvdal.no
SUMMARY:Påskefeiring med Langedrag
DESCRIPTION:Langedrag Naturpark ønsker dagsbesøkende og overnattingsgjester velkommen til påskefeiring.\n\n \n\nVi tilbyr et mangfold av dyr og opplevelser for både store og små\, og påsken er intet unntak! Snarere tvert imot\, da vi skal arrangere påskehopprenn\, vi gjemmer påskeegg i parken med premier i og det blir mulighet for å se kyllinger bli klekket! \nSå må man jo ikke glemme påskeverkstedet\, hvor man kan male egg. \nLangedrag håper på et stort oppmøte under hopprennet\, hvor det blir premier til 1. 2. og 3. lengste hopp. \n  \nSkiløyper i alle retninger: \n\nLangedrag er kjent for ulvekyss og vakre fjordhester og alt det der – men visste du at vi også er et fantastisk utgangspunkt for endeløse skiløyper? \nFra Langedrag kan du gå mil på mil på ski\, både gjennom skog og opp på snaufjellet. Her er eldorado for langrenns-elskeren og gode\, flate løyper for nybegynneren. \nSki-in\, Ski-out er ikke bare forbeholdt de store vintersportstedene – på Langedrag får du langrennsløypene rett ut fra tunet – de starter rett og slett mellom reinsdyrene og villsvinene – et bedre utgangspunkt for skituren får du neppe. \nKanskje får mor en tur innover fjellet på ski mens resten av familien koser seg i kaninrommet eller med kakao på Ulveterassen? \nFor mer info og skikart se her \n\n  \nAndre ting som skjer her på Langedrag i påsken: \n– Hundekjøring\, kjør ditt eget hundespann!\n– Opplev ulv og gaupe på nært hold\n– Vær med inn til fjellrev og reinsdyr\n– Besøk de tamme elgene våre\n– Snørekjøring med hest på ski eller akebrett.\n– Bli gjerne med å stelle geiter\, hester\, villsvin\, m.fl\n– Besøk fjellrevene\, og la de spise fra hånden din\n– Rideturer ut fra gården\, balanselek på hesteryggen\n– Kanefart (snø forbehold)\n– Historie i peisestua om kvelden\n– Sammenlign deg med dyrene\, Naturkunnskapsbeviset\n– Flott fjellterreng med oppkjørte skiløyper fra tunet\n– Kyllinger klekkes hver dag i påskeuken\n– Gudstjeneste på Palmesøndag \n\nSe her for booking \nSe her for aktiviteter \n\nVi tilbyr fullpensjon i koselige rustikke omgivelser og hjemmelaget mat.\nFlere alpinbakker i nærmiljøet; Nesbyen\, Geilo og Uvdal! \n\nKontaktinfo: \n\n+47  32742550 eller  epost: post@langedrag.no\n\n\nVell møtt til en opplevelsesrik påske til fjells!
URL:https://uvdal.no/arrangement/paskefeiring-med-langedrag/
LOCATION:Langedrag Naturpark\, Tunhovd\, 3544
ATTACH;FMTTYPE=image/jpeg:https://uvdal.no/wp-content/uploads/2023/03/Hundekjoring-vinter-Langedrag-e1678454761107.jpg
ORGANIZER;CN="Langedrag Naturpark":MAILTO:post@langedrag.no
END:VEVENT
BEGIN:VEVENT
DTSTART;VALUE=DATE:20240324
DTEND;VALUE=DATE:20240402
DTSTAMP:20260424T230345
CREATED:20240206T135948Z
LAST-MODIFIED:20240206T140135Z
UID:15295-1711238400-1712015999@uvdal.no
SUMMARY:Påsketilbud på Langedrag
DESCRIPTION:Akkurat nå\, og frem til 20. Februar\, har vi et #påsketilbud på overnatting hos oss i påsken (24. mars – 1. april)\n\n\nBli med på:\n\nGRATIS REVECAMP\nGRATIS NARE-BESØK\n\n\n\nMed din bestilling\, vil du få et gratis nærmøte med ulven Nare. For å bli med inn til Nare må man være over 12 år\, er det noen i følge som er under 12år vil de få #gratis revecamp.\nFor å søtne tilbudet enda litt til\, vil de som bestiller overnatting fra og med i dag få 2023 priser.\n\n\n\nHusk å bestille før 20. februar\n\n\n\nSend oss en epost til: post@langedrag.no merket “Påsketilbud” for bestilling og mer info.
URL:https://uvdal.no/arrangement/pasketilbud-pa-langedrag/
LOCATION:Langedrag Naturpark\, Tunhovd\, 3544
ATTACH;FMTTYPE=image/jpeg:https://uvdal.no/wp-content/uploads/2024/02/PAsketilbud-Langedrag.jpg
ORGANIZER;CN="Langedrag Naturpark":MAILTO:post@langedrag.no
END:VEVENT
END:VCALENDAR