BEGIN:VCALENDAR
VERSION:2.0
PRODID:-//Uvdal - ECPv6.15.20//NONSGML v1.0//EN
CALSCALE:GREGORIAN
METHOD:PUBLISH
X-WR-CALNAME:Uvdal
X-ORIGINAL-URL:https://uvdal.no
X-WR-CALDESC:Arrangement for Uvdal
REFRESH-INTERVAL;VALUE=DURATION:PT1H
X-Robots-Tag:noindex
X-PUBLISHED-TTL:PT1H
BEGIN:VTIMEZONE
TZID:Europe/Oslo
BEGIN:DAYLIGHT
TZOFFSETFROM:+0100
TZOFFSETTO:+0200
TZNAME:CEST
DTSTART:20230326T010000
END:DAYLIGHT
BEGIN:STANDARD
TZOFFSETFROM:+0200
TZOFFSETTO:+0100
TZNAME:CET
DTSTART:20231029T010000
END:STANDARD
BEGIN:DAYLIGHT
TZOFFSETFROM:+0100
TZOFFSETTO:+0200
TZNAME:CEST
DTSTART:20240331T010000
END:DAYLIGHT
BEGIN:STANDARD
TZOFFSETFROM:+0200
TZOFFSETTO:+0100
TZNAME:CET
DTSTART:20241027T010000
END:STANDARD
BEGIN:DAYLIGHT
TZOFFSETFROM:+0100
TZOFFSETTO:+0200
TZNAME:CEST
DTSTART:20250330T010000
END:DAYLIGHT
BEGIN:STANDARD
TZOFFSETFROM:+0200
TZOFFSETTO:+0100
TZNAME:CET
DTSTART:20251026T010000
END:STANDARD
END:VTIMEZONE
BEGIN:VEVENT
DTSTART;TZID=Europe/Oslo:20240321T173000
DTEND;TZID=Europe/Oslo:20240321T173000
DTSTAMP:20260425T004630
CREATED:20240216T125503Z
LAST-MODIFIED:20240216T141950Z
UID:15417-1711042200-1711042200@uvdal.no
SUMMARY:Tilflytterkveld på Rødberg
DESCRIPTION:Har du kommet til Nore og Uvdal for og bo eller jobbe i løpet av 2023/2024?\n\nDu inviteres til middag kl 17:30 torsdag 21 mars\, der vi presenterer hva kommunen har å by på og hvor du kan bli kjent med andre!\n\nFra kl 19:30 er alle hjertelig velkommen til bygdekaran sin samling i puben.\n\nPåmelding til Bygdeutvikler Lars på mob. 926 37 080 eller lg@noreuvdal.no\n\nVelkommen!
URL:https://uvdal.no/arrangement/tilflytterkveld-pa-rodberg/
LOCATION:Rødberg hotell\, Rudisvingen 10\, Rødberg\, 3630\, Norge
ORGANIZER;CN="Nore og Uvdal kommune":MAILTO:post@nore-og-uvdal.kommune.no
END:VEVENT
END:VCALENDAR