BEGIN:VCALENDAR
VERSION:2.0
PRODID:-//Uvdal - ECPv6.15.20//NONSGML v1.0//EN
CALSCALE:GREGORIAN
METHOD:PUBLISH
X-ORIGINAL-URL:https://uvdal.no
X-WR-CALDESC:Arrangement for Uvdal
REFRESH-INTERVAL;VALUE=DURATION:PT1H
X-Robots-Tag:noindex
X-PUBLISHED-TTL:PT1H
BEGIN:VTIMEZONE
TZID:Europe/Oslo
BEGIN:DAYLIGHT
TZOFFSETFROM:+0100
TZOFFSETTO:+0200
TZNAME:CEST
DTSTART:20230326T010000
END:DAYLIGHT
BEGIN:STANDARD
TZOFFSETFROM:+0200
TZOFFSETTO:+0100
TZNAME:CET
DTSTART:20231029T010000
END:STANDARD
BEGIN:DAYLIGHT
TZOFFSETFROM:+0100
TZOFFSETTO:+0200
TZNAME:CEST
DTSTART:20240331T010000
END:DAYLIGHT
BEGIN:STANDARD
TZOFFSETFROM:+0200
TZOFFSETTO:+0100
TZNAME:CET
DTSTART:20241027T010000
END:STANDARD
BEGIN:DAYLIGHT
TZOFFSETFROM:+0100
TZOFFSETTO:+0200
TZNAME:CEST
DTSTART:20250330T010000
END:DAYLIGHT
BEGIN:STANDARD
TZOFFSETFROM:+0200
TZOFFSETTO:+0100
TZNAME:CET
DTSTART:20251026T010000
END:STANDARD
END:VTIMEZONE
BEGIN:VEVENT
DTSTART;TZID=Europe/Oslo:20240308T200000
DTEND;TZID=Europe/Oslo:20240309T230000
DTSTAMP:20260425T022446
CREATED:20240119T082051Z
LAST-MODIFIED:20240119T082406Z
UID:15162-1709928000-1710025200@uvdal.no
SUMMARY:Monoski Landstreff I Uvdal Skisenter
DESCRIPTION:Norges Monoskiforening inviterer alle der ute som enten har monoski eller får skaffet seg en til treff i Uvdal lørdag 9.mars!\n\nHelgen blir fylt med historier og hygge\, monoski og afterski.\nAlle er velkommen\, bare du har en monoski på beina.\nPå dagen blir det cruising rundt i Uvdals bakker\, gruppebilder og formasjonskjøring.\n\nProgram:\nFredag blir det gallamiddag i Snowboardmuseet kl.20.00. Her blir det utdeling av Gull-Mono\, taler\, kåringer og sang i kjent stil. Kirkesangeren i Uvdal kommer for å fylle rommet med vakre juletoner før vi drar opp i Lavvoen.\nLørdag har vi oppmøte på bunn stasjon kl. 11.00. Så cruiser vi i bakken og hygger oss tett etterfulgt av afterski i Lavvoen.\nVi får servert litt enkel bespisning på lavvoen under afterskien\, så vi holder ut hele kvelden.\n«Monopakka» koster kr 2400\,- og inneholder:\n– Overnatting i leiligheter i skisenteret\n– Heiskort lørdag og søndag\n– Gallamiddag fredag\n– Enkel bespisning i Lavvoen lørdag\n«Mono&Mat» koster kr 650\,- og inneholder:\n– Gallamiddag fredag\n– Enkel bespisning i Lavoen lørdag\n\nPåmelding:\nSend følgende informasjon til e-post: snowboardtrener@gmail.com \nTlf: 93047581 for ytterligere spørsmål\nMONOSKI LANDSTREFF!\nNavn:\nMonopakka eller Mono&Mat:\nBo med:
URL:https://uvdal.no/arrangement/monoski-landstreff-i-uvdal-skisenter-2/
LOCATION:Uvdal Skisenter\, Uvdal\, 3632\, Norge
ATTACH;FMTTYPE=image/jpeg:https://uvdal.no/wp-content/uploads/2024/01/Monoski-2024.jpg
END:VEVENT
END:VCALENDAR