BEGIN:VCALENDAR
VERSION:2.0
PRODID:-//Uvdal - ECPv6.15.20//NONSGML v1.0//EN
CALSCALE:GREGORIAN
METHOD:PUBLISH
X-WR-CALNAME:Uvdal
X-ORIGINAL-URL:https://uvdal.no
X-WR-CALDESC:Arrangement for Uvdal
REFRESH-INTERVAL;VALUE=DURATION:PT1H
X-Robots-Tag:noindex
X-PUBLISHED-TTL:PT1H
BEGIN:VTIMEZONE
TZID:Europe/Oslo
BEGIN:DAYLIGHT
TZOFFSETFROM:+0100
TZOFFSETTO:+0200
TZNAME:CEST
DTSTART:20230326T010000
END:DAYLIGHT
BEGIN:STANDARD
TZOFFSETFROM:+0200
TZOFFSETTO:+0100
TZNAME:CET
DTSTART:20231029T010000
END:STANDARD
BEGIN:DAYLIGHT
TZOFFSETFROM:+0100
TZOFFSETTO:+0200
TZNAME:CEST
DTSTART:20240331T010000
END:DAYLIGHT
BEGIN:STANDARD
TZOFFSETFROM:+0200
TZOFFSETTO:+0100
TZNAME:CET
DTSTART:20241027T010000
END:STANDARD
BEGIN:DAYLIGHT
TZOFFSETFROM:+0100
TZOFFSETTO:+0200
TZNAME:CEST
DTSTART:20250330T010000
END:DAYLIGHT
BEGIN:STANDARD
TZOFFSETFROM:+0200
TZOFFSETTO:+0100
TZNAME:CET
DTSTART:20251026T010000
END:STANDARD
END:VTIMEZONE
BEGIN:VEVENT
DTSTART;VALUE=DATE:20240219
DTEND;VALUE=DATE:20240304
DTSTAMP:20260425T005319
CREATED:20240207T123946Z
LAST-MODIFIED:20240207T142549Z
UID:15300-1708300800-1709510399@uvdal.no
SUMMARY:Vinterferie på Langedrag
DESCRIPTION:Velkommen til Langedrag Naturpark i vinterferien med ski inn og ski ut! \n  \nVinterferie i Norge: Opplev dyr\, natur og friluftsliv på Langedrag Naturpark!
URL:https://uvdal.no/arrangement/vinterferie-pa-langedrag/
LOCATION:Langedrag Naturpark\, Tunhovd\, 3544
ATTACH;FMTTYPE=image/jpeg:https://uvdal.no/wp-content/uploads/2023/03/Hundekjoring-vinter-Langedrag-e1678454761107.jpg
ORGANIZER;CN="Langedrag Naturpark":MAILTO:post@langedrag.no
END:VEVENT
BEGIN:VEVENT
DTSTART;TZID=Europe/Oslo:20240228T150000
DTEND;TZID=Europe/Oslo:20240228T160000
DTSTAMP:20260425T005319
CREATED:20240216T095228Z
LAST-MODIFIED:20240216T112453Z
UID:15404-1709132400-1709136000@uvdal.no
SUMMARY:Yoga på Vasstulan i vinterferien
DESCRIPTION:Velkommen til Yoga i vinterferien på Vasstulan1100! \nFølgende dager kan du være med på Yoga\, kr. 250 pr. gang. Alt av utstyr inkludert. \n\n yoga i uke 8 og uke 9.\n søndag 18 februar fra klokken 15.00 – 16.00\n onsdag 21 februar klokken 15.00 – 16.00\n onsdag 28 februar kl. 15 – 16.00\n\nPåmelding kan du gjøre til e-mail: bestilling@vasstulan.no \nVi sees!
URL:https://uvdal.no/arrangement/yoga-pa-vasstulan-i-vinterferien-3/
LOCATION:Vasstulan1100
ATTACH;FMTTYPE=image/jpeg:https://uvdal.no/wp-content/uploads/2022/06/Yoga-pa-Vasstulan1100-byhildi.jpeg
END:VEVENT
END:VCALENDAR