BEGIN:VCALENDAR
VERSION:2.0
PRODID:-//Uvdal - ECPv6.15.20//NONSGML v1.0//EN
CALSCALE:GREGORIAN
METHOD:PUBLISH
X-WR-CALNAME:Uvdal
X-ORIGINAL-URL:https://uvdal.no
X-WR-CALDESC:Arrangement for Uvdal
REFRESH-INTERVAL;VALUE=DURATION:PT1H
X-Robots-Tag:noindex
X-PUBLISHED-TTL:PT1H
BEGIN:VTIMEZONE
TZID:Europe/Oslo
BEGIN:DAYLIGHT
TZOFFSETFROM:+0100
TZOFFSETTO:+0200
TZNAME:CEST
DTSTART:20230326T010000
END:DAYLIGHT
BEGIN:STANDARD
TZOFFSETFROM:+0200
TZOFFSETTO:+0100
TZNAME:CET
DTSTART:20231029T010000
END:STANDARD
BEGIN:DAYLIGHT
TZOFFSETFROM:+0100
TZOFFSETTO:+0200
TZNAME:CEST
DTSTART:20240331T010000
END:DAYLIGHT
BEGIN:STANDARD
TZOFFSETFROM:+0200
TZOFFSETTO:+0100
TZNAME:CET
DTSTART:20241027T010000
END:STANDARD
BEGIN:DAYLIGHT
TZOFFSETFROM:+0100
TZOFFSETTO:+0200
TZNAME:CEST
DTSTART:20250330T010000
END:DAYLIGHT
BEGIN:STANDARD
TZOFFSETFROM:+0200
TZOFFSETTO:+0100
TZNAME:CET
DTSTART:20251026T010000
END:STANDARD
END:VTIMEZONE
BEGIN:VEVENT
DTSTART;VALUE=DATE:20240219
DTEND;VALUE=DATE:20240304
DTSTAMP:20260425T023716
CREATED:20240207T123946Z
LAST-MODIFIED:20240207T142549Z
UID:15300-1708300800-1709510399@uvdal.no
SUMMARY:Vinterferie på Langedrag
DESCRIPTION:Velkommen til Langedrag Naturpark i vinterferien med ski inn og ski ut! \n  \nVinterferie i Norge: Opplev dyr\, natur og friluftsliv på Langedrag Naturpark!
URL:https://uvdal.no/arrangement/vinterferie-pa-langedrag/
LOCATION:Langedrag Naturpark\, Tunhovd\, 3544
ATTACH;FMTTYPE=image/jpeg:https://uvdal.no/wp-content/uploads/2023/03/Hundekjoring-vinter-Langedrag-e1678454761107.jpg
ORGANIZER;CN="Langedrag Naturpark":MAILTO:post@langedrag.no
END:VEVENT
BEGIN:VEVENT
DTSTART;TZID=Europe/Oslo:20240221T150000
DTEND;TZID=Europe/Oslo:20240221T160000
DTSTAMP:20260425T023716
CREATED:20240216T095209Z
LAST-MODIFIED:20240216T095209Z
UID:15401-1708527600-1708531200@uvdal.no
SUMMARY:Yoga på Vasstulan i vinterferien
DESCRIPTION:Velkommen til Yoga i vinterferien på Vasstulan1100! \nFølgende dager kan du være med på Yoga\, kr. 250 pr. gang. Alt av utstyr inkludert. \n\n yoga i uke 8 og uke 9.\n søndag 18 februar fra klokken 15.00 – 16.00\n onsdag 21 februar klokken 15.00 – 16.00\n onsdag 28 februar kl. 15 – 16.00\n\nPåmelding kan du gjøre til e-mail: bestilling@vasstulan.no \nVi sees!
URL:https://uvdal.no/arrangement/yoga-pa-vasstulan-i-vinterferien-2/
LOCATION:Vasstulan1100
ATTACH;FMTTYPE=image/jpeg:https://uvdal.no/wp-content/uploads/2022/06/Yoga-pa-Vasstulan1100-byhildi.jpeg
END:VEVENT
BEGIN:VEVENT
DTSTART;TZID=Europe/Oslo:20240221T190000
DTEND;TZID=Europe/Oslo:20240221T190000
DTSTAMP:20260425T023716
CREATED:20240125T083726Z
LAST-MODIFIED:20240125T083935Z
UID:15199-1708542000-1708542000@uvdal.no
SUMMARY:Folkekunsten i Numedal
DESCRIPTION:Bli med på en unik opplevelse og utforsk den vakre folkekunsten i Numedal på arrangementet «Folkekunsten i Numedal».\n\nLokalhistoriker Even Tråen presenterer Folkekunsten gjennom hovedoppgaven til Gry Charlotte Ljøterud Andersen. Dette arrangementet tar deg med på en kulturell reise gjennom tradisjoner\, håndverk og historie. Bli inspirert av stilarter og kunstnere.\n\nDet vil være boksalg i etterkant av foredraget.\n\nServering av kaffe og noko attåt\n\nSted: Skolestua\, Nore og Uvdal bygdetun\n\nBilletter kan kjøpes på nettet her
URL:https://uvdal.no/arrangement/folkekunsten-i-numedal/
LOCATION:Nore og  Uvdal bygdetun
END:VEVENT
END:VCALENDAR