BEGIN:VCALENDAR
VERSION:2.0
PRODID:-//Uvdal - ECPv6.15.20//NONSGML v1.0//EN
CALSCALE:GREGORIAN
METHOD:PUBLISH
X-WR-CALNAME:Uvdal
X-ORIGINAL-URL:https://uvdal.no
X-WR-CALDESC:Arrangement for Uvdal
REFRESH-INTERVAL;VALUE=DURATION:PT1H
X-Robots-Tag:noindex
X-PUBLISHED-TTL:PT1H
BEGIN:VTIMEZONE
TZID:Europe/Oslo
BEGIN:DAYLIGHT
TZOFFSETFROM:+0100
TZOFFSETTO:+0200
TZNAME:CEST
DTSTART:20220327T010000
END:DAYLIGHT
BEGIN:STANDARD
TZOFFSETFROM:+0200
TZOFFSETTO:+0100
TZNAME:CET
DTSTART:20221030T010000
END:STANDARD
BEGIN:DAYLIGHT
TZOFFSETFROM:+0100
TZOFFSETTO:+0200
TZNAME:CEST
DTSTART:20230326T010000
END:DAYLIGHT
BEGIN:STANDARD
TZOFFSETFROM:+0200
TZOFFSETTO:+0100
TZNAME:CET
DTSTART:20231029T010000
END:STANDARD
BEGIN:DAYLIGHT
TZOFFSETFROM:+0100
TZOFFSETTO:+0200
TZNAME:CEST
DTSTART:20240331T010000
END:DAYLIGHT
BEGIN:STANDARD
TZOFFSETFROM:+0200
TZOFFSETTO:+0100
TZNAME:CET
DTSTART:20241027T010000
END:STANDARD
END:VTIMEZONE
BEGIN:VEVENT
DTSTART;TZID=Europe/Oslo:20231231T130000
DTEND;TZID=Europe/Oslo:20231231T190000
DTSTAMP:20260425T061413
CREATED:20231121T134409Z
LAST-MODIFIED:20231121T134538Z
UID:14712-1704027600-1704049200@uvdal.no
SUMMARY:Nyttårslunsj med livemusikk på Vasstulan1100
DESCRIPTION:Velkommen til hyggelig lunsj med livemusikk fra flotte lokale musikere!  \n  \nVasstulan1100 kjører reprise fra forrige år\, med lunsj og musikk.\nLivemusikk  er med med Line & Thomas.\nDet serveres snacksfjøl med lokale smaker kr. 240\,-\nInngang kun for påmeldte: jorun@vasstulan.no\n\nVelkommen!
URL:https://uvdal.no/arrangement/nyttarslunsj-med-livemusikk-pa-vasstulan1100/
LOCATION:Vasstulan 1100\, Vasstulan 46\, Uvdal\, 3632\, Norge
ATTACH;FMTTYPE=image/jpeg:https://uvdal.no/wp-content/uploads/2022/11/Konsert-Vasstulan-nyttar.jpg
ORGANIZER;CN="Vasstulan 1100":MAILTO:bestilling@vasstulan.no
END:VEVENT
END:VCALENDAR