BEGIN:VCALENDAR
VERSION:2.0
PRODID:-//Uvdal - ECPv6.15.20//NONSGML v1.0//EN
CALSCALE:GREGORIAN
METHOD:PUBLISH
X-WR-CALNAME:Uvdal
X-ORIGINAL-URL:https://uvdal.no
X-WR-CALDESC:Arrangement for Uvdal
REFRESH-INTERVAL;VALUE=DURATION:PT1H
X-Robots-Tag:noindex
X-PUBLISHED-TTL:PT1H
BEGIN:VTIMEZONE
TZID:Europe/Oslo
BEGIN:DAYLIGHT
TZOFFSETFROM:+0100
TZOFFSETTO:+0200
TZNAME:CEST
DTSTART:20220327T010000
END:DAYLIGHT
BEGIN:STANDARD
TZOFFSETFROM:+0200
TZOFFSETTO:+0100
TZNAME:CET
DTSTART:20221030T010000
END:STANDARD
BEGIN:DAYLIGHT
TZOFFSETFROM:+0100
TZOFFSETTO:+0200
TZNAME:CEST
DTSTART:20230326T010000
END:DAYLIGHT
BEGIN:STANDARD
TZOFFSETFROM:+0200
TZOFFSETTO:+0100
TZNAME:CET
DTSTART:20231029T010000
END:STANDARD
BEGIN:DAYLIGHT
TZOFFSETFROM:+0100
TZOFFSETTO:+0200
TZNAME:CEST
DTSTART:20240331T010000
END:DAYLIGHT
BEGIN:STANDARD
TZOFFSETFROM:+0200
TZOFFSETTO:+0100
TZNAME:CET
DTSTART:20241027T010000
END:STANDARD
END:VTIMEZONE
BEGIN:VEVENT
DTSTART;VALUE=DATE:20231124
DTEND;VALUE=DATE:20231224
DTSTAMP:20260425T061503
CREATED:20231010T074940Z
LAST-MODIFIED:20231010T074956Z
UID:14475-1700784000-1703375999@uvdal.no
SUMMARY:Julebord på Langedrag Naturpark
DESCRIPTION:Hei. \nKontakt oss om dere vil ha en julebord-opplevelse som vil sette spor! \nepost: post@langedrag.no\ntlf: 32 74 25 50
URL:https://uvdal.no/arrangement/julebord-pa-langedrag-naturpark/
LOCATION:Langedrag Naturpark\, Tunhovd\, 3544
ATTACH;FMTTYPE=image/jpeg:https://uvdal.no/wp-content/uploads/2023/10/319640054_6093468310664649_4859382320115394356_n.jpg
ORGANIZER;CN="Langedrag Naturpark":MAILTO:post@langedrag.no
END:VEVENT
BEGIN:VEVENT
DTSTART;VALUE=DATE:20231201
DTEND;VALUE=DATE:20231204
DTSTAMP:20260425T061503
CREATED:20230826T133952Z
LAST-MODIFIED:20231116T113036Z
UID:14322-1701388800-1701647999@uvdal.no
SUMMARY:Førjulshelg  og juleshow på Langedrag
DESCRIPTION:  \nHelgene i uke 47 og 48 har Langedrag Naturpark  førjulshelger\, og da blir det mye moro for både store og små.\n\nUnder juleshowet 2. desember blir det laget pinnebrød og gløgg\, vi fyrer bål på tunet og tenner fakler rundt om\, det blir Nissespill og kanskje kommer selveste julenissen innom også med overraskelser til alle barna.\nFørjulshelg-opphold for overnattingsgjester er kun for Fredag-Søndag. Førjulshelg kan altså ikke bestilles for kun én overnatting.\nHer har du prisene for førjulshelgene i uke 47 og 48:\nVoksen: 3000\,-\nUngdom (9-15år): 2250\,-\nBarn (2-8år): 2050\,-\nPrisene gjelder standardrom
URL:https://uvdal.no/arrangement/forjulshelg-uke-47-pa-langedrag/
LOCATION:Langedrag Naturpark\, Tunhovd\, 3544
ORGANIZER;CN="Langedrag Naturpark":MAILTO:post@langedrag.no
END:VEVENT
BEGIN:VEVENT
DTSTART;TZID=Europe/Oslo:20231202T100000
DTEND;TZID=Europe/Oslo:20231202T180000
DTSTAMP:20260425T061503
CREATED:20231116T114433Z
LAST-MODIFIED:20231116T114433Z
UID:14660-1701511200-1701540000@uvdal.no
SUMMARY:Juleshow 1000 meter over havet!
DESCRIPTION:Langedrag Naturpark inviterer til årets vakreste juleshow! \n \nLangedrag håper på stort besøk for billettinntektene denne dagen går til å finansiere førjulshelg på Langedrag for brukere av Fattighuset Oslo. \nLørdag 2.desember vil det bli julegrøt på låven med nissespill. Hvem er den ekte nissen? Julenissen og fjøsnissen møtes – blir de enige tro?  Etterpå møtes rødnissene og blånissene til årets nisseleker på ridebanen. Det blir et forrykende show med mennesker og dyr. Det blir fjordhest oppvisning med blant annet det spektakulære nummeret «ungarsk post» (rytter står på to hester)\, og nissene vil opptre med sine gode dyrevenner som geit og gris. Vi vil vise det gode samspillet mellom dyr og mennesker\, har du sett «geiteagility» før? \nDenne dagen er det julemarked med ulike salgsboder. Det vil være juleverksted for barna med kubbenisser og ullengler. I tillegg vil det bli foring av ulv\, gaupe\, elg\, mulighet for å være med inn til fjellrev og reinsdyr. \nDet vil være kanefart med hest\, slede og dombjeller! \nAlt dette får du med deg og billett inntektene gir mulighet for at vanskeligstilte kan komme til et gratis opphold på Langedrag 15-17.desember og kjenne gleden ved fellesskap og julestemning. Det kommer ca. 80 personer av både barn\, voksne\, familier og enslige fra Oslo regionen. \nKl. 11-17: Aktiviteter for store og små:  \n\nRunderidning med voltigeøvelser for barn.\nPinnebrød og gløgg på bålplassen\, kjøp i kafé og grill ute.\nNisseverksted\, lag deg en kubbenisse eller en ullengel.\nSnørekjøring\, kjelke etter hest\nHundekjøring\n\nKl. 11.30:   Besøk i gaupegården\nBli med inn til gaupene og lær mer om dette flotte dyret! \nKl. 12.30:   Julegrøt og nissespill på låven \nKl. 13.15:  JULESHOW \nFjordhest-oppvisning\, se nissene opptre med hest og geit. Kanskje kommer julenissen også?  \nKl. 14.00:  Rovdyrforing\nVi kaller på rovdyrene og orienterer om stedets drift. Vi forer ulver og gauper. Du kan bli med inn til fjellrev- omvisningen tar ca. 1 time.   \nKl. 15.15:  Elg og Reinsdyrforing\nBli med ned til elg og reinsdyr. Se vår flotte elgstall og bli med innenfor gjerdet og gi gulrot fra hånda.   \nKl. 15.30:   Besøk i ulvegården\nBli med inn til ulveflokken og lær mer om dette flotte dyret! \nKl. 15.30:   Revecamp\nBli med inn til de sosialiserte fjellrever. Har du fått revemassasje noen gang? \nKl. 16-17:  Kanefart \nFå ekte julestemning med hester\, slede\, fakler\, gløgg og dombjeller. \n  \nParken er åpen kl. 10-18\, kafeen kl. 11.00-17.00 og butikken kl. 10.00-17.00
URL:https://uvdal.no/arrangement/juleshow-1000-meter-over-havet/
LOCATION:Langedrag Naturpark\, Tunhovd\, 3544
ATTACH;FMTTYPE=image/jpeg:https://uvdal.no/wp-content/uploads/2023/11/Juleshow-pa-Langedrag-lordag.jpg
ORGANIZER;CN="Langedrag Naturpark":MAILTO:post@langedrag.no
END:VEVENT
BEGIN:VEVENT
DTSTART;TZID=Europe/Oslo:20231202T110000
DTEND;TZID=Europe/Oslo:20231202T170000
DTSTAMP:20260425T061503
CREATED:20231012T105328Z
LAST-MODIFIED:20231012T105328Z
UID:14520-1701514800-1701536400@uvdal.no
SUMMARY:Påmelding til julemarked\, Nordstjerna Grendehus
DESCRIPTION:Nordstjerna vil i år som i fjor arrangere Julemarked \, lørdag 2 desember fra 12-17 \nVi har plass til 11 stk. så her gjelder det å melde seg på så fort som mulig! \nFrist påmelding er satt til19 november! \nInfo om sette opp bord osv. kommer etter påmelding! \nVi ønsker som sist\, ingen betaling men en gave til Lynlotteriet våres i Nordstjerna. \nVi stiller også opp med kiosk som vanlig!\nPåmelding her på Facebook el til:\nSonja tlf 94868318 el\nJanne tlf 95948664 innen 19 nov!
URL:https://uvdal.no/arrangement/pamelding-til-julemarked-nordstjerna-grendehus/
LOCATION:Nordstjerna\, Uvdal
ATTACH;FMTTYPE=image/jpeg:https://uvdal.no/wp-content/uploads/2023/10/Nordstjerna-Grendehus-vinter.jpg
END:VEVENT
END:VCALENDAR