BEGIN:VCALENDAR
VERSION:2.0
PRODID:-//Uvdal - ECPv6.15.20//NONSGML v1.0//EN
CALSCALE:GREGORIAN
METHOD:PUBLISH
X-WR-CALNAME:Uvdal
X-ORIGINAL-URL:https://uvdal.no
X-WR-CALDESC:Arrangement for Uvdal
REFRESH-INTERVAL;VALUE=DURATION:PT1H
X-Robots-Tag:noindex
X-PUBLISHED-TTL:PT1H
BEGIN:VTIMEZONE
TZID:Europe/Oslo
BEGIN:DAYLIGHT
TZOFFSETFROM:+0100
TZOFFSETTO:+0200
TZNAME:CEST
DTSTART:20220327T010000
END:DAYLIGHT
BEGIN:STANDARD
TZOFFSETFROM:+0200
TZOFFSETTO:+0100
TZNAME:CET
DTSTART:20221030T010000
END:STANDARD
BEGIN:DAYLIGHT
TZOFFSETFROM:+0100
TZOFFSETTO:+0200
TZNAME:CEST
DTSTART:20230326T010000
END:DAYLIGHT
BEGIN:STANDARD
TZOFFSETFROM:+0200
TZOFFSETTO:+0100
TZNAME:CET
DTSTART:20231029T010000
END:STANDARD
BEGIN:DAYLIGHT
TZOFFSETFROM:+0100
TZOFFSETTO:+0200
TZNAME:CEST
DTSTART:20240331T010000
END:DAYLIGHT
BEGIN:STANDARD
TZOFFSETFROM:+0200
TZOFFSETTO:+0100
TZNAME:CET
DTSTART:20241027T010000
END:STANDARD
END:VTIMEZONE
BEGIN:VEVENT
DTSTART;TZID=Europe/Oslo:20230601T080000
DTEND;TZID=Europe/Oslo:20230815T170000
DTSTAMP:20260425T125910
CREATED:20230530T144627Z
LAST-MODIFIED:20230530T152311Z
UID:13726-1685606400-1692118800@uvdal.no
SUMMARY:Sommerens leserutfordring for barn
DESCRIPTION:Velkommen til vår lokale bibliotek i sommer! \nAlle barn inviteres til å bli med på Rødberg biblioteks sommerlige lesekampanje! \nEnkle utfordringer kan motivere til lesing i lange\, lyse feriedager! \nKampanjen starter 1. juni og varer til 15. august. \nVelg 8 av utfordringene og lever skjemaet på biblioteket innen 20. august! \nAlle som deltar får is\, og det er store vinnersjanser for fine premier! \nKom innom biblioteket og hent skjema!
URL:https://uvdal.no/arrangement/sommerens-leserutfordring-for-barn/
LOCATION:Rødberg bibliotek\, Syljerudvegen 5\, Rødberg\, 3630
ATTACH;FMTTYPE=image/jpeg:https://uvdal.no/wp-content/uploads/2023/05/Rodberg-bibliotek-i-sommer-1.jpg
END:VEVENT
BEGIN:VEVENT
DTSTART;VALUE=DATE:20230731
DTEND;VALUE=DATE:20230805
DTSTAMP:20260425T125910
CREATED:20230105T113142Z
LAST-MODIFIED:20230105T113242Z
UID:5151-1690761600-1691193599@uvdal.no
SUMMARY:Besteforeldre og barnebarn-leir uke 31 på Langedrag
DESCRIPTION:Gårdsferie med aktiviteter for besteforeldre med barnebarn.\n\nHva med å gi dine barnebarn ei uke full av opplevelser i gave?\nOg hva med å dele gleden med barnebarna? Bli med på besteforeldre leir på Langedrag Naturpark.\nVi lager et program fullt av læring og aktiviteter som passer for alle.\nMan får oppleve ulv og gaupe på nært hold\, og nærkontakt med fjellrev\, reinsdyr og elg. Naturnære opplevelser for både små og store.\n– Stell i stall og fjøs og i hundegården\n– Kos med kanin- og villsvinunger\n– Har du melket geiter?\n– Seterdag. Det blir ysting\, takkesteking\, sanking av nyttevekster og plantefarging\n– Riding\, balansekunst på hesteryggen\n– Natursti og klatrepark\n– Fjelltur med mulighet for kanopadling\, kullstiftbrenning og pinnebrødsteking.\nOg mye\, mye mer.\n\nLangedrag vil legge vekt på et trygt og sosialt miljø!\n\nPris:\nVoksen: kr. 6500\,-\nBarn 9-15 år kr. 4850\,-\nBarn 2-8 år kr. 4520\,-\nLangedrag naturpark  har besteforeldreleir i uke 25 og i uke 31.\n\nFor mer info se her 
URL:https://uvdal.no/arrangement/besteforeldre-og-barnebarn-leir-uke-31-pa-langedrag/
LOCATION:Langedrag Naturpark\, Tunhovd\, 3544
ATTACH;FMTTYPE=image/jpeg:https://uvdal.no/wp-content/uploads/2023/01/Familie-camp-2023.jpg
ORGANIZER;CN="Langedrag Naturpark":MAILTO:post@langedrag.no
END:VEVENT
END:VCALENDAR