BEGIN:VCALENDAR
VERSION:2.0
PRODID:-//Uvdal - ECPv6.15.20//NONSGML v1.0//EN
CALSCALE:GREGORIAN
METHOD:PUBLISH
X-WR-CALNAME:Uvdal
X-ORIGINAL-URL:https://uvdal.no
X-WR-CALDESC:Arrangement for Uvdal
REFRESH-INTERVAL;VALUE=DURATION:PT1H
X-Robots-Tag:noindex
X-PUBLISHED-TTL:PT1H
BEGIN:VTIMEZONE
TZID:Europe/Oslo
BEGIN:DAYLIGHT
TZOFFSETFROM:+0100
TZOFFSETTO:+0200
TZNAME:CEST
DTSTART:20220327T010000
END:DAYLIGHT
BEGIN:STANDARD
TZOFFSETFROM:+0200
TZOFFSETTO:+0100
TZNAME:CET
DTSTART:20221030T010000
END:STANDARD
BEGIN:DAYLIGHT
TZOFFSETFROM:+0100
TZOFFSETTO:+0200
TZNAME:CEST
DTSTART:20230326T010000
END:DAYLIGHT
BEGIN:STANDARD
TZOFFSETFROM:+0200
TZOFFSETTO:+0100
TZNAME:CET
DTSTART:20231029T010000
END:STANDARD
BEGIN:DAYLIGHT
TZOFFSETFROM:+0100
TZOFFSETTO:+0200
TZNAME:CEST
DTSTART:20240331T010000
END:DAYLIGHT
BEGIN:STANDARD
TZOFFSETFROM:+0200
TZOFFSETTO:+0100
TZNAME:CET
DTSTART:20241027T010000
END:STANDARD
END:VTIMEZONE
BEGIN:VEVENT
DTSTART;TZID=Europe/Oslo:20230601T080000
DTEND;TZID=Europe/Oslo:20230815T170000
DTSTAMP:20260425T144041
CREATED:20230530T144627Z
LAST-MODIFIED:20230530T152311Z
UID:13726-1685606400-1692118800@uvdal.no
SUMMARY:Sommerens leserutfordring for barn
DESCRIPTION:Velkommen til vår lokale bibliotek i sommer! \nAlle barn inviteres til å bli med på Rødberg biblioteks sommerlige lesekampanje! \nEnkle utfordringer kan motivere til lesing i lange\, lyse feriedager! \nKampanjen starter 1. juni og varer til 15. august. \nVelg 8 av utfordringene og lever skjemaet på biblioteket innen 20. august! \nAlle som deltar får is\, og det er store vinnersjanser for fine premier! \nKom innom biblioteket og hent skjema!
URL:https://uvdal.no/arrangement/sommerens-leserutfordring-for-barn/
LOCATION:Rødberg bibliotek\, Syljerudvegen 5\, Rødberg\, 3630
ATTACH;FMTTYPE=image/jpeg:https://uvdal.no/wp-content/uploads/2023/05/Rodberg-bibliotek-i-sommer-1.jpg
END:VEVENT
BEGIN:VEVENT
DTSTART;VALUE=DATE:20230724
DTEND;VALUE=DATE:20230731
DTSTAMP:20260425T144041
CREATED:20230622T114204Z
LAST-MODIFIED:20230706T111856Z
UID:13987-1690156800-1690761599@uvdal.no
SUMMARY:Middelalderuka i Numedal 2023
DESCRIPTION:Festivalen Middelalderuka i Numedal vil arrangeres i olsok-uka 24-30 juli i 2023.\nMeld deg på kurs! Middelalderuka i Numedal er ikke bare tilskueropplevelser. Her kan du også lære tradisjonsrikt håndverk. Alle kursene arrangeres i Numedal Middelaldersenter i Middelalderskogen i Rollag 25.-29. juli 2022.\nMer informasjon finner du på middelalderverkstedet.no eller med å sende e-post til kjell@mogen.no.\nFlere av våre arrangementer er enten spesielt rettet mot barn\, eller de er lagt opp slik at de passer for alle aldersgrupper. Du vil finne flere forestillinger og konserter som engasjerer de minste. Foreningen Numedal Middelaldersenter arrangerer eget middelalderverksted for barn og ungdom. På bygdetunene arrangeres det Barnas dag med leker og aktiviteter.\nSe hele programmet her \nFor mer info se Middelalderuka
URL:https://uvdal.no/arrangement/middelalderuka-i-numedal-2023/
LOCATION:Numedal
ATTACH;FMTTYPE=image/jpeg:https://uvdal.no/wp-content/uploads/2022/06/Logo-Middelalderuka-i-Numedal.jpeg
END:VEVENT
BEGIN:VEVENT
DTSTART;TZID=Europe/Oslo:20230724T120000
DTEND;TZID=Europe/Oslo:20230724T150000
DTSTAMP:20260425T144041
CREATED:20230707T141732Z
LAST-MODIFIED:20230707T141732Z
UID:14115-1690200000-1690210800@uvdal.no
SUMMARY:Barnas dag på Rollag bygdetun
DESCRIPTION:Mandag 24. juli7 Middelalderuka\nKl. 12.00-15.00\nBarnas dag på Rollag bygdetun \nAktivitetsdag for hele familien med ulike håndverksaktiviteter og leiker. Du kan blant annet bli med på historiske leiker\, hesteskokasting\, gå på stylter og spikke med kniv.  \nArrangør: Rollag kulturarvlag og Rollag knivlag.\nEnkel kafé. Inngang kr. 50 for alle fra 4 år
URL:https://uvdal.no/arrangement/barnas-dag-pa-rollag-bygdetun/
LOCATION:Rollag bygdetun
ATTACH;FMTTYPE=image/jpeg:https://uvdal.no/wp-content/uploads/2023/07/rollag-bygdetun-Middelalderuka.jpg
END:VEVENT
BEGIN:VEVENT
DTSTART;TZID=Europe/Oslo:20230724T120000
DTEND;TZID=Europe/Oslo:20230730T180000
DTSTAMP:20260425T144041
CREATED:20230706T113059Z
LAST-MODIFIED:20230706T113140Z
UID:14099-1690200000-1690740000@uvdal.no
SUMMARY:Åpen tun på Mellom Kravik\, Nore
DESCRIPTION:  \nÅpent tun på Mellom Kravik i Nore\, hele uke 30 kl. 12-18\nDendrokronologiske undersøkelser viser at tømmeret i hovedbygningen på Kravik mellom er hugget i 1296. Bygningen har en flott portal med utskjæringer utført av profesjonelle treskjærere som har hatt god kjennskap til den tids stilidealer. \nFor mer info se Middelalderuka 2023 \n 
URL:https://uvdal.no/arrangement/apen-tun-pa-mellom-kravik-nore/
LOCATION:Mellom Kravik på Nore\, Nore\, 3629
ATTACH;FMTTYPE=image/jpeg:https://uvdal.no/wp-content/uploads/2023/07/Mellom_Kravik1.jpg
END:VEVENT
BEGIN:VEVENT
DTSTART;TZID=Europe/Oslo:20230724T180000
DTEND;TZID=Europe/Oslo:20230724T180000
DTSTAMP:20260425T144041
CREATED:20230708T100424Z
LAST-MODIFIED:20230724T082710Z
UID:14128-1690221600-1690221600@uvdal.no
SUMMARY:Kulturkveld med boklansering og prisutdeling i Rostadstugu
DESCRIPTION:Program 2023 – Mandag 24. juli\, Middelalderuka\nKl. 18.00\nKulturkveld med boklansering og prisutdeling i Rostadstugu på Rollag bygdetun \nBoklansering\nGry Charlotte Ljøterud Andersen frå Kongsberg døydde våren 2020 berre 54 år gamal. Ho hadde i mange år sitt virke på Lågdalsmuseet på Kongsberg. I 1995 tok ho hovudfag i kunsthistorie med folkekunsten i Numedal som tema. Med hovedoppgava sette ho folkekunsten i Numedal i nye rammer og nytt lys. Gry Charlotte Ljøterud Andersens Minnefond ga Kolofon forlag i oppdrag å trykke hovedoppgava som ei bok. Boka «Folkekunsten i Numedal – En presentasjon av stil- og motivutviklingen fra 1700-1880» lanseres for salg i Rostadstua\, fordi den har innvendig dekorasjon av Kongsbergmalaren\, som er sentral i boka. Styreleder Even Tråen vil presentere boka. \nUtdeling av Minnefondets årlige stipend\nEtter boklanseringen fortsetter vi med stipendoverrekkelser til flere verdige prisvinnere. Minnefondet har som mål å dele ut eit årleg stipend til personar eller organisasjonar som driv arbeid som er i Gry Charlottes ånd: Midler fra stiftelsen skal brukes til å bevare og fremme by- og bygdekultur i kommunene Kongsberg\, Flesberg\, Rollag og Nore og Uvdal i tråd med stiftelsens vedtekter. Møt opp og se hvem som er årets mottakere! \nArrangør: Gry Charlottes Ljøterud Andersens Minnefond.\nServering av kaffe/kake. Inngang kr. 100. Boksalg. Kontant/Vipps.
URL:https://uvdal.no/arrangement/kulturkveld-med-boklansering-og-prisutdeling-i-rostadstugu/
LOCATION:Rollag bygdetun
END:VEVENT
END:VCALENDAR