BEGIN:VCALENDAR
VERSION:2.0
PRODID:-//Uvdal - ECPv6.15.20//NONSGML v1.0//EN
CALSCALE:GREGORIAN
METHOD:PUBLISH
X-WR-CALNAME:Uvdal
X-ORIGINAL-URL:https://uvdal.no
X-WR-CALDESC:Arrangement for Uvdal
REFRESH-INTERVAL;VALUE=DURATION:PT1H
X-Robots-Tag:noindex
X-PUBLISHED-TTL:PT1H
BEGIN:VTIMEZONE
TZID:Europe/Oslo
BEGIN:DAYLIGHT
TZOFFSETFROM:+0100
TZOFFSETTO:+0200
TZNAME:CEST
DTSTART:20220327T010000
END:DAYLIGHT
BEGIN:STANDARD
TZOFFSETFROM:+0200
TZOFFSETTO:+0100
TZNAME:CET
DTSTART:20221030T010000
END:STANDARD
BEGIN:DAYLIGHT
TZOFFSETFROM:+0100
TZOFFSETTO:+0200
TZNAME:CEST
DTSTART:20230326T010000
END:DAYLIGHT
BEGIN:STANDARD
TZOFFSETFROM:+0200
TZOFFSETTO:+0100
TZNAME:CET
DTSTART:20231029T010000
END:STANDARD
BEGIN:DAYLIGHT
TZOFFSETFROM:+0100
TZOFFSETTO:+0200
TZNAME:CEST
DTSTART:20240331T010000
END:DAYLIGHT
BEGIN:STANDARD
TZOFFSETFROM:+0200
TZOFFSETTO:+0100
TZNAME:CET
DTSTART:20241027T010000
END:STANDARD
END:VTIMEZONE
BEGIN:VEVENT
DTSTART;VALUE=DATE:20230526
DTEND;VALUE=DATE:20230530
DTSTAMP:20260425T175537
CREATED:20230105T115911Z
LAST-MODIFIED:20230524T083548Z
UID:5185-1685059200-1685404799@uvdal.no
SUMMARY:Rideleir i pinsen!
DESCRIPTION:Velkommen til rideleir på Langedrag pinsehelgen 2023. \n\nI år har vi også søkt og fått frifondmidler\, så ved å melde deg inn i Barnas Fjordhestlag ( Medlemskap | Fjordhestportalen) vil du få 1000kr rabatt på leiren. Dette er en leir for øvede ryttere i alderen rundt 13 – 20 år. Marie som er utdannet ridelærer 3 vil ha all undervisning selv.\nDet vil bli lagt opp til dressur\, bomarbeid\, sprang\, feltritt og noe turridning. Siste dagen vil bli gjennomført som et feltrittstevne med dressur\, sprang og hopping i terrenget.\nImellom ride øktene vil det være teorioppgaver som ungdommene jobber selvstendig med.\nDet blir ikke noe organisert opplegg på kveldstid. Marie vil være tilgjengelig hele tiden.\nForeldre må gjerne komme å se på siste dagen.\n\nPris for denne leiren er 4520kr\, for medlemmer av Barnas Fjordhestlag vil det koste 3520kr.\nDet vil være færre på hver gruppe når dere rir enn hva det er på en vanlig sommerleir. Det er mulighet til å ha med egen hest. Dette koster ikke noe ekstra\, men eget kraftfor må medbringes. For hestens del er det også lurt å ta med noe eget grovfor. Ønsker du å ta med egen hest ber vi deg kontakte Marie på marie@langedrag.no for å avtale nærmere og snakke om detaljene knyttet til dette.\n\nUtstyr du bør ha med:\nLiten ryggsekk (til å kunne ha i stallen med det du skulle trenge for dagen)\, sovepose\, putevar og laken\, eller sengetøy (sengetøy kan leies mot betaling)\, arbeidsklær til dyre stell\, tykk genser\, tykke sokker\, lue\, skjerf\, hansker\, stillongs\, vindtøy\, regntøy\, ridesko med hæl\, sikkerhetsvest og hjelm (kan også leies her)\, termos\, gummistøvler\, joggesko\, toalettsaker\, solkrem og matboks. Dere er selv ansvarlige for klær og utstyr.\nVerdisaker kan oppbevares i safe.\n\nPåmelding til post@langedrag.no\nSpørsmål til marie@langedrag.no
URL:https://uvdal.no/arrangement/rideleir-i-pinsen/
LOCATION:Langedrag Naturpark\, Tunhovd\, 3544
ATTACH;FMTTYPE=image/jpeg:https://uvdal.no/wp-content/uploads/2023/01/Rideleir-i-pinsen-2023.jpg
ORGANIZER;CN="Langedrag Naturpark":MAILTO:post@langedrag.no
END:VEVENT
END:VCALENDAR