BEGIN:VCALENDAR
VERSION:2.0
PRODID:-//Uvdal - ECPv6.15.20//NONSGML v1.0//EN
CALSCALE:GREGORIAN
METHOD:PUBLISH
X-WR-CALNAME:Uvdal
X-ORIGINAL-URL:https://uvdal.no
X-WR-CALDESC:Arrangement for Uvdal
REFRESH-INTERVAL;VALUE=DURATION:PT1H
X-Robots-Tag:noindex
X-PUBLISHED-TTL:PT1H
BEGIN:VTIMEZONE
TZID:Europe/Oslo
BEGIN:DAYLIGHT
TZOFFSETFROM:+0100
TZOFFSETTO:+0200
TZNAME:CEST
DTSTART:20220327T010000
END:DAYLIGHT
BEGIN:STANDARD
TZOFFSETFROM:+0200
TZOFFSETTO:+0100
TZNAME:CET
DTSTART:20221030T010000
END:STANDARD
BEGIN:DAYLIGHT
TZOFFSETFROM:+0100
TZOFFSETTO:+0200
TZNAME:CEST
DTSTART:20230326T010000
END:DAYLIGHT
BEGIN:STANDARD
TZOFFSETFROM:+0200
TZOFFSETTO:+0100
TZNAME:CET
DTSTART:20231029T010000
END:STANDARD
BEGIN:DAYLIGHT
TZOFFSETFROM:+0100
TZOFFSETTO:+0200
TZNAME:CEST
DTSTART:20240331T010000
END:DAYLIGHT
BEGIN:STANDARD
TZOFFSETFROM:+0200
TZOFFSETTO:+0100
TZNAME:CET
DTSTART:20241027T010000
END:STANDARD
END:VTIMEZONE
BEGIN:VEVENT
DTSTART;VALUE=DATE:20230517
DTEND;VALUE=DATE:20230518
DTSTAMP:20260425T222847
CREATED:20230511T081517Z
LAST-MODIFIED:20230511T081953Z
UID:13591-1684281600-1684367999@uvdal.no
SUMMARY:17 mai i Nore og Uvdal kommune
DESCRIPTION:Her er planene for årets 17. mai! \nUvdal skole\, Rødberg og Numedalshallen:\n\n\n\n\nKlokka\n\n\n\n09:50\nGratis buss til Rødberg fra Uvdal Herredshus og Nore skole\n\n\n10:20\nOppmøte og oppstilling av barnekoret\n\n\n10:30\nÅpning på Bergtun v/ordfører Jan Gaute Bjerke\nTale\, praktisk info for dagen\, barnekor og korpsmusikk\n\n\n10:50\nToget går fra Bergtun til Fritidsparken\nVeteranbilkortesje etter toget\, kjører til Statskraft\nOppstilling av flaggborg\, korpset spiller\, salutt\, avslutning av toget i Fritidsparken\n\n\n11:45\nAvreise\, bussene går til Norefjord og til Uvdal Herredshus\n\n\n\n\nNumedalshallen\n\n\n\n\nKlokka\n\n\n\n12:15\nInnmarsj\, flaggborg og praktiske opplysninger                      Lekene begynner\n\n\n12:30\nUnderholdning\nDagens tale v/ Jan Gaute Bjerke\n\n\n13:00\nSuppe- og loddsalget starter\n\n\n14:15\nLoddtrekning og premieutdeling\n\n\n15:00\nAvslutning\n\n\n15:15\nBussene går\n\n\n\n\nUvdal skole\n\n\n\n\nKlokka\n\n\n\n12:15\nOppstilling Uvdal skole\n\n\n12:20\nUtdeling av boller og brus til barna\nLeker for store og små\nSalg av suppe\, kaffe og kaker\, pølser\, is og brus\n\n\n13:00\nTale for dagen v/Eli Hovd Prestegården og elever i 6. kl.\n\n\n13:10\nUnderholdning\n\n\n15:00\nAvslutning\n\n\n\n\nVi ønsker alle hjertelig velkommen til en hyggelig 17. maifeiring! \nØvrig informasjon\n\nInngang Numedalshallen kr. 100\,- for voksne. Barn 0 – 16 år gratis\nKaffe og kaker\nGratis is til barna ved ankomst\nKiosk- og suppesalg\nLoddsalg og tippekonkurranse\nLekaktiviteter\nSkyting og hesteskokasting\nVi tar vipps og kontanter\n\nBusser\nKl. 09:50 Til Rødberg fra Nore skole og Uvdal Herredshus\nKl. 11:45 Fra Rødberg til Numedalshallen og Uvdal skole\nKl. 15:15 Fra Numedalshallen til Rødberg \nAlle som ønsker kan sitte på med bussene! \nMesse i Tunhovd kirke kl. 13.30 \n  \n 
URL:https://uvdal.no/arrangement/17-mai-i-nore-og-uvdal-kommune/
LOCATION:Nore og Uvdal kommune
ATTACH;FMTTYPE=image/jpeg:https://uvdal.no/wp-content/uploads/2023/05/Program-17-mai-2023.jpg
END:VEVENT
BEGIN:VEVENT
DTSTART;TZID=Europe/Oslo:20230517T080000
DTEND;TZID=Europe/Oslo:20230517T150000
DTSTAMP:20260425T222847
CREATED:20230511T132227Z
LAST-MODIFIED:20230511T132227Z
UID:13610-1684310400-1684335600@uvdal.no
SUMMARY:Program 17 mai på Tunhovd
DESCRIPTION:
URL:https://uvdal.no/arrangement/program-17-mai-pa-tunhovd/
LOCATION:Tunhovd
END:VEVENT
END:VCALENDAR