BEGIN:VCALENDAR
VERSION:2.0
PRODID:-//Uvdal - ECPv6.15.20//NONSGML v1.0//EN
CALSCALE:GREGORIAN
METHOD:PUBLISH
X-WR-CALNAME:Uvdal
X-ORIGINAL-URL:https://uvdal.no
X-WR-CALDESC:Arrangement for Uvdal
REFRESH-INTERVAL;VALUE=DURATION:PT1H
X-Robots-Tag:noindex
X-PUBLISHED-TTL:PT1H
BEGIN:VTIMEZONE
TZID:Europe/Oslo
BEGIN:DAYLIGHT
TZOFFSETFROM:+0100
TZOFFSETTO:+0200
TZNAME:CEST
DTSTART:20220327T010000
END:DAYLIGHT
BEGIN:STANDARD
TZOFFSETFROM:+0200
TZOFFSETTO:+0100
TZNAME:CET
DTSTART:20221030T010000
END:STANDARD
BEGIN:DAYLIGHT
TZOFFSETFROM:+0100
TZOFFSETTO:+0200
TZNAME:CEST
DTSTART:20230326T010000
END:DAYLIGHT
BEGIN:STANDARD
TZOFFSETFROM:+0200
TZOFFSETTO:+0100
TZNAME:CET
DTSTART:20231029T010000
END:STANDARD
BEGIN:DAYLIGHT
TZOFFSETFROM:+0100
TZOFFSETTO:+0200
TZNAME:CEST
DTSTART:20240331T010000
END:DAYLIGHT
BEGIN:STANDARD
TZOFFSETFROM:+0200
TZOFFSETTO:+0100
TZNAME:CET
DTSTART:20241027T010000
END:STANDARD
END:VTIMEZONE
BEGIN:VEVENT
DTSTART;VALUE=DATE:20230512
DTEND;VALUE=DATE:20230515
DTSTAMP:20260425T191950
CREATED:20230105T115531Z
LAST-MODIFIED:20230105T115630Z
UID:5182-1683849600-1684108799@uvdal.no
SUMMARY:Rideweekend på Langedrag Naturpark
DESCRIPTION:RIDEWEEKEND 12 – 14 mai!\n\nLær å ri\, frisk opp gamle kunster eller forbedre dine ferdigheter på hesteryggen under trygg veiledning av vår instruktør Benedikte Bergan.\nI prisen er det inkludert hesteaktivitet på formiddagen. Både tur og baneridning. Man kan kjøpe ekstra ridetimer om man ønsker begge ettermiddager\, men man kan også ta del i annet opplegg og aktiviteter på gården.\nDu vil få mulighet til å ta del i alt annet som skjer på gården som morgen- og kveldsstell i stall og fjøs. Foring av ulv\, gaupe\, revene\, elgen\, reinsdyr og villsvin. Historiefortelling i peisestua på kveldene og mye\, mye mer..\nTa med barn\, venner eller partner og opplev hesteglede og opplevelser som setter spor.\n\nPris:\nVoksen kr. 4370\,-\nBarn 9-15 år: 3620\,-\nBarn 2-8 år: 3410\,-\n\nSend mail til post@langedrag.no for påmelding
URL:https://uvdal.no/arrangement/rideweekend-pa-langedrag-naturpark-2/
LOCATION:Langedrag Naturpark\, Tunhovd\, 3544
ATTACH;FMTTYPE=image/jpeg:https://uvdal.no/wp-content/uploads/2023/01/Rideweekend.jpg
ORGANIZER;CN="Langedrag Naturpark":MAILTO:post@langedrag.no
END:VEVENT
BEGIN:VEVENT
DTSTART;TZID=Europe/Oslo:20230513T180000
DTEND;TZID=Europe/Oslo:20230513T180000
DTSTAMP:20260425T191950
CREATED:20230427T092552Z
LAST-MODIFIED:20230427T092854Z
UID:13474-1684000800-1684000800@uvdal.no
SUMMARY:MGP-finalefest på VENNEpunktet
DESCRIPTION:13. mai er det duket for MGP-finalefest på VENNEpunktet på Rødberg.\n\nDet blir konkurranser\, pop-up store\, snacks\, god stemning og høy partyfaktor. Vi ønsker å samle innbyggere i alle aldere fra 18 til 99.\n\nGenerell informasjon:\nDresscode: Glitter\, stas og ellers hva du vil ha på deg.\nInngang: 50kr (påmelding via vipps)\nServering: Medbragt\nDu må melde deg på ved å vippse 50kr til 92259146 (Magnhild) og markere betalingen med «MGP»\, først da er du påmeldt. Det er begrenset med plasser\, så ikke nøl og få med en venn eller ti.\n\nDet vil bli kåringer innen ulike kategorier\, dette vil annonseres frem mot kvelden.
URL:https://uvdal.no/arrangement/mgp-finalefest-pa-vennepunktet/
LOCATION:Vennepunktet Rødberg
END:VEVENT
END:VCALENDAR