BEGIN:VCALENDAR
VERSION:2.0
PRODID:-//Uvdal - ECPv6.15.20//NONSGML v1.0//EN
CALSCALE:GREGORIAN
METHOD:PUBLISH
X-WR-CALNAME:Uvdal
X-ORIGINAL-URL:https://uvdal.no
X-WR-CALDESC:Arrangement for Uvdal
REFRESH-INTERVAL;VALUE=DURATION:PT1H
X-Robots-Tag:noindex
X-PUBLISHED-TTL:PT1H
BEGIN:VTIMEZONE
TZID:Europe/Oslo
BEGIN:DAYLIGHT
TZOFFSETFROM:+0100
TZOFFSETTO:+0200
TZNAME:CEST
DTSTART:20220327T010000
END:DAYLIGHT
BEGIN:STANDARD
TZOFFSETFROM:+0200
TZOFFSETTO:+0100
TZNAME:CET
DTSTART:20221030T010000
END:STANDARD
BEGIN:DAYLIGHT
TZOFFSETFROM:+0100
TZOFFSETTO:+0200
TZNAME:CEST
DTSTART:20230326T010000
END:DAYLIGHT
BEGIN:STANDARD
TZOFFSETFROM:+0200
TZOFFSETTO:+0100
TZNAME:CET
DTSTART:20231029T010000
END:STANDARD
BEGIN:DAYLIGHT
TZOFFSETFROM:+0100
TZOFFSETTO:+0200
TZNAME:CEST
DTSTART:20240331T010000
END:DAYLIGHT
BEGIN:STANDARD
TZOFFSETFROM:+0200
TZOFFSETTO:+0100
TZNAME:CET
DTSTART:20241027T010000
END:STANDARD
END:VTIMEZONE
BEGIN:VEVENT
DTSTART;TZID=Europe/Oslo:20230508T160000
DTEND;TZID=Europe/Oslo:20230508T160000
DTSTAMP:20260425T175543
CREATED:20230427T071103Z
LAST-MODIFIED:20230427T075230Z
UID:13468-1683561600-1683561600@uvdal.no
SUMMARY:MARKERING AV FRIGJØRINGSDAG OG VETERANDAG 8. MAI 2023
DESCRIPTION:Heimevernet i Numedal og Nore og Uvdal kommune inviterer til 8. mai markering på Rødberg .\n\nProgram 8 mai:\n\n\nKl. 16.00 – 16.15\n\n\n–  Bekransning og appell ved bautaen: HV\, ordfører og flaggborg deltar Kl. 17.00 – 17.45\n\n\n–  Alle interesserte er velkomne til markering i kommunestyresal -kommunehuset\, Rødberg\n\n\n–  Gjennomføring før oppstart av kommunestyremøte\n\n\n–  Taler ved ordfører og HV\n\n\n–  Innlegg om toleransereise i Europa fra 10 kl. Rødberg skole\n\n\n\n Det vil være servering av kaffe og kaker\n\n\n\nVELKOMMEN
URL:https://uvdal.no/arrangement/markering-av-frigjoringsdag-og-veterandag-8-mai-2023/
LOCATION:Rødberg
ATTACH;FMTTYPE=image/jpeg:https://uvdal.no/wp-content/uploads/2023/04/8-mai-feiring-Rodberg.jpg
ORGANIZER;CN="Heimevernet i Numedal og Nore og Uvdal kommune":MAILTO:post@nore-og-uvdal.kommune.no
END:VEVENT
END:VCALENDAR