BEGIN:VCALENDAR
VERSION:2.0
PRODID:-//Uvdal - ECPv6.15.20//NONSGML v1.0//EN
CALSCALE:GREGORIAN
METHOD:PUBLISH
X-WR-CALNAME:Uvdal
X-ORIGINAL-URL:https://uvdal.no
X-WR-CALDESC:Arrangement for Uvdal
REFRESH-INTERVAL;VALUE=DURATION:PT1H
X-Robots-Tag:noindex
X-PUBLISHED-TTL:PT1H
BEGIN:VTIMEZONE
TZID:Europe/Oslo
BEGIN:DAYLIGHT
TZOFFSETFROM:+0100
TZOFFSETTO:+0200
TZNAME:CEST
DTSTART:20220327T010000
END:DAYLIGHT
BEGIN:STANDARD
TZOFFSETFROM:+0200
TZOFFSETTO:+0100
TZNAME:CET
DTSTART:20221030T010000
END:STANDARD
BEGIN:DAYLIGHT
TZOFFSETFROM:+0100
TZOFFSETTO:+0200
TZNAME:CEST
DTSTART:20230326T010000
END:DAYLIGHT
BEGIN:STANDARD
TZOFFSETFROM:+0200
TZOFFSETTO:+0100
TZNAME:CET
DTSTART:20231029T010000
END:STANDARD
BEGIN:DAYLIGHT
TZOFFSETFROM:+0100
TZOFFSETTO:+0200
TZNAME:CEST
DTSTART:20240331T010000
END:DAYLIGHT
BEGIN:STANDARD
TZOFFSETFROM:+0200
TZOFFSETTO:+0100
TZNAME:CET
DTSTART:20241027T010000
END:STANDARD
END:VTIMEZONE
BEGIN:VEVENT
DTSTART;TZID=Europe/Oslo:20230505T190000
DTEND;TZID=Europe/Oslo:20230505T190000
DTSTAMP:20260425T191955
CREATED:20230428T083822Z
LAST-MODIFIED:20230428T083822Z
UID:13498-1683313200-1683313200@uvdal.no
SUMMARY:Vinsmaking og hyggelig samvær i Storstua på Camp Uvdal
DESCRIPTION:Bli med på vinsmaking og hyggelig samvær i Storstua på Camp Uvdal Fredag 5. mai kl 19! \nPåmelding fortløpende til aud@campuvdal.com eller på sms 99228210.
URL:https://uvdal.no/arrangement/vinsmaking-og-hyggelig-samvaer-i-storstua-pa-camp-uvdal/
LOCATION:Camp Uvdal\, Uvdalsvegen 966\, Uvdal\, 3632\, Norge
ATTACH;FMTTYPE=image/png:https://uvdal.no/wp-content/uploads/2023/04/302427790_506355691490488_1548003386436370300_n.png
END:VEVENT
END:VCALENDAR