BEGIN:VCALENDAR
VERSION:2.0
PRODID:-//Uvdal - ECPv6.15.20//NONSGML v1.0//EN
CALSCALE:GREGORIAN
METHOD:PUBLISH
X-ORIGINAL-URL:https://uvdal.no
X-WR-CALDESC:Arrangement for Uvdal
REFRESH-INTERVAL;VALUE=DURATION:PT1H
X-Robots-Tag:noindex
X-PUBLISHED-TTL:PT1H
BEGIN:VTIMEZONE
TZID:Europe/Oslo
BEGIN:DAYLIGHT
TZOFFSETFROM:+0100
TZOFFSETTO:+0200
TZNAME:CEST
DTSTART:20220327T010000
END:DAYLIGHT
BEGIN:STANDARD
TZOFFSETFROM:+0200
TZOFFSETTO:+0100
TZNAME:CET
DTSTART:20221030T010000
END:STANDARD
BEGIN:DAYLIGHT
TZOFFSETFROM:+0100
TZOFFSETTO:+0200
TZNAME:CEST
DTSTART:20230326T010000
END:DAYLIGHT
BEGIN:STANDARD
TZOFFSETFROM:+0200
TZOFFSETTO:+0100
TZNAME:CET
DTSTART:20231029T010000
END:STANDARD
BEGIN:DAYLIGHT
TZOFFSETFROM:+0100
TZOFFSETTO:+0200
TZNAME:CEST
DTSTART:20240331T010000
END:DAYLIGHT
BEGIN:STANDARD
TZOFFSETFROM:+0200
TZOFFSETTO:+0100
TZNAME:CET
DTSTART:20241027T010000
END:STANDARD
END:VTIMEZONE
BEGIN:VEVENT
DTSTART;VALUE=DATE:20230414
DTEND;VALUE=DATE:20230417
DTSTAMP:20260425T224903
CREATED:20230313T075242Z
LAST-MODIFIED:20230313T075242Z
UID:6705-1681430400-1681689599@uvdal.no
SUMMARY:Singeltreff på Solheimstulen
DESCRIPTION:Bli med på Singeltur til Solheimstulen Turisthytte 14.-16. april!\n\nSingeltur er for alle som ønsker nye bekjente\, treffe folk som er inkluderende og skape nye relasjoner . Samvær og kvalitetstid med likesinnede står i fokus\, i tillegg til god mat og drikke og fjell- og friluftsliv.\nTuren egner seg for menn og damer i alderen 40 +. Det blir avslappet og god stemning og alle aktiviteter og turer er selvfølgelig frivillig.\nFredag 14/4\nVelkomstdrink og mingling fra kl. 18.00\nTreretters middag kl. 19.00\nQuiz i peisestuen\nLørdag 15/4\nFrokost\nFelles fjelltur (på ski eller til fots) kl. 10.00 (ca 3-4 timer)\nFelles lunsj kl. 14.00 m/ ost og spekemat\nTreretters middag kl. 18.00\nSosialt i peisestuen utover kvelden\nSøndag 16/4\nFrokost\nFellestur ca. 2 timer\nHjemreise\nPris 2900\,-\n\nDette inngår i prisen: Overnatting på Solheimstulen Turisthytte\, frokost og nistepakke med påfyll av termos\, ostefat og spekemat lunsj\, treretters middag fredag og lørdag\, arrangement og turer.\n\nDet er bilvei inn til hytta. Mulig å reise kollektivt og bli hentet på nærmeste busstopp ved avtale.\nHusk å ta med klær\, sko og turutstyr. Ski\, staver og evt truger (truger er mulig å låne hos hos).\nSengetøy eller lakenpose er påkrevd. Sengetøy kan leies hos oss for kr 150\,-\nDagstursekk\, hodelykt og termos.\n\nFor ytterligere informasjon\, kontakt Solheimstulen på tlf 90650320 eller e-post til solheimstulen@dnt.no
URL:https://uvdal.no/arrangement/singeltreff-pa-solheimstulen/
LOCATION:Solheimstulen Turisthytte\, Jønndalsvegen 754\, Uvdal\, 3632
ATTACH;FMTTYPE=image/jpeg:https://uvdal.no/wp-content/uploads/2023/03/Hovedhytta-Solheimstulen-vinter.jpg
END:VEVENT
BEGIN:VEVENT
DTSTART;VALUE=DATE:20230414
DTEND;VALUE=DATE:20230417
DTSTAMP:20260425T224903
CREATED:20230411T131529Z
LAST-MODIFIED:20230411T131529Z
UID:13342-1681430400-1681689599@uvdal.no
SUMMARY:Hundekjøringshelg på Langedrag
DESCRIPTION:Vi avslutter hundekjøringssesongen med en egen hundekjøringshelg hvor våre herlige huskyer skal stå i fokus! \n  \nDette får du på hundekjøringshelg: \n\n\n\n\n\nVær med på morgenforing i hundegården lørdag og søndag\nLørdag kl 16.30 har vi eget opplegg i hundegården hvor dere lærer mer om huskyene\, hundekjøring og får masse ekstra kos\nLørdag kl 19.00 har Tuva Thorson foredrag i peisestua om ulv og hund. Tuva var med å starte Langedrag Naturpark og har over 40 års erfaring med ulv.\nTilrettelagt tur med eget hundespann som passer dere – obs – dette kommer utenom prisene nede\nTilgang til parken hele helgen\, guiding og mating av elg\, reinsdyr\, ulv\, gaupe og fjellrev og alle måltider**\nLes mer om hva alle overnattingsgjester får på Langedrag på www.langedrag.no/overnatting\n\n**måltider som er inkludert er middag fredag\, frokost og matpakke lørdag\, trerettersmiddag lørdag og frokost og matpakke søndag. \nPasser for hundeinteresserte i alle aldre!\nTotal pris pr barn (alder 2-8 år) fra kr 2 050*  \nTotal pris pr barn (alder 9-15 år) fra kr 2 260*  \nTotal pris pr voksen fra 3 000* \n*priser uten hundekjøring \n\nFor påmelding / skjema se her\n\n\n\n\n\nVisste du at?\n\n\n\nAlaska Husky er pattedyret som har rekorden i å kunne løpe lengst på kortest tid. Det finnes raskere og mer utholdende dyr – men ingen kan opprettholde så stor fart over så lange distanser som huskyen.
URL:https://uvdal.no/arrangement/hundekjoringshelg-pa-langedrag/
LOCATION:Langedrag Naturpark\, Tunhovd\, 3544
ATTACH;FMTTYPE=image/jpeg:https://uvdal.no/wp-content/uploads/2023/04/Hundekjoring-vinterbilde-Odd-Arild-Gundersveen.jpg
ORGANIZER;CN="Langedrag Naturpark":MAILTO:post@langedrag.no
END:VEVENT
BEGIN:VEVENT
DTSTART;TZID=Europe/Oslo:20230415T100000
DTEND;TZID=Europe/Oslo:20230415T100000
DTSTAMP:20260425T224903
CREATED:20230323T134048Z
LAST-MODIFIED:20230323T134438Z
UID:13026-1681552800-1681552800@uvdal.no
SUMMARY:Volleyballcup Numedalshallen
DESCRIPTION:Vi arrangerer åpen cupturnering i Numedalshallen. 7 år siden sist. Vis gamle kunnskaper\, eller sats på å lære nye triks. Bedrifter\, vennegjenger og skoleklasser oppfordres til å stille lag.\nPåmelding\, alle kan være med.\n\nVi regner med det blir pizza til alle.
URL:https://uvdal.no/arrangement/volleyballcup-numedalshallen/
LOCATION:Numedalshallen\, Nore\, de\, 3629\, Peru
ATTACH;FMTTYPE=image/jpeg:https://uvdal.no/wp-content/uploads/2023/03/Vollyball-turnering.jpg
END:VEVENT
BEGIN:VEVENT
DTSTART;TZID=Europe/Oslo:20230415T110000
DTEND;TZID=Europe/Oslo:20230415T110000
DTSTAMP:20260425T224903
CREATED:20230208T142338Z
LAST-MODIFIED:20240326T122153Z
UID:5788-1681556400-1681556400@uvdal.no
SUMMARY:Oldboys NM 2023 Uvdal Skisenter
DESCRIPTION:Igjen skal gamle og kjære snowboardere gjenforenes til en minneverdig helg i Uvdal.\n\nLørdag 13.april 2023 er datoen for solkrem\, minipipe\, gamle helter\, gamle historier\, handplants og store smil.\nFredag er det velkomstfest og innsjekk i Rune sin  legendariske snowboardmuseum fra kl 20.\nLørdag kjører vi tradisjon tro svært behagelig og avslappet norgesmesterskap i den nydelige minipipen fra kl 11.00.\nI «Halfpipe» kjører du på det brettet du ønsker. Dommerne legger ekstra vekt på om du kjører eldre brett. Vi kjører «Jam format».\nI «Pallalellslarlom» er det kun lov å delta med snowboard eldre enn 1993\, Snowskate\, Swingbo og Monoski.\nVi tar med en del vintage snowboards fra Epic Snowboardmuseum for utlån i bakken.\n\nDet blir Oldboys Afterparty på Lavoen etter bankettmiddagen.\n«3 Verdiløse» speller Jokkeslagere i ekte Jokke og Valentinerne stil.\n\nVi deler inn aldersgrupper for dame og herre:\n– Oldboys/girls (30-49 år)\n– Heroes (50-64 år)\n– Grand Oldboys (65+)\n\nPremieutdeling og bankett blir i Snowboardmuseet. Her serveres det galla middag og overlemping av premier kl 20.00.\nOldboyspakka koster kr 2.800\,- og inneholder:\n– Heiskort lørdag og søndag.\n– Overnatting fredag – søndag.\n– Velkomstfest fredag.\n– Deltagelse Oldboys NM\n– Bankett med middag lørdag.\n\nVi bor i fine leiligheter i bakken. Vi fyller opp leilighetene etter ønske. 3 soverom i hver leilighet med 2 sengeplasser i hvert rom. Prisen inkluderer sluttvask. Ta med sengetøy.\nKun deltakelse og middag koster kr 500\,-\nFor påmelding send:\n«Påmelding» til oldboys4ever@gmail.com\n\n– Ønsker «Oldboyspakka» eller «Kun deltagelse og middag»\n– Navn\n– Alder\n– Ønsker å bo med\nBetaling skjer i Epic Boardshop ved ankomst.\n\nDet blir Oldboys Afterparty på Lavoen etter bankettmiddagen.\n«3 Verdiløse» speller Jokkeslagere i ekte Jokke og Valentinerne stil.
URL:https://uvdal.no/arrangement/oldboys-nm-2023-uvdal-skisenter/
LOCATION:Uvdal Skisenter\, Uvdal\, 3632\, Norge
ATTACH;FMTTYPE=image/jpeg:https://uvdal.no/wp-content/uploads/2023/02/Old-boys-NM-Uvdal-Skisenter.jpg
ORGANIZER;CN="Epic Boardshop og Uvdal Skisenter":MAILTO:epicvoksencamp@gmail.com
END:VEVENT
BEGIN:VEVENT
DTSTART;TZID=Europe/Oslo:20230415T110000
DTEND;TZID=Europe/Oslo:20230415T110000
DTSTAMP:20260425T224903
CREATED:20230309T080649Z
LAST-MODIFIED:20230309T082458Z
UID:6637-1681556400-1681556400@uvdal.no
SUMMARY:IMPROTEATERVERKSTED i Rødberg sentrum
DESCRIPTION:Aprilsnarrene inviterer til Improteaterkurs Lørdag 15.04. \nGår du med en skuespiller i magen? Har du lyst til å være med på en kreativ teaterdag med dyktig instruktør fra Buskerud teater? \nPåmelding til Monica tlf:40900195. NB. Begrensede plasser.\nFørstemann til mølla får plass. Påmeldingsfrist tirsdag 11.04.23 \nVelkommen!
URL:https://uvdal.no/arrangement/improteaterverksted-i-rodberg-sentrum/
LOCATION:Rødberg sentrum
END:VEVENT
BEGIN:VEVENT
DTSTART;TZID=Europe/Oslo:20230415T130000
DTEND;TZID=Europe/Oslo:20230415T130000
DTSTAMP:20260425T224903
CREATED:20230323T134735Z
LAST-MODIFIED:20230323T141447Z
UID:13032-1681563600-1681563600@uvdal.no
SUMMARY:Barneteater - "Jeg fant\, jeg fant" sa Askeladden
DESCRIPTION:Lørdag 15.april kl. 13 kommer Askeladden Friteater til biblioteket på Rødberg. \nDenne gangen med forestillingen «jeg fant\, jeg fant! – sa Askeladden.» Plassene er begrenset\, men dere kan sikre dere billetter allerede nå ved å ta kontakt på sms eller mail.\nForestillingen er gratis for barn\, og koster kr. 100\,- for voksne. \nDette er eventyr for alle aldre! \n 
URL:https://uvdal.no/arrangement/barneteater-jeg-fant-jeg-fant-sa-askeladden/
LOCATION:Rødberg bibliotek\, Syljerudvegen 5\, Rødberg\, 3630
ATTACH;FMTTYPE=image/jpeg:https://uvdal.no/wp-content/uploads/2023/03/Askeladden-Rodberg-bibliotek.jpg
END:VEVENT
END:VCALENDAR