BEGIN:VCALENDAR
VERSION:2.0
PRODID:-//Uvdal - ECPv6.15.20//NONSGML v1.0//EN
CALSCALE:GREGORIAN
METHOD:PUBLISH
X-WR-CALNAME:Uvdal
X-ORIGINAL-URL:https://uvdal.no
X-WR-CALDESC:Arrangement for Uvdal
REFRESH-INTERVAL;VALUE=DURATION:PT1H
X-Robots-Tag:noindex
X-PUBLISHED-TTL:PT1H
BEGIN:VTIMEZONE
TZID:Europe/Oslo
BEGIN:DAYLIGHT
TZOFFSETFROM:+0100
TZOFFSETTO:+0200
TZNAME:CEST
DTSTART:20220327T010000
END:DAYLIGHT
BEGIN:STANDARD
TZOFFSETFROM:+0200
TZOFFSETTO:+0100
TZNAME:CET
DTSTART:20221030T010000
END:STANDARD
BEGIN:DAYLIGHT
TZOFFSETFROM:+0100
TZOFFSETTO:+0200
TZNAME:CEST
DTSTART:20230326T010000
END:DAYLIGHT
BEGIN:STANDARD
TZOFFSETFROM:+0200
TZOFFSETTO:+0100
TZNAME:CET
DTSTART:20231029T010000
END:STANDARD
BEGIN:DAYLIGHT
TZOFFSETFROM:+0100
TZOFFSETTO:+0200
TZNAME:CEST
DTSTART:20240331T010000
END:DAYLIGHT
BEGIN:STANDARD
TZOFFSETFROM:+0200
TZOFFSETTO:+0100
TZNAME:CET
DTSTART:20241027T010000
END:STANDARD
END:VTIMEZONE
BEGIN:VEVENT
DTSTART;VALUE=DATE:20230401
DTEND;VALUE=DATE:20230411
DTSTAMP:20260425T192143
CREATED:20230105T114425Z
LAST-MODIFIED:20230105T114425Z
UID:5165-1680307200-1681171199@uvdal.no
SUMMARY:Påske på Langedrag Naturpark
DESCRIPTION:Påske på Langedrag er full av aktiviteter for hele familien!\n\nVi har fremdeles noen ledige rom om du ønsker å våkne til ulveul og gaupenes parringsrop!\nDet klekker kyllinger hver dag hele påsken. Rugemaskinen og de nyklekkede kyllingene står i resepsjonen.\nParken er åpen fra 10-18 og kafeen 11-17 hele året!\n\nProgram:\nKl. 10-11: Ridetur\nKl. 10-15: Hundekjøring\nKl. 11-12: Ridetur\nKl. 11-12: Snørekjøring bak hest\nKl. 11-12: Runderidning\nKl. 12-13: Foring av villsvin\, reinsdyr og elg\nKl. 14-15: Foring av ulv\, gaupe og rever\nKl. 1530-1630: Ulvegårdsbesøk\nKl. 1530-1630: Runderidning\nKl. 1530-1600: Revecamp\nKl. 16-17: Kanefart\nKl. 1630-17: Huskycamp\nKl. 1630-1715: Kveldsstell i fjøset\nKl. 1730-1715: Gaupegårdsbesøk\n\nPå Palmesøndag arrangeres det i tillegg Påskegudstjeneste og påskegrilling.\n\nMer informasjon om dette kommer fortløpende her 
URL:https://uvdal.no/arrangement/paske-pa-langedrag-naturpark/
LOCATION:Langedrag Naturpark\, Tunhovd\, 3544
ATTACH;FMTTYPE=image/jpeg:https://uvdal.no/wp-content/uploads/2023/01/Pasken-2022-Langedrag.jpg
ORGANIZER;CN="Langedrag Naturpark":MAILTO:post@langedrag.no
END:VEVENT
BEGIN:VEVENT
DTSTART;VALUE=DATE:20230401
DTEND;VALUE=DATE:20230411
DTSTAMP:20260425T192143
CREATED:20230313T091821Z
LAST-MODIFIED:20230313T091832Z
UID:6732-1680307200-1681171199@uvdal.no
SUMMARY:Påskeprogram Solheimstulen
DESCRIPTION:PÅSKEPROGRAMMET for 2023 på Solheimstulen er nå klart!  \nFølg med for mer info om de ulike aktivitetene og påmelding. Vi holder åpent fra 17. mars – 16. april og det er fortsatt ledig overnatting i hele perioden. \nVelkommen! \n 
URL:https://uvdal.no/arrangement/paskeprogram-solheimstulen/
LOCATION:Solheimstulen Turisthytte\, Jønndalsvegen 754\, Uvdal\, 3632
ATTACH;FMTTYPE=image/jpeg:https://uvdal.no/wp-content/uploads/2023/03/Vinterstemning-Hardangervidda-scaled.jpg
END:VEVENT
BEGIN:VEVENT
DTSTART;TZID=Europe/Oslo:20230401T120000
DTEND;TZID=Europe/Oslo:20230409T180000
DTSTAMP:20260425T192143
CREATED:20230323T111318Z
LAST-MODIFIED:20230323T111353Z
UID:12999-1680350400-1681063200@uvdal.no
SUMMARY:Påsken på Vasstulan1100
DESCRIPTION:Påsken nærmer seg og da holder vi som vanlig åpent hver dag 12-18.00\n\n\n\nBlir det fint vær satser vi på mye grilling på terrassen.\n\n\nPris for randonnée er kr. 600\,-\n(max 5 pers).\n\n\nPris for skiteknikk er kr. 400\,-\n(1/2 pris under 15 år)\n\n\nPris for yoga er kr. 250\,-\n\n\nPris for foredrag m/frokost er kr. 250\,-\n\n\n\nDet er 20 års grense på After-ski skjærtorsdag (ingen påmelding)\n\n\n\n\n\n\n\nPåmelding yoga: bestilling@vasstulan.no\n\n\n\nPåmelding andre aktiviteter: jorun@vasstulan.no\n\n\nVelkommen til påskekos i fjellet!
URL:https://uvdal.no/arrangement/pasken-pa-vasstulan1100/
LOCATION:Vasstulan 1100\, Vasstulan 46\, Uvdal\, 3632\, Norge
ORGANIZER;CN="Vasstulan 1100":MAILTO:bestilling@vasstulan.no
END:VEVENT
END:VCALENDAR