BEGIN:VCALENDAR
VERSION:2.0
PRODID:-//Uvdal - ECPv6.15.20//NONSGML v1.0//EN
CALSCALE:GREGORIAN
METHOD:PUBLISH
X-WR-CALNAME:Uvdal
X-ORIGINAL-URL:https://uvdal.no
X-WR-CALDESC:Arrangement for Uvdal
REFRESH-INTERVAL;VALUE=DURATION:PT1H
X-Robots-Tag:noindex
X-PUBLISHED-TTL:PT1H
BEGIN:VTIMEZONE
TZID:Europe/Oslo
BEGIN:DAYLIGHT
TZOFFSETFROM:+0100
TZOFFSETTO:+0200
TZNAME:CEST
DTSTART:20220327T010000
END:DAYLIGHT
BEGIN:STANDARD
TZOFFSETFROM:+0200
TZOFFSETTO:+0100
TZNAME:CET
DTSTART:20221030T010000
END:STANDARD
BEGIN:DAYLIGHT
TZOFFSETFROM:+0100
TZOFFSETTO:+0200
TZNAME:CEST
DTSTART:20230326T010000
END:DAYLIGHT
BEGIN:STANDARD
TZOFFSETFROM:+0200
TZOFFSETTO:+0100
TZNAME:CET
DTSTART:20231029T010000
END:STANDARD
BEGIN:DAYLIGHT
TZOFFSETFROM:+0100
TZOFFSETTO:+0200
TZNAME:CEST
DTSTART:20240331T010000
END:DAYLIGHT
BEGIN:STANDARD
TZOFFSETFROM:+0200
TZOFFSETTO:+0100
TZNAME:CET
DTSTART:20241027T010000
END:STANDARD
END:VTIMEZONE
BEGIN:VEVENT
DTSTART;VALUE=DATE:20230401
DTEND;VALUE=DATE:20230411
DTSTAMP:20260425T192107
CREATED:20230105T114425Z
LAST-MODIFIED:20230105T114425Z
UID:5165-1680307200-1681171199@uvdal.no
SUMMARY:Påske på Langedrag Naturpark
DESCRIPTION:Påske på Langedrag er full av aktiviteter for hele familien!\n\nVi har fremdeles noen ledige rom om du ønsker å våkne til ulveul og gaupenes parringsrop!\nDet klekker kyllinger hver dag hele påsken. Rugemaskinen og de nyklekkede kyllingene står i resepsjonen.\nParken er åpen fra 10-18 og kafeen 11-17 hele året!\n\nProgram:\nKl. 10-11: Ridetur\nKl. 10-15: Hundekjøring\nKl. 11-12: Ridetur\nKl. 11-12: Snørekjøring bak hest\nKl. 11-12: Runderidning\nKl. 12-13: Foring av villsvin\, reinsdyr og elg\nKl. 14-15: Foring av ulv\, gaupe og rever\nKl. 1530-1630: Ulvegårdsbesøk\nKl. 1530-1630: Runderidning\nKl. 1530-1600: Revecamp\nKl. 16-17: Kanefart\nKl. 1630-17: Huskycamp\nKl. 1630-1715: Kveldsstell i fjøset\nKl. 1730-1715: Gaupegårdsbesøk\n\nPå Palmesøndag arrangeres det i tillegg Påskegudstjeneste og påskegrilling.\n\nMer informasjon om dette kommer fortløpende her 
URL:https://uvdal.no/arrangement/paske-pa-langedrag-naturpark/
LOCATION:Langedrag Naturpark\, Tunhovd\, 3544
ATTACH;FMTTYPE=image/jpeg:https://uvdal.no/wp-content/uploads/2023/01/Pasken-2022-Langedrag.jpg
ORGANIZER;CN="Langedrag Naturpark":MAILTO:post@langedrag.no
END:VEVENT
BEGIN:VEVENT
DTSTART;VALUE=DATE:20230401
DTEND;VALUE=DATE:20230411
DTSTAMP:20260425T192107
CREATED:20230313T091821Z
LAST-MODIFIED:20230313T091832Z
UID:6732-1680307200-1681171199@uvdal.no
SUMMARY:Påskeprogram Solheimstulen
DESCRIPTION:PÅSKEPROGRAMMET for 2023 på Solheimstulen er nå klart!  \nFølg med for mer info om de ulike aktivitetene og påmelding. Vi holder åpent fra 17. mars – 16. april og det er fortsatt ledig overnatting i hele perioden. \nVelkommen! \n 
URL:https://uvdal.no/arrangement/paskeprogram-solheimstulen/
LOCATION:Solheimstulen Turisthytte\, Jønndalsvegen 754\, Uvdal\, 3632
ATTACH;FMTTYPE=image/jpeg:https://uvdal.no/wp-content/uploads/2023/03/Vinterstemning-Hardangervidda-scaled.jpg
END:VEVENT
BEGIN:VEVENT
DTSTART;TZID=Europe/Oslo:20230401T120000
DTEND;TZID=Europe/Oslo:20230409T180000
DTSTAMP:20260425T192107
CREATED:20230323T111318Z
LAST-MODIFIED:20230323T111353Z
UID:12999-1680350400-1681063200@uvdal.no
SUMMARY:Påsken på Vasstulan1100
DESCRIPTION:Påsken nærmer seg og da holder vi som vanlig åpent hver dag 12-18.00\n\n\n\nBlir det fint vær satser vi på mye grilling på terrassen.\n\n\nPris for randonnée er kr. 600\,-\n(max 5 pers).\n\n\nPris for skiteknikk er kr. 400\,-\n(1/2 pris under 15 år)\n\n\nPris for yoga er kr. 250\,-\n\n\nPris for foredrag m/frokost er kr. 250\,-\n\n\n\nDet er 20 års grense på After-ski skjærtorsdag (ingen påmelding)\n\n\n\n\n\n\n\nPåmelding yoga: bestilling@vasstulan.no\n\n\n\nPåmelding andre aktiviteter: jorun@vasstulan.no\n\n\nVelkommen til påskekos i fjellet!
URL:https://uvdal.no/arrangement/pasken-pa-vasstulan1100/
LOCATION:Vasstulan 1100\, Vasstulan 46\, Uvdal\, 3632\, Norge
ORGANIZER;CN="Vasstulan 1100":MAILTO:bestilling@vasstulan.no
END:VEVENT
BEGIN:VEVENT
DTSTART;VALUE=DATE:20230402
DTEND;VALUE=DATE:20230409
DTSTAMP:20260425T192107
CREATED:20230404T080618Z
LAST-MODIFIED:20230404T080618Z
UID:13246-1680393600-1680998399@uvdal.no
SUMMARY:Påsken på Torsetlia (påskeeggjakt\, påskeskirenn\, påskebuffet\, fjellcafé)
DESCRIPTION:Dette skjer på Torsetlia i påsken:\n\n2.4 – 8.4: – PÅSKEEGGJAKT: \nFinn våre bortgjemte påskeegg med bokstaver på\, og vær med i trekningen av et stort påskeegg. En vinner trekkes 08.4 kl. 17 på vår Facebookside. Jakten starter i resepsjonen\, er gratis og er åpent for alle. Tvi tvi! \n\n1.4 – 9.4: – ÅPEN FJELLCAFÉ kl. 12-16: \nKom innom før\, under eller etter dagens aktivitet og unn deg noe godt fra vår fjellcafé. Har du prøvd våre berømte hjemmebakte kanelboller? Vi baker boller hver dag. \n\n8.4 (Påskeaften) – PÅSKESKIRENN kl. 14.30 \nSnøaktiviteter med ski på beina for hele familien. Premie til alle deltagere og premieutdelingen er så raskt som mulig etter arrangementslutt i peisestua. Påmelding i resepsjon\, per e-post eller via telefon. Oppmøtested er i bakken ovenfor Torsetlia. Arrangementet er gratis. \n\n8.4 (Påskeaften) – PÅSKEBUFFET kl. 19 \nBuffeten inneholder flere typer varmmat\, koldtbord med fiske- og kjøttretter\, tilbehør og desserter. Påmelding til post@torsetlia.no. Påmeldingsfrist 7.4 kl. 16. Voksen (fra 13 år): 575\,- Ungdom (10-12 år): 300\,- Barn (5-9 år): 150\,- 0-4 år gratis. \n\n\nFår du uventet besøk på hytta? Vi kan ha ledig boalternativer! \nSe www.torsetlia.no for mer info\, priser og bookingside. Telefon: 32 74 36 81 eller per e-post: post@torsetlia.no.\n\n\nVelkommen innom
URL:https://uvdal.no/arrangement/pasken-pa-torsetlia-paskeeggjakt-paskeskirenn-paskebuffet-fjellcafe/
LOCATION:Torsetlia Fjellstue
ATTACH;FMTTYPE=image/jpeg:https://uvdal.no/wp-content/uploads/2023/04/Pasken-2023.jpg
ORGANIZER;CN="Torsetlia Fjellstue og Hyttegrend":MAILTO:post@torsetlia.no
END:VEVENT
BEGIN:VEVENT
DTSTART;TZID=Europe/Oslo:20230403T110000
DTEND;TZID=Europe/Oslo:20230405T160000
DTSTAMP:20260425T192107
CREATED:20230127T083244Z
LAST-MODIFIED:20230404T082554Z
UID:5395-1680519600-1680710400@uvdal.no
SUMMARY:Påskeåpent i Uvdal stavkirke
DESCRIPTION:Påsken 2023 \nI samarbeid med Fortidsminneforeningen holder vi skolestua og Uvdal stavkirke åpent\nMandag 3.4 \, tirsdag 4.4 og onsdag 5.4. i påsken har vi åpent fra 11.00 – 16.00\n\nStavkirken er åpen for omvisning. Selve bygdetunet er ikke åpent grunnet mye snø\, men skolestua er åpen.\nKafeen er åpen med salg av kaffe\, kling og varm sjokolade.\n\nVelkommen!
URL:https://uvdal.no/arrangement/paskeapent-pa-bygdetunet/
LOCATION:Nore og Uvdal Bygdetun\, Fv122\, Nore og Uvdal\, 3632\, Norge
ATTACH;FMTTYPE=image/jpeg:https://uvdal.no/wp-content/uploads/2023/01/Kafe-i-pasken.jpg
END:VEVENT
BEGIN:VEVENT
DTSTART;TZID=Europe/Oslo:20230405T100000
DTEND;TZID=Europe/Oslo:20230405T190000
DTSTAMP:20260425T192107
CREATED:20230404T084550Z
LAST-MODIFIED:20230405T074922Z
UID:13275-1680688800-1680721200@uvdal.no
SUMMARY:Påskerebus for barna
DESCRIPTION:Påskerebusen foregår hele dagen onsdag 5. april kl. 10-19\, og går ut på at barna skal oppsøke deres butikker/bedrifter og finne en bokstav hos hver. \nBokstavene settes sammen til et løsningsord og svaret leveres hos Rødberg bøker og gaver innen klokka 19. \nFølgende butikker må du innom: \n\nSport 1 Rødberg/ her må du begynne\nD Unike Norge\nKirkebygda Produkter\nNye Risans/ vår baker og konditor\nLykkebua klær og smykker\nMalia\nElon\nDitt Apotek\nRødberg bøker og gaver/ her avslutter du og for premie\n\n  \nAlle som har riktig svar får en premie hos Rødberg bøker og gaver/ Yes vi leker. \n 
URL:https://uvdal.no/arrangement/paskequiz-i-sentrum/
LOCATION:Rødberg sentrum
END:VEVENT
BEGIN:VEVENT
DTSTART;TZID=Europe/Oslo:20230405T130000
DTEND;TZID=Europe/Oslo:20230405T130000
DTSTAMP:20260425T192107
CREATED:20230323T133011Z
LAST-MODIFIED:20230323T133056Z
UID:13011-1680699600-1680699600@uvdal.no
SUMMARY:Påsketurnering Futsal\, Numedalshallen
DESCRIPTION:Etter en suksessfull turnering i jula\, er det på tide med litt futsal igjen før gresset blir grønt.\n\nVil de halvskadede og aldrende mesterne SK Nore klare å forsvare tittelen?\n\nVelkommen til en spennende\, morsom og hyggelig dag med Futsal. Ønsker du ikke å spille\, håper jeg du kommer som tilskuer og heiagjeng. Vi har kiosk og god stemning.\nMeld på lag og kjemp dere fram til seier! Herrelag\, damelag eller blandet lag. aldersgrense 16 år.\nPremie til vinnerlag\, beste spiller(dame\, herre og junior) og turneringens mål.\nMen viktigst av alt er skryterettigheter helt fram til neste turnering!\nPremieseremoni rett etter turneringen.\nPåmelding: Navn på lag og spillere sendes på mail: jobu@noreuvdal.no\nPåmeldingsavgift på 1200\,- per lag Vippses til 909 55 229\nPåmeldingsfrist mandag 27.mars
URL:https://uvdal.no/arrangement/pasketurnering-futsal-numedalshallen/
LOCATION:Numedalshallen\, Nore\, de\, 3629\, Peru
ATTACH;FMTTYPE=image/jpeg:https://uvdal.no/wp-content/uploads/2023/03/Numedalshallen-pasken.jpg
ORGANIZER;CN="Joakim Buchmann":MAILTO:jobu@noreuvdal.no
END:VEVENT
END:VCALENDAR